BEGIN:VCALENDAR
VERSION:2.0
PRODID:IEEE vTools.Events//EN
CALSCALE:GREGORIAN
BEGIN:VTIMEZONE
TZID:Europe/Zurich
BEGIN:DAYLIGHT
DTSTART:20220327T030000
TZOFFSETFROM:+0100
TZOFFSETTO:+0200
RRULE:FREQ=YEARLY;BYDAY=-1SU;BYMONTH=3
TZNAME:CEST
END:DAYLIGHT
BEGIN:STANDARD
DTSTART:20221030T020000
TZOFFSETFROM:+0200
TZOFFSETTO:+0100
RRULE:FREQ=YEARLY;BYDAY=-1SU;BYMONTH=10
TZNAME:CET
END:STANDARD
END:VTIMEZONE
BEGIN:VEVENT
DTSTAMP:20220609T092437Z
UID:3886EAC2-CA7E-42B7-BC5C-A623D18D62DE
DTSTART;TZID=Europe/Zurich:20220608T103000
DTEND;TZID=Europe/Zurich:20220608T121500
DESCRIPTION:Dear Members\,\n\nWe hope all of you are doing well\,\n\nYour S
 wiss Solid State Circuit Society chapter is please to host Prof. Dan Fleet
 wood\,\,\n\nOn Wednesday the 8 th of June.\n\nThe topic of the lecture is 
 : &quot; 75 th Anniversary of the Transistor\, Moore’s Law\, and Radiation Ef
 fects on Microelectronics &quot;\n\nThe lecture will be Held at EPFL Neuchatel 
 Campus in room MC B1 303\n\nThe Agenda is as follow:\n\n10:30 - 10:40Welco
 me participants\n\n10:40 - 12:00 Lecture\n\n12:00 - 12:15 Questions / Disc
 ussion\n\nWe look forward meeting you and having fruitful discussion.\n\nK
 ind regards\,\n\nProf. Christian Enz and Mathieu Coustans\n\nFor your IEEE
  Switzerland Solid State Circuit Society committee.\n\nSpeaker(s): Dan Fle
 etwood\,\, \n\nRoom: MC B1 303 \, Bldg: Microcity\, EPFL Neuchatel Campus\
 , Neuchatel\, Switzerland\, Switzerland
LOCATION:Room: MC B1 303 \, Bldg: Microcity\, EPFL Neuchatel Campus\, Neuch
 atel\, Switzerland\, Switzerland
ORGANIZER:mathieu.coustans@gmail.com
SEQUENCE:3
SUMMARY:IEEE SWISS SSC Lecture :Seventy Fifth Anniversary of the Transistor
 \, Moore’s Law\, and Radiation Effects on Microelectronics
URL;VALUE=URI:https://events.vtools.ieee.org/m/315819
X-ALT-DESC:Description: &lt;br /&gt;&lt;p&gt;Dear Members\,&lt;/p&gt;\n&lt;p&gt;We hope all of you 
 are doing well\,&lt;/p&gt;\n&lt;p&gt;Your Swiss Solid State Circuit Society chapter is
  please to host Prof. Dan Fleetwood\,\,&lt;/p&gt;\n&lt;p&gt;On Wednesday the 8 th of J
 une.&lt;/p&gt;\n&lt;p&gt;The topic of the lecture is : &quot; 75 th Anniversary of the Tran
 sistor\, Moore&amp;rsquo\;s Law\, and Radiation Effects on Microelectronics &quot;&lt;
 /p&gt;\n&lt;p&gt;The lecture will be Held at EPFL Neuchatel Campus in room MC B1&amp;nb
 sp\;303&amp;nbsp\;&lt;/p&gt;\n&lt;p&gt;The Agenda is as follow:&lt;/p&gt;\n&lt;p&gt;10:30 - 10:40Welco
 me participants&lt;/p&gt;\n&lt;p&gt;10:40 - 12:00 Lecture&lt;/p&gt;\n&lt;p&gt;12:00 - 12:15 Questi
 ons / Discussion&lt;/p&gt;\n&lt;p&gt;We look forward meeting you and having fruitful d
 iscussion.&lt;/p&gt;\n&lt;p&gt;Kind regards\,&lt;/p&gt;\n&lt;p&gt;Prof. Christian Enz and&amp;nbsp\; M
 athieu Coustans&lt;/p&gt;\n&lt;p&gt;For your IEEE Switzerland Solid State Circuit Soci
 ety committee.&lt;/p&gt;
END:VEVENT
END:VCALENDAR

