BEGIN:VCALENDAR
VERSION:2.0
PRODID:IEEE vTools.Events//EN
CALSCALE:GREGORIAN
BEGIN:VTIMEZONE
TZID:America/New_York
BEGIN:DAYLIGHT
DTSTART:20220313T030000
TZOFFSETFROM:-0500
TZOFFSETTO:-0400
RRULE:FREQ=YEARLY;BYDAY=2SU;BYMONTH=3
TZNAME:EDT
END:DAYLIGHT
BEGIN:STANDARD
DTSTART:20221106T010000
TZOFFSETFROM:-0400
TZOFFSETTO:-0500
RRULE:FREQ=YEARLY;BYDAY=1SU;BYMONTH=11
TZNAME:EST
END:STANDARD
END:VTIMEZONE
BEGIN:VEVENT
DTSTAMP:20220619T151958Z
UID:ED82FEF4-377D-4AE2-B69A-32A0BF179F92
DTSTART;TZID=America/New_York:20220615T120000
DTEND;TZID=America/New_York:20220615T130000
DESCRIPTION:Fundamentals of linear and switched-mode power supply design in
 cluding the topics of Power Conversion Mechanisms\, Switching Cells and Co
 ntrol Schemes\, The Buck\, The Boost\, The Buck-Boost\, Introduction to Co
 ntrol Loop Design\, EMI Filter Interaction and an Introduction to Simulati
 on will be presented.\n\nSpeaker(s): Chris Basso\, \n\nVirtual: https://ev
 ents.vtools.ieee.org/m/315919
LOCATION:Virtual: https://events.vtools.ieee.org/m/315919
ORGANIZER:sqali@ieee.org
SEQUENCE:5
SUMMARY:Control Loop Analysis and Design for Switching Power Supplies
URL;VALUE=URI:https://events.vtools.ieee.org/m/315919
X-ALT-DESC:Description: &lt;br /&gt;&lt;p&gt;Fundamentals of linear and switched-mode p
 ower supply design including the topics of Power Conversion Mechanisms\, S
 witching Cells and Control Schemes\, The Buck\, The Boost\, The Buck-Boost
 \, Introduction to Control Loop Design\, EMI Filter Interaction and an Int
 roduction to Simulation will be presented.&lt;/p&gt;
END:VEVENT
END:VCALENDAR

