BEGIN:VCALENDAR
VERSION:2.0
PRODID:IEEE vTools.Events//EN
CALSCALE:GREGORIAN
BEGIN:VTIMEZONE
TZID:Asia/Kuala_Lumpur
BEGIN:DAYLIGHT
DTSTART:20380119T111407
TZOFFSETFROM:+0800
TZOFFSETTO:+0800
RRULE:FREQ=YEARLY;BYDAY=3TU;BYMONTH=1
TZNAME:+08
END:DAYLIGHT
BEGIN:STANDARD
DTSTART:19820101T000000
TZOFFSETFROM:+0730
TZOFFSETTO:+0800
RRULE:FREQ=YEARLY;BYDAY=1FR;BYMONTH=1
TZNAME:+08
END:STANDARD
END:VTIMEZONE
BEGIN:VEVENT
DTSTAMP:20221226T003443Z
UID:E1D32ED6-CEC7-4996-8F26-5B22DB4B9764
DTSTART;TZID=Asia/Kuala_Lumpur:20221219T080000
DTEND;TZID=Asia/Kuala_Lumpur:20221221T170000
DESCRIPTION:2022 IEEE International RF and Microwave Conference (RFM 2022)\
 n\n[http://rfm2022.apmttemc.org](http://rfm2022.apmttemc.org/)\n\nKuala Lu
 mpur\, Malaysia\, December 19 - 21\, 2022 (Physical)\n\nBrought to you by 
 IEEE AP/MTT/EMC Joint Chapter\, Malaysia\n\nThe RFM Conference series is b
 ack. This year\, the 2022 IEEE International RF and Microwave Conference (
 RFM 2022) will be held in Kuala Lumpur\, MALAYSIA\, from DECEMBER 19 to 21
 \, 2022 in a traditional on-site format. Since 2004\, RFM has provided a c
 onsistent platform for researchers in the areas related to RF and Microwav
 e technology to present their research results\, while exchanging views an
 d experiences.\n\nFully sponsored and organized by the IEEE Antennas and P
 ropagation\, Microwave Theory and Technique &amp; Electromagnetic Compatibilit
 y Joint Chapter of Malaysia\, you are invited to submit full papers descri
 bing research results in the areas of interest that include\, but are not 
 limited to the following conference tracks:\n\nA. Active Devices and Circu
 its\nB. Passive Components\nC. Field\, Device and Circuit Technologies\nD.
  Systems and Applications\nE. Antennas and Propagation\nF. Emerging Techno
 logies and Applications\n_______________________________\n\nINFORMATION TO
  AUTHORS\n\nAll papers to be submitted should be in the PDF form and limit
 ed to 4 pages (A4 size\, single space\, Times Roman of font size 10\, two 
 columns format)\, including figures\, tables and references.\nAuthors are 
 recommended to use the template available from the website:http://rfm2022.
 apmttemc.org/\nAuthors must not indicate their names and affiliations in t
 he body of the paper to be submitted\nA double-blind peer review process w
 ill be used to evaluate all papers submitted for consideration.\nSubmissio
 n can only be done online\, at: http://edas.info/N29806\n\n_______________
 _________________\n\nIMPORTANT DATES\n\nFull Paper Submission Deadline: JU
 LY 27\, 2022\nNotification of Acceptance: October 17 - November 9\, 2022\n
 Early Bird Registration Deadline: November 9\, 2022\nFinal Manuscript Subm
 ission Deadline: November 23\, 2022\nNormal Registration Deadline: Novembe
 r 23\, 2022\n\n________________________________\n\nINVITATION TO SERVE AS 
 REVIEWER:\n\nRFM 2022 implements a double blind peer review process. You a
 re invited to join the reviewer team by sending email and updated CV to co
 ntact@apmttemc.org . To become a reviewer\, follow these steps:\n\nRegiste
 r with EDAS at [edas.info](http://edas.info/) OR [www.edas.info](http://ww
 w.edas.info/) if you have not done it previously.\nSend an email together 
 with your updated CV to contact@apmttemc.org\nUpon receiving an email invi
 ting you to become one of the reviewers\, you are required to login to EDA
 S and choose your respective field of interests.\n\n______________________
 __________\n\nFurther information can be obtained from the conference webs
 ite:[http://rfm2022.apmttemc.org](http://rfm2022.apmttemc.org/) \, or by s
 ending email to contact@apmttemc.org Kindly forward this email to other in
 terested parties.\n\nRegards\,\n\nAzremi Abdullah Al-Hadi\nChair\nRFM2022\
 nhttp://rfm2022.apmttemc.org/\n\nIEEE Malaysia AP/MTT/EMC Joint Chapter\n2
 020 IEEE AP-S Outstanding Chapter Award\nhttps://apmttemc.org/\n\nKuala Lu
 mpur\, Kuala Lumpur\, Wilayah Persekutuan\, Malaysia
LOCATION:Kuala Lumpur\, Kuala Lumpur\, Wilayah Persekutuan\, Malaysia
ORGANIZER:azremi@unimap.edu.my
SEQUENCE:3
SUMMARY:2022 IEEE International RF and Microwave Conference (RFM 2022)
URL;VALUE=URI:https://events.vtools.ieee.org/m/316175
X-ALT-DESC:Description: &lt;br /&gt;&lt;p&gt;2022 IEEE International RF and Microwave C
 onference (RFM 2022)&lt;br /&gt;&lt;br /&gt;&lt;a href=&quot;http://rfm2022.apmttemc.org/&quot; tar
 get=&quot;_blank&quot; rel=&quot;noopener&quot; data-saferedirecturl=&quot;https://www.google.com/u
 rl?q=http://rfm2022.apmttemc.org&amp;amp\;source=gmail&amp;amp\;ust=16543096311550
 00&amp;amp\;usg=AOvVaw153jAG1L15zv0eigAhssi5&quot;&gt;http://rfm2022.apmttemc.org&lt;/a&gt;&amp;
 nbsp\;&lt;br /&gt;&lt;br /&gt;Kuala Lumpur\, Malaysia\, December 19 - 21\, 2022 (Physi
 cal)&lt;br /&gt;&lt;br /&gt;Brought to you by IEEE AP/MTT/EMC Joint Chapter\, Malaysia
 &lt;br /&gt;&lt;br /&gt;The RFM Conference series is back. This year\, the 2022 IEEE I
 nternational RF and Microwave Conference (RFM 2022) will be held in Kuala 
 Lumpur\, MALAYSIA\, from DECEMBER 19 to 21\, 2022 in a traditional on-site
  format. Since 2004\, RFM has provided a consistent platform for researche
 rs in the areas related to RF and Microwave technology to present their re
 search results\, while exchanging views and experiences.&lt;br /&gt;&lt;br /&gt;Fully 
 sponsored and organized by the IEEE Antennas and Propagation\, Microwave T
 heory and Technique &amp;amp\; Electromagnetic Compatibility Joint Chapter of 
 Malaysia\, you are invited to submit full papers describing research resul
 ts in the areas of interest that include\, but are not limited to the foll
 owing conference tracks:&lt;br /&gt;&lt;br /&gt;A. Active Devices and Circuits&lt;br /&gt;B.
  Passive Components&lt;br /&gt;C. Field\, Device and Circuit Technologies&lt;br /&gt;D
 . Systems and Applications&lt;br /&gt;E. Antennas and Propagation&lt;br /&gt;F. Emergi
 ng Technologies and Applications&lt;br /&gt;_____________________________&lt;wbr /&gt;
 __&lt;br /&gt;&lt;br /&gt;INFORMATION TO AUTHORS&lt;br /&gt;&lt;br /&gt;All papers to be submitted
  should be in the PDF form and limited to 4 pages (A4 size\, single space\
 , Times Roman of font size 10\, two columns format)\, including figures\, 
 tables and references.&lt;br /&gt;Authors are recommended to use the template av
 ailable from the website:&lt;a href=&quot;http://rfm2022.apmttemc.org/&quot; target=&quot;_b
 lank&quot; rel=&quot;noopener&quot; data-saferedirecturl=&quot;https://www.google.com/url?q=ht
 tp://rfm2022.apmttemc.org/&amp;amp\;source=gmail&amp;amp\;ust=1654309631156000&amp;amp
 \;usg=AOvVaw2VG2bzKoAEqpXAv_T_hfzz&quot;&gt;http://rfm2022.&lt;wbr /&gt;apmttemc.org/&lt;/a
 &gt;&lt;br /&gt;Authors must not indicate their names and affiliations in the body 
 of the paper to be submitted&lt;br /&gt;A double-blind peer review process will 
 be used to evaluate all papers submitted for consideration.&lt;br /&gt;Submissio
 n can only be done online\, at:&amp;nbsp\;&lt;a href=&quot;http://edas.info/N29806&quot; ta
 rget=&quot;_blank&quot; rel=&quot;noopener&quot; data-saferedirecturl=&quot;https://www.google.com/
 url?q=http://edas.info/N29806&amp;amp\;source=gmail&amp;amp\;ust=1654309631156000&amp;
 amp\;usg=AOvVaw0NceVCv24_EntOR9oBppS1&quot;&gt;http://edas.info/N29806&lt;/a&gt;&lt;br /&gt;&lt;b
 r /&gt;______________________________&lt;wbr /&gt;__&lt;br /&gt;&lt;br /&gt;IMPORTANT DATES&lt;br 
 /&gt;&lt;br /&gt;Full Paper Submission Deadline: JULY 27\, 2022&lt;br /&gt;Notification o
 f Acceptance: October 17 - November 9\, 2022&lt;br /&gt;Early Bird Registration 
 Deadline: November 9\, 2022&lt;br /&gt;Final Manuscript Submission Deadline: Nov
 ember 23\, 2022&lt;br /&gt;Normal Registration Deadline: November 23\, 2022&lt;br /
 &gt;&lt;br /&gt;______________________________&lt;wbr /&gt;__&lt;br /&gt;&lt;br /&gt;INVITATION TO SE
 RVE AS REVIEWER:&lt;br /&gt;&lt;br /&gt;RFM 2022 implements a double blind peer review
  process. You are invited to join the reviewer team by sending email and u
 pdated CV to&amp;nbsp\;&lt;a href=&quot;mailto:contact@apmttemc.org&quot; target=&quot;_blank&quot; r
 el=&quot;noopener&quot;&gt;contact@apmttemc.org&lt;/a&gt;&amp;nbsp\;. To become a reviewer\, foll
 ow these steps:&lt;br /&gt;&lt;br /&gt;Register with EDAS at&amp;nbsp\;&lt;a href=&quot;http://eda
 s.info/&quot; target=&quot;_blank&quot; rel=&quot;noopener&quot; data-saferedirecturl=&quot;https://www.
 google.com/url?q=http://edas.info&amp;amp\;source=gmail&amp;amp\;ust=1654309631156
 000&amp;amp\;usg=AOvVaw19SzDYFFGbByQETLig9GA6&quot;&gt;edas.info&lt;/a&gt;&amp;nbsp\;OR&amp;nbsp\;&lt;a
  href=&quot;http://www.edas.info/&quot; target=&quot;_blank&quot; rel=&quot;noopener&quot; data-saferedi
 recturl=&quot;https://www.google.com/url?q=http://www.edas.info&amp;amp\;source=gma
 il&amp;amp\;ust=1654309631156000&amp;amp\;usg=AOvVaw0GNV9y8NtR_PJOhLHi0J6m&quot;&gt;www.ed
 as.info&lt;/a&gt;&amp;nbsp\;if you have not done it previously.&lt;br /&gt;Send an email t
 ogether with your updated CV to&amp;nbsp\;&lt;a href=&quot;mailto:contact@apmttemc.org
 &quot; target=&quot;_blank&quot; rel=&quot;noopener&quot;&gt;contact@apmttemc.org&lt;/a&gt;&lt;br /&gt;Upon receiv
 ing an email inviting you to become one of the reviewers\, you are require
 d to login to EDAS and choose your respective field of interests.&lt;br /&gt;&lt;br
  /&gt;______________________________&lt;wbr /&gt;__&lt;br /&gt;&lt;br /&gt;Further information 
 can be obtained from the conference website:&lt;a href=&quot;http://rfm2022.apmtte
 mc.org/&quot; target=&quot;_blank&quot; rel=&quot;noopener&quot; data-saferedirecturl=&quot;https://www.
 google.com/url?q=http://rfm2022.apmttemc.org&amp;amp\;source=gmail&amp;amp\;ust=16
 54309631156000&amp;amp\;usg=AOvVaw0rWxAHL2PJ-AJ8RdQ4JZ20&quot;&gt;http://rfm2022.&lt;wbr 
 /&gt;apmttemc.org&lt;/a&gt;&amp;nbsp\;\, or by sending email to&amp;nbsp\;&lt;a href=&quot;mailto:c
 ontact@apmttemc.org&quot; target=&quot;_blank&quot; rel=&quot;noopener&quot;&gt;contact@apmttemc.org&lt;/
 a&gt;&amp;nbsp\;Kindly forward this email to other interested parties.&lt;br /&gt;&lt;br /
 &gt;Regards\,&lt;br /&gt;&lt;br /&gt;Azremi Abdullah Al-Hadi&lt;br /&gt;Chair&lt;br /&gt;RFM2022&lt;/p&gt;\
 n&lt;div&gt;&lt;a href=&quot;http://rfm2022.apmttemc.org/&quot; target=&quot;_blank&quot; rel=&quot;noopener
 &quot; data-saferedirecturl=&quot;https://www.google.com/url?q=http://rfm2022.apmtte
 mc.org/&amp;amp\;source=gmail&amp;amp\;ust=1654309631156000&amp;amp\;usg=AOvVaw2VG2bzK
 oAEqpXAv_T_hfzz&quot;&gt;http://rfm2022.apmttemc.org/&lt;/a&gt;&amp;nbsp\; &amp;nbsp\;&lt;/div&gt;\n&lt;d
 iv&gt;\n&lt;div&gt;IEEE Malaysia AP/MTT/EMC Joint Chapter&lt;br /&gt;2020 IEEE AP-S Outst
 anding Chapter Award&lt;br /&gt;&lt;a href=&quot;https://apmttemc.org/&quot; target=&quot;_blank&quot; 
 rel=&quot;noopener&quot; data-saferedirecturl=&quot;https://www.google.com/url?q=https://
 apmttemc.org/&amp;amp\;source=gmail&amp;amp\;ust=1654309631156000&amp;amp\;usg=AOvVaw1
 AUoTpy4f07pyNOnQv5Z6u&quot;&gt;https://apmttemc.org/&lt;/a&gt;&lt;/div&gt;\n&lt;/div&gt;
END:VEVENT
END:VCALENDAR

