BEGIN:VCALENDAR
VERSION:2.0
PRODID:IEEE vTools.Events//EN
CALSCALE:GREGORIAN
BEGIN:VTIMEZONE
TZID:America/Los_Angeles
BEGIN:DAYLIGHT
DTSTART:20220313T030000
TZOFFSETFROM:-0800
TZOFFSETTO:-0700
RRULE:FREQ=YEARLY;BYDAY=2SU;BYMONTH=3
TZNAME:PDT
END:DAYLIGHT
BEGIN:STANDARD
DTSTART:20221106T010000
TZOFFSETFROM:-0700
TZOFFSETTO:-0800
RRULE:FREQ=YEARLY;BYDAY=1SU;BYMONTH=11
TZNAME:PST
END:STANDARD
END:VTIMEZONE
BEGIN:VEVENT
DTSTAMP:20230202T144733Z
UID:B63702C4-0A06-4F4C-93B4-0A052AFD82DE
DTSTART;TZID=America/Los_Angeles:20220616T120000
DTEND;TZID=America/Los_Angeles:20220616T130000
DESCRIPTION:IEEE VTS Chicago is co-sponsoring this event with IEEE VTS Sili
 con Valley chapter so note the time is in Pacific Time\, which means 2 - 3
  PM Central time. The topic is on Autonomous Vehicles and Software Safety 
 Engineering. Please register on Zoom at https://us02web.zoom.us/webinar/re
 gister/WN_tXjeLpS-RKOQMHjNIGklfQ.\n\nSpeaker(s): Philip Koopman\, \n\nVirt
 ual: https://events.vtools.ieee.org/m/316273
LOCATION:Virtual: https://events.vtools.ieee.org/m/316273
ORGANIZER:alvin.chin@ieee.org
SEQUENCE:4
SUMMARY:IEEE VTS Chicago and Silicon Valley: Autonomous Vehicles and Softwa
 re Safety Engineering
URL;VALUE=URI:https://events.vtools.ieee.org/m/316273
X-ALT-DESC:Description: &lt;br /&gt;&lt;p&gt;IEEE VTS Chicago is co-sponsoring this eve
 nt with IEEE VTS Silicon Valley chapter so note the time is in Pacific Tim
 e\, which means 2 - 3 PM Central time.&amp;nbsp\; The topic is on Autonomous V
 ehicles and Software Safety Engineering.&amp;nbsp\; Please register on Zoom at
  https://us02web.zoom.us/webinar/register/WN_tXjeLpS-RKOQMHjNIGklfQ.&amp;nbsp\
 ;&amp;nbsp\;&lt;/p&gt;
END:VEVENT
END:VCALENDAR

