BEGIN:VCALENDAR
VERSION:2.0
PRODID:IEEE vTools.Events//EN
CALSCALE:GREGORIAN
BEGIN:VTIMEZONE
TZID:America/New_York
BEGIN:DAYLIGHT
DTSTART:20220313T030000
TZOFFSETFROM:-0500
TZOFFSETTO:-0400
RRULE:FREQ=YEARLY;BYDAY=2SU;BYMONTH=3
TZNAME:EDT
END:DAYLIGHT
BEGIN:STANDARD
DTSTART:20221106T010000
TZOFFSETFROM:-0400
TZOFFSETTO:-0500
RRULE:FREQ=YEARLY;BYDAY=1SU;BYMONTH=11
TZNAME:EST
END:STANDARD
END:VTIMEZONE
BEGIN:VEVENT
DTSTAMP:20221105T150104Z
UID:940FC118-9167-49C6-AF6B-407225753AA4
DTSTART;TZID=America/New_York:20221102T140000
DTEND;TZID=America/New_York:20221102T150000
DESCRIPTION:IEEE-USA Free Elevate Your Impact Webinar\n\n- Livestream - Joi
 n us here: https://bit.ly/webinar-11-2-22-yt\n\nLeverage your &#39;zone of gen
 ius&#39; to unlock your potential\, show up authentically\, and live your best
  career/life. Discover how to align your core authentic self with your pro
 fessional and personal path. Join Coach Erin as she shares an outline to h
 elp you shift from feeling frustrated to living free and fulfilled. If you
  feel a disconnect between what you DO and who you ARE – this webinar is
  for you. Create a professional path that aligns with your values\, gifts\
 , strengths\, and expertise to thrive!\n\nView Here:\n\nSpeaker(s): Erin U
 rban\, UPPSolutions\, LLC\, \n\nAgenda: \nElevate Your Impact (Webinar Ser
 ies): More Influence\, Less Stress\nEffectively Manage Change in the “Ne
 ver Normal”\n\nTHE WHAT: Join certified Executive Leadership Coach\, Eri
 n Urban\, in an engaging webinar series that provides you with the critica
 l tools to reduce stress\, empower your teams\, collaborate more easily\, 
 and access peak performance. Chances are\, “doing what we’ve always do
 ne” is not enough for the workplace now and into the future. Adapting yo
 ur approach is critical during strong change cycles and in uncertain envir
 onments. Discover how to elevate your impact in the constantly evolving wo
 rkplace by leveraging easily applicable strategies to mindfully manage cha
 nge to thrive.\n\nTHE WHY: We are on the brink of authoring a new age acce
 lerated by the socio-economic impacts of the pandemic and the adoption of 
 new technologies. This is an exciting time\, yet many are finding that the
  level of continued uncertainty is a significant source of stress. It is l
 ikely that you and your company are doing everything possible to manage ch
 ange successfully\, yet\, no one can pour from an empty cup. Doing what ha
 s always been done won&#39;t get you the desired results you want because we a
 re living in unprecedented times.\n\nNew tools and methods are needed now\
 , more than ever\, to effectively absorb and navigate the “never normal
 ”. It is up to you to create a brilliant future. However\, with so much 
 disruption happening simultaneously\, simply pushing through can cause mor
 e harm than good. Different strategies are necessary in order to show up 1
 00% during uncertain and challenging times while elevating your impact wit
 hout adding additional stress.\n\nWebinar Series Events:\n\n- [Elevate You
 r Impact](https://bit.ly/webinar-9-28-22-yt)(Recording Available)\nKey str
 ategies leaders can leverage to stand out\, speak up\, and move up in the 
 “never normal”. A mindset shift is necessary from the personal level t
 o the professional level to elevate impact during uncertain times. How we 
 interact\, what we expect from others\, how we communicate\, and how we in
 fluence others are rapidly evolving. In this lively discussion\, we will d
 iscuss what is different\, why it matters\, and how you can successfully n
 avigate constant change to boost your influence.\n\n- Presented 28 Septemb
 er 2022\n- [View Recording](https://bit.ly/webinar-9-28-22-yt)\n\n- [Leade
 rship Wellbeing](https://youtu.be/m2XfZO8WZQE) (Recording Available)\nYou 
 cannot pour from an empty cup. Wellbeing is a requirement to thrive in the
  &quot;never normal&quot; of constant change. Most high-performers know that wellbei
 ng is important\, yet it never quite seems to stick. As a result\, those t
 hat like to push themselves tend to burnout faster than ever. Your speaker
 \, certified Executive Coach Erin Urban\, will remove the myths that surro
 und wellbeing and self-care (it doesn&#39;t take hours to do!) so you can thri
 ve! We will take a dive into why wellbeing gets easily sidelined and what 
 straightforward self-care strategies work best for busy professionals.\n\n
 - Presented 19 October 2022\n- [View Recording](https://youtu.be/m2XfZO8WZ
 QE)\n\n- [Step Into Your Zone &amp; Thrive!](https://events.vtools.ieee.org/ev
 ent/register/316469)\nLeverage your &#39;zone of genius&#39; to unlock your potent
 ial\, show up authentically\, and live your best career/life. Discover how
  to align your core authentic self with your professional and personal pat
 h. Join Coach Erin as she shares an outline to help you shift from feeling
  frustrated to living free and fulfilled. If you feel a disconnect between
  what you DO and who you ARE – this webinar is for you. Create a profess
 ional path that aligns with your values\, gifts\, strengths\, and expertis
 e to thrive!\n\n- When: Wednesday\, 2 November 2022 - 2 PM ET\n- [View Her
 e](https://bit.ly/webinar-11-2-22-yt)\n\n---------------------------------
 ------------------------------\n\nIEEE-USA&#39;s free webinars/events are desi
 gned to help you find your next job\, maintain your career\, negotiate an 
 appropriate salary\, understand ethical considerations in the workplace an
 d learn about other career-building strategies and public policy developme
 nts that affect your profession.\n\nVirtual: https://events.vtools.ieee.or
 g/m/316469
LOCATION:Virtual: https://events.vtools.ieee.org/m/316469
ORGANIZER:d.iams@ieee.org
SEQUENCE:15
SUMMARY:Step Into Your Zone &amp; Thrive!
URL;VALUE=URI:https://events.vtools.ieee.org/m/316469
X-ALT-DESC:Description: &lt;br /&gt;&lt;p&gt;&lt;span style=&quot;color: #236fa1\;&quot;&gt;&lt;strong&gt;&lt;sp
 an style=&quot;font-size: 14pt\; font-family: verdana\, geneva\, sans-serif\;&quot;&gt;
 IEEE-USA Free Elevate Your Impact Webinar&lt;/span&gt;&lt;/strong&gt;&lt;/span&gt;&lt;/p&gt;\n&lt;ul&gt;
 \n&lt;li&gt;&lt;span style=&quot;font-size: 14pt\; font-family: verdana\, geneva\, sans-
 serif\;&quot;&gt;Livestream - Join us here: &lt;strong&gt;&lt;a href=&quot;https://bit.ly/webina
 r-11-2-22-yt&quot;&gt;https://bit.ly/webinar-11-2-22-yt&lt;/a&gt;&lt;/strong&gt;&lt;/span&gt;&lt;/li&gt;\n
 &lt;/ul&gt;\n&lt;p&gt;&lt;span style=&quot;font-size: 14pt\; font-family: verdana\, geneva\, s
 ans-serif\;&quot;&gt;Leverage your &#39;zone of genius&#39; to unlock your potential\, sho
 w up authentically\, and live your best career/life. Discover how to align
  your core authentic self with your professional and personal path. Join C
 oach Erin as she shares an outline to help you shift from feeling frustrat
 ed to living free and fulfilled. If you feel a disconnect between what you
  DO and who you ARE &amp;ndash\; this webinar is for you. Create a professiona
 l path that aligns with your values\, gifts\, strengths\, and expertise to
  thrive!&lt;/span&gt;&lt;/p&gt;\n&lt;p&gt;&lt;span style=&quot;font-size: 14pt\; font-family: verdan
 a\, geneva\, sans-serif\;&quot;&gt;&lt;br /&gt;&lt;strong&gt;&lt;span style=&quot;color: #236fa1\;&quot;&gt;Vi
 ew Here:&lt;/span&gt;&lt;/strong&gt;&amp;nbsp\;&lt;/span&gt;&lt;/p&gt;\n&lt;table border=&quot;1&quot; width=&quot;560&quot;&gt;
 \n&lt;tbody&gt;\n&lt;tr&gt;\n&lt;td&gt;&lt;iframe title=&quot;YouTube video player&quot; src=&quot;https://www
 .youtube.com/embed/hIYk9v4lfjE&quot; width=&quot;560&quot; height=&quot;315&quot; frameborder=&quot;0&quot; a
 llowfullscreen=&quot;&quot;&gt;&lt;/iframe&gt;&lt;/td&gt;\n&lt;/tr&gt;\n&lt;/tbody&gt;\n&lt;/table&gt;&lt;br /&gt;&lt;br /&gt;Age
 nda: &lt;br /&gt;&lt;p&gt;&lt;span style=&quot;font-family: verdana\, geneva\, sans-serif\; fo
 nt-size: 14pt\; color: #236fa1\;&quot;&gt;&lt;strong&gt;Elevate Your Impact (Webinar Ser
 ies): More Influence\, Less Stress&lt;/strong&gt;&lt;/span&gt;&lt;br /&gt;&lt;span style=&quot;font-
 family: verdana\, geneva\, sans-serif\;&quot;&gt;Effectively Manage Change in the 
 &amp;ldquo\;Never Normal&amp;rdquo\;&lt;br /&gt;&lt;br /&gt;&lt;/span&gt;&lt;/p&gt;\n&lt;p&gt;&lt;span style=&quot;font-
 family: verdana\, geneva\, sans-serif\;&quot;&gt;&lt;strong&gt;THE WHAT:&lt;/strong&gt; Join c
 ertified Executive Leadership Coach\, Erin Urban\, in an engaging webinar 
 series that provides you with the critical tools to reduce stress\, empowe
 r your teams\, collaborate more easily\, and access peak performance. Chan
 ces are\, &amp;ldquo\;doing what we&amp;rsquo\;ve always done&amp;rdquo\; is not enoug
 h for the workplace now and into the future. Adapting your approach is cri
 tical during strong change cycles and in uncertain environments. Discover 
 how to elevate your impact in the constantly evolving workplace by leverag
 ing easily applicable strategies to mindfully manage change to thrive.&lt;/sp
 an&gt;&lt;/p&gt;\n&lt;p&gt;&lt;span style=&quot;font-family: verdana\, geneva\, sans-serif\;&quot;&gt;&lt;st
 rong&gt;THE WHY:&lt;/strong&gt; We are on the brink of authoring a new age accelera
 ted by the socio-economic impacts of the pandemic and the adoption of new 
 technologies. This is an exciting time\, yet many are finding that the lev
 el of continued uncertainty is a significant source of stress. It is likel
 y that you and your company are doing everything possible to manage change
  successfully\, yet\, no one can pour from an empty cup. Doing what has al
 ways been done won&#39;t get you the desired results you want because we are l
 iving in unprecedented times.&amp;nbsp\;&lt;/span&gt;&lt;/p&gt;\n&lt;p&gt;&lt;span style=&quot;font-fami
 ly: verdana\, geneva\, sans-serif\;&quot;&gt;New tools and methods are needed now\
 , more than ever\, to effectively absorb and navigate the &amp;ldquo\;never no
 rmal&amp;rdquo\;. It is up to you to create a brilliant future. However\, with
  so much disruption happening simultaneously\, simply pushing through can 
 cause more harm than good. Different strategies are necessary in order to 
 show up 100% during uncertain and challenging times while elevating your i
 mpact without adding additional stress.&amp;nbsp\;&lt;/span&gt;&lt;/p&gt;\n&lt;p&gt;&amp;nbsp\;&lt;/p&gt;\
 n&lt;p&gt;&lt;span style=&quot;text-decoration: underline\; font-family: verdana\, genev
 a\, sans-serif\; color: #236fa1\; font-size: 14pt\;&quot;&gt;&lt;strong&gt;Webinar Serie
 s Events:&lt;br /&gt;&lt;br /&gt;&lt;/strong&gt;&lt;/span&gt;&lt;/p&gt;\n&lt;ul&gt;\n&lt;li&gt;&lt;span style=&quot;font-fam
 ily: verdana\, geneva\, sans-serif\;&quot;&gt;&lt;a href=&quot;https://bit.ly/webinar-9-28
 -22-yt&quot;&gt;&lt;strong&gt;Elevate Your Impact &lt;/strong&gt;&lt;/a&gt;(Recording Available)&lt;/sp
 an&gt;&lt;br /&gt;&lt;span style=&quot;font-family: verdana\, geneva\, sans-serif\;&quot;&gt;Key st
 rategies leaders can leverage to stand out\, speak up\, and move up in the
  &amp;ldquo\;never normal&amp;rdquo\;. A mindset shift is necessary from the perso
 nal level to the professional level to elevate impact during uncertain tim
 es. How we interact\, what we expect from others\, how we communicate\, an
 d how we influence others are rapidly evolving. In this lively discussion\
 , we will discuss what is different\, why it matters\, and how you can suc
 cessfully navigate constant change to boost your influence.&lt;br /&gt;&lt;br /&gt;&lt;/s
 pan&gt;&lt;/li&gt;\n&lt;ul&gt;\n&lt;li&gt;&lt;span style=&quot;font-family: verdana\, geneva\, sans-ser
 if\;&quot;&gt;Presented 28 September 2022&lt;/span&gt;&lt;/li&gt;\n&lt;li&gt;&lt;strong&gt;&lt;a href=&quot;https:
 //bit.ly/webinar-9-28-22-yt&quot;&gt;View Recording&lt;/a&gt;&lt;/strong&gt;&lt;br /&gt;&lt;br /&gt;&lt;/li&gt;\
 n&lt;/ul&gt;\n&lt;li&gt;&lt;span style=&quot;font-family: verdana\, geneva\, sans-serif\;&quot;&gt;&lt;st
 rong&gt;&lt;a href=&quot;https://youtu.be/m2XfZO8WZQE&quot;&gt;Leadership Wellbeing&lt;/a&gt; &lt;/str
 ong&gt;(Recording Available)&lt;/span&gt;&lt;br /&gt;&lt;span style=&quot;font-family: verdana\, 
 geneva\, sans-serif\;&quot;&gt;You cannot pour from an empty cup. Wellbeing is a r
 equirement to thrive in the &quot;never normal&quot; of constant change. Most high-p
 erformers know that wellbeing is important\, yet it never quite seems to s
 tick. As a result\, those that like to push themselves tend to burnout fas
 ter than ever. Your speaker\, certified Executive Coach Erin Urban\, will 
 remove the myths that surround wellbeing and self-care (it doesn&#39;t take ho
 urs to do!) so you can thrive! We will take a dive into why wellbeing gets
  easily sidelined and what straightforward self-care strategies work best 
 for busy professionals.&lt;br /&gt;&lt;br /&gt;&lt;/span&gt;&lt;/li&gt;\n&lt;ul&gt;\n&lt;li&gt;&lt;span style=&quot;fo
 nt-family: verdana\, geneva\, sans-serif\;&quot;&gt;Presented 19 October 2022&lt;/spa
 n&gt;&lt;/li&gt;\n&lt;li&gt;&lt;strong&gt;&lt;a href=&quot;https://youtu.be/m2XfZO8WZQE&quot;&gt;View Recording
 &lt;/a&gt;&lt;br /&gt;&lt;br /&gt;&lt;/strong&gt;&lt;/li&gt;\n&lt;/ul&gt;\n&lt;li&gt;&lt;a href=&quot;https://events.vtools.
 ieee.org/event/register/316469&quot;&gt;&lt;span style=&quot;font-family: verdana\, geneva
 \, sans-serif\;&quot;&gt;&lt;strong&gt;Step Into Your Zone &amp;amp\; Thrive!&lt;/strong&gt;&lt;/span
 &gt;&lt;/a&gt;&lt;br /&gt;&lt;span style=&quot;font-family: verdana\, geneva\, sans-serif\;&quot;&gt;Leve
 rage your &#39;zone of genius&#39; to unlock your potential\, show up authenticall
 y\, and live your best career/life. Discover how to align your core authen
 tic self with your professional and personal path. Join Coach Erin as she 
 shares an outline to help you shift from feeling frustrated to living free
  and fulfilled. If you feel a disconnect between what you DO and who you A
 RE &amp;ndash\; this webinar is for you. Create a professional path that align
 s with your values\, gifts\, strengths\, and expertise to thrive!&lt;/span&gt;&lt;/
 li&gt;\n&lt;ul&gt;\n&lt;li&gt;&lt;span style=&quot;font-family: verdana\, geneva\, sans-serif\;&quot;&gt;
 When: Wednesday\, 2 November 2022 - 2 PM ET&lt;/span&gt;&lt;/li&gt;\n&lt;li&gt;&lt;strong&gt;&lt;a hr
 ef=&quot;https://bit.ly/webinar-11-2-22-yt&quot;&gt;&lt;span style=&quot;font-family: verdana\,
  geneva\, sans-serif\;&quot;&gt;View Here&lt;/span&gt;&lt;/a&gt;&lt;br /&gt;&lt;br /&gt;&lt;/strong&gt;&lt;/li&gt;\n&lt;/
 ul&gt;\n&lt;/ul&gt;\n&lt;hr /&gt;\n&lt;p&gt;&lt;span style=&quot;color: #000000\;&quot;&gt;IEEE-USA&#39;s free webi
 nars/events are designed to help you find your next job\, maintain your ca
 reer\, negotiate an appropriate salary\, understand ethical considerations
  in the workplace and learn about other career-building strategies and pub
 lic policy developments that affect your profession.&lt;/span&gt;&lt;/p&gt;
END:VEVENT
END:VCALENDAR

