BEGIN:VCALENDAR
VERSION:2.0
PRODID:IEEE vTools.Events//EN
CALSCALE:GREGORIAN
BEGIN:VTIMEZONE
TZID:America/New_York
BEGIN:DAYLIGHT
DTSTART:20220313T030000
TZOFFSETFROM:-0500
TZOFFSETTO:-0400
RRULE:FREQ=YEARLY;BYDAY=2SU;BYMONTH=3
TZNAME:EDT
END:DAYLIGHT
BEGIN:STANDARD
DTSTART:20221106T010000
TZOFFSETFROM:-0400
TZOFFSETTO:-0500
RRULE:FREQ=YEARLY;BYDAY=1SU;BYMONTH=11
TZNAME:EST
END:STANDARD
END:VTIMEZONE
BEGIN:VEVENT
DTSTAMP:20220621T104910Z
UID:FEA28D99-A19F-4848-97AA-22A991500E93
DTSTART;TZID=America/New_York:20220616T120000
DTEND;TZID=America/New_York:20220616T130000
DESCRIPTION:High Voltage Direct Current (HVDC) systems have been in operati
 on around the world for decades. HVDC has historically been used for bulk\
 , long distance power transfer\, however with advances in technology and a
 pplication it is now a key tool in transitioning the transmission system t
 o accommodate increasing onshore and offshore renewable resources. This pr
 esentation will focus primarily on various technologies available for offs
 hore projects and pick up the one applied for Sunrise Wind.\n\nSunrise Win
 d is an 880 MW offshore wind farm with the potential capacity to power nea
 rly 600\,000 New York homes. The project is being developed and built by a
  50/50 partnership between Ørsted and Eversource. We are currently planni
 ng for Sunrise Wind to be fully operational in 2025. Sunrise Wind is locat
 ed at least 30 miles east of Montauk Point on Long Island\, NY\, virtually
  unnoticeable to Long Island residents and beachgoers. Sunrise Wind will p
 rovide residents with 100% renewable energy to help New York accomplish a 
 carbon-free energy grid by 2040.\n\nSpeaker(s): Parthiv Shah\, Peter McGar
 ley\n\nVirtual: https://events.vtools.ieee.org/m/316754
LOCATION:Virtual: https://events.vtools.ieee.org/m/316754
ORGANIZER:ayhyusein825@gmail.com
SEQUENCE:2
SUMMARY:Sunrise Wind Offshore Windfarm – New York – Overview of HVDC In
 terconnection
URL;VALUE=URI:https://events.vtools.ieee.org/m/316754
X-ALT-DESC:Description: &lt;br /&gt;&lt;p&gt;High Voltage Direct Current (HVDC) systems
  have been in operation around the world for decades. HVDC has historicall
 y been used for bulk\, long distance power transfer\, however with advance
 s in technology and application it is now a key tool in transitioning the 
 transmission system to accommodate increasing onshore and offshore renewab
 le resources. This presentation will focus primarily on various technologi
 es available for offshore projects and pick up the one applied for Sunrise
  Wind.&lt;/p&gt;\n&lt;p&gt;Sunrise Wind is an 880 MW offshore wind farm with the poten
 tial capacity to power nearly 600\,000 New York homes. The project is bein
 g developed and built by a 50/50 partnership between &amp;Oslash\;rsted and Ev
 ersource. We are currently planning for Sunrise Wind to be fully operation
 al in 2025. Sunrise Wind is located at least 30 miles east of Montauk Poin
 t on Long Island\, NY\, virtually unnoticeable to Long Island residents an
 d beachgoers. Sunrise Wind will provide residents with 100% renewable ener
 gy to help New York accomplish a carbon-free energy grid by 2040.&lt;/p&gt;
END:VEVENT
END:VCALENDAR

