BEGIN:VCALENDAR
VERSION:2.0
PRODID:IEEE vTools.Events//EN
CALSCALE:GREGORIAN
BEGIN:VTIMEZONE
TZID:America/Bogota
BEGIN:DAYLIGHT
DTSTART:20380118T221407
TZOFFSETFROM:-0500
TZOFFSETTO:-0500
RRULE:FREQ=YEARLY;BYDAY=3MO;BYMONTH=1
TZNAME:-05
END:DAYLIGHT
BEGIN:STANDARD
DTSTART:19930206T230000
TZOFFSETFROM:-0400
TZOFFSETTO:-0500
RRULE:FREQ=YEARLY;BYDAY=1SA;BYMONTH=2
TZNAME:-05
END:STANDARD
END:VTIMEZONE
BEGIN:VEVENT
DTSTAMP:20220918T035017Z
UID:C8C4F7FA-E112-4307-B3FC-A62648A013B4
DTSTART;TZID=America/Bogota:20220701T103000
DTEND;TZID=America/Bogota:20220701T120000
DESCRIPTION:Curso de Anatomía y Biomecánica dividido en 8 y 6 clases resp
 ectivamente (ver AGENDA)\, iniciando el 1 de Julio 10:30 (GMT-5) y la últ
 ima clase del curso termina el 30 de Septiembre 12:00 (GMT-5). Este curso 
 estara enfocado en los miembros superiores del cuerpo humano.\n\nCosto: 5.
 00 Miembros IEEE ~ 10.00 no-Miembros\n\nLos pagos deben realizarse Banco G
 eneral\, Cuenta Corriente\, 03-03-01-002461-2 a nombre de IEEE Panama o po
 r Yappy: @ieeepanama.\n\nDescripción: Certificación - Curso A&amp;B EMBS ULa
 tina\n\nEnviar comprobante de pago\, nombre y cédula a: aaguilar1511@gmai
 l.com previo al inicio del curso.\n\nCertificación al finalizar.\n\nTemar
 io\n\nMÓDULO No. 1 : ANATOMÍA DEL MIEMBRO SUPERIOR\n\n- Planos Anatómic
 os.\n- Huesos del miembro superior (hombro\, brazo\, antebrazo y mano).\n-
  Músculos del miembro superior (origen e inserción proximal y distal de 
 los músculos del hombro\, brazo\, antebrazo y mano).\n- Articulaciones de
 l miembro superior (hombro\, codo\, muñeca y dedos).\n- Irrigación princ
 ipal (general) del miembro superior.\n- Inervación principal (neuro - mot
 ora) del miembro superior.\n- Principales patologías / traumatismos que a
 fectan el funcionamiento del miembro superior.\n\nMÓDULO No. 2 : BIOMECÁ
 NICA DEL MIEMBRO SUPERIOR\n\n- Representación vectorial de las fuerzas qu
 e intervienen en el movimiento articular del miembro superior.\n- Tipos de
  articulaciones según su movimiento.\n- Tipos de palancas anatómicas y s
 us características.\n- Análisis del movimiento articular del miembro sup
 erior.\n- Prótesis articulares de hombro\, codo y muñeca.\n- Análisis b
 iomecánico de una prótesis articular de hombro\, codo y muñeca.\n\nSpea
 ker(s): Prof. Naiby Salazar\, Ing. Ernesto Ibarra\n\nAgenda: \n1 de Julio\
 n\nAnatomía: 10:30 - 12:00 (GMT-5)\n\n8 de Julio\n\nAnatomía: 10:30 - 12
 :00 (GMT-5)\n\n15 de Julio\n\nAnatomía: 10:30 - 12:00 (GMT-5)\n\n22 de Ju
 lio\n\nAnatomía: 10:30 - 12:00 (GMT-5)\n\n29 de Julio\n\nAnatomía: 10:30
  - 12:00 (GMT-5)\n\n5 de Agosto\n\nAnatomía: 10:30 - 12:00 (GMT-5)\n\n5 d
 e Agosto\n\nAnatomía: 10:30 - 12:00 (GMT-5)\n\n12 de Agosto\n\nAnatomía:
  10:30 - 12:00 (GMT-5)\n\n19 de Agosto\n\nAnatomía: 10:30 - 12:00 (GMT-5)
 \n\n26 de Agosto\n\nBiomecánica: 10:30 - 12:00 (GMT-5)\n\n2 de Septiembre
 \n\nBiomecánica: 10:30 - 12:00 (GMT-5)\n\n9 de Septiembre\n\nBiomecánica
 : 10:30 - 12:00 (GMT-5)\n\n16 de Septiembre\n\nBiomecánica: 10:30 - 12:00
  (GMT-5)\n\n23 de Septiembre\n\nBiomecánica: 10:30 - 12:00 (GMT-5)\n\n30 
 de Septiembre\n\nBiomecánica: 10:30 - 12:00 (GMT-5)\n\nBldg: Universidad 
 Latina de Panamá\, Ciudad de Panamá\, Panama\, Panama
LOCATION:Bldg: Universidad Latina de Panamá\, Ciudad de Panamá\, Panama\,
  Panama
ORGANIZER:ulat.ieee.embs@gmail.com
SEQUENCE:17
SUMMARY:Curso de Anatomía y Biomecánica: Miembros Superiores
URL;VALUE=URI:https://events.vtools.ieee.org/m/316818
X-ALT-DESC:Description: &lt;br /&gt;&lt;p&gt;Curso de Anatom&amp;iacute\;a y Biomec&amp;aacute\
 ;nica dividido en 8 y 6 clases respectivamente (ver AGENDA)\, iniciando el
  1 de Julio 10:30 (GMT-5) y la &amp;uacute\;ltima clase del curso termina el 3
 0 de Septiembre 12:00 (GMT-5). Este curso estara enfocado en los miembros 
 superiores del cuerpo humano.&lt;/p&gt;\n&lt;p&gt;Costo: 5.00 Miembros IEEE ~ 10.00 no
 -Miembros&lt;/p&gt;\n&lt;p&gt;Los pagos deben realizarse Banco General\, Cuenta Corrie
 nte\, 03-03-01-002461-2 a nombre de IEEE Panama o por Yappy: @ieeepanama.&lt;
 /p&gt;\n&lt;p&gt;Descripci&amp;oacute\;n: Certificaci&amp;oacute\;n - Curso A&amp;amp\;B EMBS U
 Latina&lt;/p&gt;\n&lt;p&gt;Enviar comprobante de pago\, nombre y c&amp;eacute\;dula a: aag
 uilar1511@gmail.com previo al inicio del curso.&lt;/p&gt;\n&lt;p&gt;Certificaci&amp;oacute
 \;n al finalizar.&amp;nbsp\;&lt;/p&gt;\n&lt;p&gt;&lt;span style=&quot;font-size: 14pt\;&quot;&gt;&lt;strong&gt;T
 emario&lt;/strong&gt;&lt;/span&gt;&lt;/p&gt;\n&lt;p&gt;&lt;em&gt;&lt;strong&gt;M&amp;Oacute\;DULO No. 1 : ANATOM&amp;I
 acute\;A DEL MIEMBRO SUPERIOR&amp;nbsp\;&lt;/strong&gt;&lt;/em&gt;&lt;/p&gt;\n&lt;ol&gt;\n&lt;li style=&quot;f
 ont-weight: 400\;&quot; aria-level=&quot;1&quot;&gt;&lt;span style=&quot;font-weight: 400\;&quot;&gt;Planos 
 Anat&amp;oacute\;micos.&lt;/span&gt;&lt;/li&gt;\n&lt;li style=&quot;font-weight: 400\;&quot; aria-level
 =&quot;1&quot;&gt;&lt;span style=&quot;font-weight: 400\;&quot;&gt;Huesos del miembro superior (hombro\
 , brazo\, antebrazo y mano).&amp;nbsp\;&lt;/span&gt;&lt;/li&gt;\n&lt;li style=&quot;font-weight: 4
 00\;&quot; aria-level=&quot;1&quot;&gt;&lt;span style=&quot;font-weight: 400\;&quot;&gt;M&amp;uacute\;sculos del
  miembro superior (origen e inserci&amp;oacute\;n proximal y distal de los m&amp;u
 acute\;sculos del hombro\, brazo\, antebrazo y mano).&amp;nbsp\;&lt;/span&gt;&lt;/li&gt;\n
 &lt;li style=&quot;font-weight: 400\;&quot; aria-level=&quot;1&quot;&gt;&lt;span style=&quot;font-weight: 40
 0\;&quot;&gt;Articulaciones del miembro superior (hombro\, codo\, mu&amp;ntilde\;eca y
  dedos).&amp;nbsp\;&lt;/span&gt;&lt;/li&gt;\n&lt;li style=&quot;font-weight: 400\;&quot; aria-level=&quot;1&quot;
 &gt;&lt;span style=&quot;font-weight: 400\;&quot;&gt;Irrigaci&amp;oacute\;n principal (general) d
 el miembro superior.&amp;nbsp\;&lt;/span&gt;&lt;/li&gt;\n&lt;li style=&quot;font-weight: 400\;&quot; ar
 ia-level=&quot;1&quot;&gt;&lt;span style=&quot;font-weight: 400\;&quot;&gt;Inervaci&amp;oacute\;n principal
  (neuro - motora) del miembro superior.&amp;nbsp\;&lt;/span&gt;&lt;/li&gt;\n&lt;li style=&quot;fon
 t-weight: 400\;&quot; aria-level=&quot;1&quot;&gt;&lt;span style=&quot;font-weight: 400\;&quot;&gt;Principal
 es patolog&amp;iacute\;as / traumatismos que afectan el funcionamiento del mie
 mbro superior.&amp;nbsp\;&lt;/span&gt;&lt;/li&gt;\n&lt;/ol&gt;\n&lt;p&gt;&lt;em&gt;&lt;strong&gt;M&amp;Oacute\;DULO No
 . 2 : BIOMEC&amp;Aacute\;NICA DEL MIEMBRO SUPERIOR&amp;nbsp\;&lt;/strong&gt;&lt;/em&gt;&lt;/p&gt;\n&lt;
 ol&gt;\n&lt;li style=&quot;font-weight: 400\;&quot; aria-level=&quot;1&quot;&gt;&lt;span style=&quot;font-weigh
 t: 400\;&quot;&gt;Representaci&amp;oacute\;n vectorial de las fuerzas que intervienen 
 en el movimiento articular del miembro superior.&amp;nbsp\;&lt;/span&gt;&lt;/li&gt;\n&lt;li s
 tyle=&quot;font-weight: 400\;&quot; aria-level=&quot;1&quot;&gt;&lt;span style=&quot;font-weight: 400\;&quot;&gt;
 Tipos de articulaciones seg&amp;uacute\;n su movimiento.&amp;nbsp\;&lt;/span&gt;&lt;/li&gt;\n&lt;
 li style=&quot;font-weight: 400\;&quot; aria-level=&quot;1&quot;&gt;&lt;span style=&quot;font-weight: 400
 \;&quot;&gt;Tipos de palancas anat&amp;oacute\;micas y sus caracter&amp;iacute\;sticas.&amp;nb
 sp\;&lt;/span&gt;&lt;/li&gt;\n&lt;li style=&quot;font-weight: 400\;&quot; aria-level=&quot;1&quot;&gt;&lt;span styl
 e=&quot;font-weight: 400\;&quot;&gt;An&amp;aacute\;lisis del movimiento articular del miemb
 ro superior.&amp;nbsp\;&lt;/span&gt;&lt;/li&gt;\n&lt;li style=&quot;font-weight: 400\;&quot; aria-level
 =&quot;1&quot;&gt;&lt;span style=&quot;font-weight: 400\;&quot;&gt;Pr&amp;oacute\;tesis articulares de homb
 ro\, codo y mu&amp;ntilde\;eca.&amp;nbsp\;&lt;/span&gt;&lt;/li&gt;\n&lt;li style=&quot;font-weight: 40
 0\;&quot; aria-level=&quot;1&quot;&gt;&lt;span style=&quot;font-weight: 400\;&quot;&gt;An&amp;aacute\;lisis biom
 ec&amp;aacute\;nico de una pr&amp;oacute\;tesis articular de hombro\, codo y mu&amp;nt
 ilde\;eca.&lt;/span&gt;&lt;/li&gt;\n&lt;/ol&gt;&lt;br /&gt;&lt;br /&gt;Agenda: &lt;br /&gt;&lt;p&gt;&lt;strong&gt;1 de Jul
 io&lt;/strong&gt;&lt;/p&gt;\n&lt;p&gt;Anatom&amp;iacute\;a: 10:30 - 12:00 (GMT-5)&lt;/p&gt;\n&lt;p&gt;&lt;stron
 g&gt;8 de Julio&lt;/strong&gt;&lt;/p&gt;\n&lt;p&gt;Anatom&amp;iacute\;a: 10:30 - 12:00 (GMT-5)&lt;/p&gt;\
 n&lt;p&gt;&lt;strong&gt;15 de Julio&lt;/strong&gt;&lt;/p&gt;\n&lt;p&gt;Anatom&amp;iacute\;a: 10:30 - 12:00 (
 GMT-5)&lt;/p&gt;\n&lt;p&gt;&lt;strong&gt;22 de Julio&lt;/strong&gt;&lt;/p&gt;\n&lt;p&gt;Anatom&amp;iacute\;a: 10:3
 0 - 12:00 (GMT-5)&lt;/p&gt;\n&lt;p&gt;&lt;strong&gt;29 de Julio&lt;/strong&gt;&lt;/p&gt;\n&lt;p&gt;Anatom&amp;iacu
 te\;a: 10:30 - 12:00 (GMT-5)&lt;/p&gt;\n&lt;p&gt;&lt;strong&gt;5 de Agosto&lt;/strong&gt;&lt;/p&gt;\n&lt;p&gt;
 Anatom&amp;iacute\;a: 10:30 - 12:00 (GMT-5)&lt;/p&gt;\n&lt;p&gt;&lt;strong&gt;5 de Agosto&lt;/stron
 g&gt;&lt;/p&gt;\n&lt;p&gt;Anatom&amp;iacute\;a: 10:30 - 12:00 (GMT-5)&lt;/p&gt;\n&lt;p&gt;&lt;strong&gt;12 de A
 gosto&lt;/strong&gt;&lt;/p&gt;\n&lt;p&gt;Anatom&amp;iacute\;a: 10:30 - 12:00 (GMT-5)&lt;/p&gt;\n&lt;p&gt;&lt;st
 rong&gt;19 de Agosto&lt;/strong&gt;&lt;/p&gt;\n&lt;p&gt;Anatom&amp;iacute\;a: 10:30 - 12:00 (GMT-5)
 &lt;/p&gt;\n&lt;p&gt;&lt;strong&gt;26 de Agosto&lt;/strong&gt;&lt;/p&gt;\n&lt;p&gt;Biomec&amp;aacute\;nica: 10:30 
 - 12:00 (GMT-5)&lt;/p&gt;\n&lt;p&gt;&lt;strong&gt;2 de Septiembre&lt;/strong&gt;&lt;/p&gt;\n&lt;p&gt;Biomec&amp;aa
 cute\;nica: 10:30 - 12:00 (GMT-5)&lt;/p&gt;\n&lt;p&gt;&lt;strong&gt;9 de Septiembre&lt;/strong&gt;
 &lt;/p&gt;\n&lt;p&gt;Biomec&amp;aacute\;nica: 10:30 - 12:00 (GMT-5)&lt;/p&gt;\n&lt;p&gt;&lt;strong&gt;16 de 
 Septiembre&lt;/strong&gt;&lt;/p&gt;\n&lt;p&gt;Biomec&amp;aacute\;nica: 10:30 - 12:00 (GMT-5)&lt;/p&gt;
 \n&lt;p&gt;&lt;strong&gt;23 de Septiembre&lt;/strong&gt;&lt;/p&gt;\n&lt;p&gt;Biomec&amp;aacute\;nica: 10:30 
 - 12:00 (GMT-5)&lt;/p&gt;\n&lt;p&gt;&lt;strong&gt;30 de Septiembre&lt;/strong&gt;&lt;/p&gt;\n&lt;p&gt;Biomec&amp;a
 acute\;nica: 10:30 - 12:00 (GMT-5)&lt;/p&gt;
END:VEVENT
END:VCALENDAR

