BEGIN:VCALENDAR
VERSION:2.0
PRODID:IEEE vTools.Events//EN
CALSCALE:GREGORIAN
BEGIN:VTIMEZONE
TZID:America/Bogota
BEGIN:DAYLIGHT
DTSTART:20380118T221407
TZOFFSETFROM:-0500
TZOFFSETTO:-0500
RRULE:FREQ=YEARLY;BYDAY=3MO;BYMONTH=1
TZNAME:-05
END:DAYLIGHT
BEGIN:STANDARD
DTSTART:19930206T230000
TZOFFSETFROM:-0400
TZOFFSETTO:-0500
RRULE:FREQ=YEARLY;BYDAY=1SA;BYMONTH=2
TZNAME:-05
END:STANDARD
END:VTIMEZONE
BEGIN:VEVENT
DTSTAMP:20221008T194722Z
UID:C50910FB-D1B4-47B4-93CC-25D8A42572ED
DTSTART;TZID=America/Bogota:20220624T130000
DTEND;TZID=America/Bogota:20220624T150000
DESCRIPTION:Ceremonia de Inauguración de la Afinidad IEEE WIE Universidad 
 de Panamá.\n\nFecha: Viernes\, 24 de junio de 2022.\n\nLugar: Universidad
  de Panamá\, Biblioteca Simón Bolívar\, Auditorio RIDE.\n\nRoom: Audito
 rio RIDE\, Bldg: Biblioteca Simón Bolívar\, Universidad de Panamá\, Pan
 amá\, Panama\, Panama
LOCATION:Room: Auditorio RIDE\, Bldg: Biblioteca Simón Bolívar\, Universi
 dad de Panamá\, Panamá\, Panama\, Panama
ORGANIZER:g.norse@ieee.org
SEQUENCE:6
SUMMARY:Inauguración IEEE WIE Universidad de Panamá
URL;VALUE=URI:https://events.vtools.ieee.org/m/316882
X-ALT-DESC:Description: &lt;br /&gt;&lt;p&gt;Ceremonia de Inauguraci&amp;oacute\;n de la Af
 inidad IEEE WIE Universidad de Panam&amp;aacute\;.&lt;/p&gt;\n&lt;p&gt;&amp;nbsp\;&lt;/p&gt;\n&lt;p&gt;Fec
 ha: Viernes\, 24 de junio de 2022.&lt;/p&gt;\n&lt;p&gt;Lugar: Universidad de Panam&amp;aac
 ute\;\, Biblioteca Sim&amp;oacute\;n Bol&amp;iacute\;var\, Auditorio RIDE.&lt;/p&gt;\n&lt;p
 &gt;&amp;nbsp\;&lt;/p&gt;
END:VEVENT
END:VCALENDAR

