BEGIN:VCALENDAR
VERSION:2.0
PRODID:IEEE vTools.Events//EN
CALSCALE:GREGORIAN
BEGIN:VTIMEZONE
TZID:America/New_York
BEGIN:DAYLIGHT
DTSTART:20220313T030000
TZOFFSETFROM:-0500
TZOFFSETTO:-0400
RRULE:FREQ=YEARLY;BYDAY=2SU;BYMONTH=3
TZNAME:EDT
END:DAYLIGHT
BEGIN:STANDARD
DTSTART:20221106T010000
TZOFFSETFROM:-0400
TZOFFSETTO:-0500
RRULE:FREQ=YEARLY;BYDAY=1SU;BYMONTH=11
TZNAME:EST
END:STANDARD
END:VTIMEZONE
BEGIN:VEVENT
DTSTAMP:20220620T135455Z
UID:90CEA7DC-6FDB-4BB3-B324-AFC9547B80EF
DTSTART;TZID=America/New_York:20220617T110000
DTEND;TZID=America/New_York:20220617T113000
DESCRIPTION:Meeting to discuss and plan activities/events.\n\nAgenda: \nAge
 nda:\n\n1. Discuss and finalize the schedule and content of presentation f
 or data science school (organized by Dr. Sara Masoud ).\n\n2. Approval of 
 previous meeting minutes.\n\n3. Remarks about the last excom meeting.\n\n4
 . Plan and discuss future activities.\n\nVirtual: https://events.vtools.ie
 ee.org/m/316888
LOCATION:Virtual: https://events.vtools.ieee.org/m/316888
ORGANIZER:ashfiqua.connie@gmail.com
SEQUENCE:2
SUMMARY:IEEE WIE SEM Monthly Meeting
URL;VALUE=URI:https://events.vtools.ieee.org/m/316888
X-ALT-DESC:Description: &lt;br /&gt;&lt;p&gt;Meeting to discuss and plan activities/eve
 nts.&lt;/p&gt;\n&lt;p&gt;&amp;nbsp\;&lt;/p&gt;&lt;br /&gt;&lt;br /&gt;Agenda: &lt;br /&gt;&lt;p&gt;Agenda:&lt;/p&gt;\n&lt;p&gt;1. Di
 scuss and finalize the schedule and content of presentation for data scien
 ce school (organized by Dr. Sara Masoud ).&lt;/p&gt;\n&lt;p&gt;2. Approval of previous
  meeting minutes.&lt;/p&gt;\n&lt;p&gt;3. Remarks about the last excom meeting.&lt;/p&gt;\n&lt;p
 &gt;4. Plan and discuss future activities.&lt;/p&gt;
END:VEVENT
END:VCALENDAR

