BEGIN:VCALENDAR
VERSION:2.0
PRODID:IEEE vTools.Events//EN
CALSCALE:GREGORIAN
BEGIN:VTIMEZONE
TZID:Asia/Jerusalem
BEGIN:DAYLIGHT
DTSTART:20220325T030000
TZOFFSETFROM:+0200
TZOFFSETTO:+0300
RRULE:FREQ=YEARLY;BYDAY=-1FR;BYMONTH=3
TZNAME:IDT
END:DAYLIGHT
BEGIN:STANDARD
DTSTART:20221030T010000
TZOFFSETFROM:+0300
TZOFFSETTO:+0200
RRULE:FREQ=YEARLY;BYDAY=-1SU;BYMONTH=10
TZNAME:IST
END:STANDARD
END:VTIMEZONE
BEGIN:VEVENT
DTSTAMP:20220629T075234Z
UID:779221CE-AAAD-4F2F-8205-397DB421A11D
DTSTART;TZID=Asia/Jerusalem:20220626T130000
DTEND;TZID=Asia/Jerusalem:20220626T140000
DESCRIPTION:Presented by: Dr. Chris Mi\, Distinguished Professor and Chair 
 of the Department of Electrical and Computer Engineering\n\nAbstract:\n\nO
 ver the past 100 years\, scientists have been searching for solutions to r
 ealize wireless power transfer reliably and efficiently. Their goal? A tet
 her-free world. It is only in the past ten years that this has become real
 ity. With the help of semiconductor devices\, electromagnetic materials\, 
 and microcomputers\, we can now not only charge a cell phone wirelessly\, 
 but we can also charge an electric car or a humongous electric ship withou
 t plugging it in. In this talk\, Professor Chris Mi will look at how his w
 ork has made wireless power transfer cheaper\, faster\, safer and more eff
 icient\, enabling cable-free conference rooms\, battery-less drones\, and 
 factories populated by untethered robots and autonomous vehicles.\n\nBio: 
 Dr. Mi is the Professor and Chair of the Department of Electrical and Comp
 uter Engineering at San Diego State University. He is a Fellow of IEEE (In
 stitute of Electrical and Electronics Engineers) and SAE (Society of Autom
 otive Engineers). He is also the Director of the US Department of Energy-f
 unded Graduate Automotive Technology Education (GATE) Center for Electric 
 Drive Transportation at SDSU. He was previously a faculty member at the Un
 iversity of Michigan-Dearborn from 2001 to 2015\, and an Electrical Engine
 er with General Electric from 2000 to 2001. He also served as the CTO of 1
 Power Solutions from 2008 to 2011. Dr. Mi received his Ph. D from the Univ
 ersity of Toronto\, Canada\, in 2001.\n\nDr. Mi has won numerous awards\, 
 including the “Distinguished Teaching Award” and “Distinguished Rese
 arch Award” from the University of Michigan-Dearborn\, IEEE Region 4 “
 Outstanding Engineer Award\,” IEEE Southeastern Michigan Section “Outs
 tanding Professional Award\,” and SAE “Environmental Excellence in Tra
 nsportation (E2T) Award.” He is the recipient of three Best Paper Awards
  from IEEE Transactions on Power Electronics and the 2017 ECCE Student Dem
 onstration Award. In 2019\, he received the Inaugural IEEE Power Electroni
 cs Emerging Technology Award. In 2022\, he received the Albert W. Johnson 
 Lecture Award and named the Distinguished Professor\, the highest honor fo
 r any given to a SDSU faculty member\, and only one award is given each ye
 ar.\n\nDr. Mi has received over $5.8 million in research funding since joi
 ning SDSU in 2015. He has published five books\, 204 journal papers\, 126 
 conference papers\, and 25 issued and pending patents. He served as Editor
 -in-Chief\, Area Editor\, Guest Editor\, and Associate Editor of multiple 
 IEEE Transactions and international journals\, as well as the General Chai
 r of over ten IEEE international conferences.\n\nCo-sponsored by: IEEE VTC
  Distinguished lecture\n\nSpeaker(s): Chris Mi\, \n\nRoom: 202\, Bldg: 37\
 , Ben Gurion University\, Yitshak Reger 1\, Beer Sheva\, Southern District
 \, Israel\, 27707
LOCATION:Room: 202\, Bldg: 37\, Ben Gurion University\, Yitshak Reger 1\, B
 eer Sheva\, Southern District\, Israel\, 27707
ORGANIZER:bilik@bgu.ac.il
SEQUENCE:3
SUMMARY:Wireless Power Transfer – from Science Fiction to Reality
URL;VALUE=URI:https://events.vtools.ieee.org/m/316919
X-ALT-DESC:Description: &lt;br /&gt;&lt;p&gt;Presented by: Dr. Chris Mi\, Distinguished
  Professor and Chair of the Department of Electrical and Computer Engineer
 ing&lt;/p&gt;\n&lt;p&gt;&amp;nbsp\;&lt;/p&gt;\n&lt;p&gt;Abstract:&lt;/p&gt;\n&lt;p&gt;Over the past 100 years\, sc
 ientists have been searching for solutions to realize wireless power trans
 fer reliably and efficiently. Their goal? A tether-free world. It is only 
 in the past ten years that this has become reality. With the help of semic
 onductor devices\, electromagnetic materials\, and microcomputers\, we can
  now not only charge a cell phone wirelessly\, but we can also charge an e
 lectric car or a humongous electric ship without plugging it in. In this t
 alk\, Professor Chris Mi will look at how his work has made wireless power
  transfer cheaper\, faster\, safer and more efficient\, enabling cable-fre
 e conference rooms\, battery-less drones\, and factories populated by unte
 thered robots and autonomous vehicles.&lt;/p&gt;\n&lt;p&gt;&amp;nbsp\;&lt;/p&gt;\n&lt;p&gt;Bio: Dr. Mi
  is the Professor and Chair of the Department of Electrical and Computer E
 ngineering at San Diego State University. He is a Fellow of IEEE (Institut
 e of Electrical and Electronics Engineers) and SAE (Society of Automotive 
 Engineers). He is also the Director of the US Department of Energy-funded 
 Graduate Automotive Technology Education (GATE) Center for Electric Drive 
 Transportation at SDSU. He was previously a faculty member at the Universi
 ty of Michigan-Dearborn from 2001 to 2015\, and an Electrical Engineer wit
 h General Electric from 2000 to 2001. He also served as the CTO of 1Power 
 Solutions from 2008 to 2011.&amp;nbsp\; Dr. Mi received his Ph. D from the Uni
 versity of Toronto\, Canada\, in 2001.&lt;/p&gt;\n&lt;p&gt;&amp;nbsp\;&lt;/p&gt;\n&lt;p&gt;Dr. Mi has 
 won numerous awards\, including the &amp;ldquo\;Distinguished Teaching Award&amp;r
 dquo\; and &amp;ldquo\;Distinguished Research Award&amp;rdquo\; from the Universit
 y of Michigan-Dearborn\, IEEE Region 4 &amp;ldquo\;Outstanding Engineer Award\
 ,&amp;rdquo\; IEEE Southeastern Michigan Section &amp;ldquo\;Outstanding Professio
 nal Award\,&amp;rdquo\; and SAE &amp;ldquo\;Environmental Excellence in Transporta
 tion (E2T) Award.&amp;rdquo\; He is the recipient of three Best Paper Awards f
 rom IEEE Transactions on Power Electronics and the 2017 ECCE Student Demon
 stration Award. In 2019\, he received the Inaugural IEEE Power Electronics
  Emerging Technology Award. In 2022\, he received the Albert W. Johnson Le
 cture Award and named the Distinguished Professor\, the highest honor for 
 any given to a SDSU faculty member\, and only one award is given each year
 .&lt;/p&gt;\n&lt;p&gt;&amp;nbsp\;&lt;/p&gt;\n&lt;p&gt;Dr. Mi has received over $5.8 million in researc
 h funding since joining SDSU in 2015. He has published five books\, 204 jo
 urnal papers\, 126 conference papers\, and 25 issued and pending patents. 
 He served as Editor-in-Chief\, Area Editor\, Guest Editor\, and Associate 
 Editor of multiple IEEE Transactions and international journals\, as well 
 as the General Chair of over ten IEEE international conferences.&lt;/p&gt;
END:VEVENT
END:VCALENDAR

