BEGIN:VCALENDAR
VERSION:2.0
PRODID:IEEE vTools.Events//EN
CALSCALE:GREGORIAN
BEGIN:VTIMEZONE
TZID:America/Santiago
BEGIN:DAYLIGHT
DTSTART:20220911T010000
TZOFFSETFROM:-0400
TZOFFSETTO:-0300
RRULE:FREQ=YEARLY;BYDAY=2SU;BYMONTH=9
TZNAME:-03
END:DAYLIGHT
BEGIN:STANDARD
DTSTART:20220402T230000
TZOFFSETFROM:-0300
TZOFFSETTO:-0400
RRULE:FREQ=YEARLY;BYDAY=1SA;BYMONTH=4
TZNAME:-04
END:STANDARD
END:VTIMEZONE
BEGIN:VEVENT
DTSTAMP:20220621T151821Z
UID:42CE46E9-4E73-4510-952E-6511F9644672
DTSTART;TZID=America/Santiago:20220620T160000
DTEND;TZID=America/Santiago:20220620T180000
DESCRIPTION:Reunión social con pizza entre miembros estudiantiles ComSoc d
 e la Universidad Diego Portales y Universidad de Santiago de Chile ft. Die
 go Dujovne y Roberto Moreno representando al Staff de ComSoc Chile Centro\
 n\nBldg: Universidad Diego Portales\, Ejercito Libertador 441\, Santiago\,
  Region Metropolitana\, Chile
LOCATION:Bldg: Universidad Diego Portales\, Ejercito Libertador 441\, Santi
 ago\, Region Metropolitana\, Chile
ORGANIZER:hlopezd@ieee.org
SEQUENCE:3
SUMMARY:ComSoc Chile Pizza Party Day
URL;VALUE=URI:https://events.vtools.ieee.org/m/317345
X-ALT-DESC:Description: &lt;br /&gt;&lt;p&gt;Reuni&amp;oacute\;n social con pizza entre mie
 mbros estudiantiles ComSoc de la Universidad Diego Portales y Universidad 
 de Santiago de Chile ft. Diego Dujovne y Roberto Moreno representando al S
 taff de ComSoc Chile Centro&lt;/p&gt;
END:VEVENT
END:VCALENDAR

