BEGIN:VCALENDAR
VERSION:2.0
PRODID:IEEE vTools.Events//EN
CALSCALE:GREGORIAN
BEGIN:VTIMEZONE
TZID:America/New_York
BEGIN:DAYLIGHT
DTSTART:20220313T030000
TZOFFSETFROM:-0500
TZOFFSETTO:-0400
RRULE:FREQ=YEARLY;BYDAY=2SU;BYMONTH=3
TZNAME:EDT
END:DAYLIGHT
BEGIN:STANDARD
DTSTART:20221106T010000
TZOFFSETFROM:-0400
TZOFFSETTO:-0500
RRULE:FREQ=YEARLY;BYDAY=1SU;BYMONTH=11
TZNAME:EST
END:STANDARD
END:VTIMEZONE
BEGIN:VEVENT
DTSTAMP:20220716T133253Z
UID:7F55F29B-F62A-4DE5-A19C-D93E9AAF631F
DTSTART;TZID=America/New_York:20220713T120000
DTEND;TZID=America/New_York:20220713T130000
DESCRIPTION:Fundamentals of linear and switched-mode power supply design in
 cluding the topics of Power Conversion Mechanisms\, Switching Cells and Co
 ntrol Schemes\, The Buck\, The Boost\, The Buck-Boost\, Introduction to Co
 ntrol Loop Design\, EMI Filter Interaction and an Introduction to Simulati
 on will be presented.\n\n- Date: 13 Jul 2022\n- Time: 12:00 PM to 01:00 PM
 \n- All times are (UTC-05:00) Eastern\n- Figure out your local time at [Ti
 me converter](https://www.worldtimebuddy.com/) at worldtimebuddy.com\n\n[T
 ime converter](https://www.worldtimebuddy.com/) at worldtimebuddy.com\n\nS
 peaker(s): Chris Basso\, \n\nVirtual: https://events.vtools.ieee.org/m/317
 393
LOCATION:Virtual: https://events.vtools.ieee.org/m/317393
ORGANIZER:sqali@ieee.org
SEQUENCE:8
SUMMARY:Control Loop Analysis and Design for Switching Power Supplies - Par
 t 2
URL;VALUE=URI:https://events.vtools.ieee.org/m/317393
X-ALT-DESC:Description: &lt;br /&gt;&lt;p&gt;Fundamentals of linear and switched-mode p
 ower supply design including the topics of Power Conversion Mechanisms\, S
 witching Cells and Control Schemes\, The Buck\, The Boost\, The Buck-Boost
 \, Introduction to Control Loop Design\, EMI Filter Interaction and an Int
 roduction to Simulation will be presented.&lt;/p&gt;\n&lt;p&gt;&amp;nbsp\;&lt;/p&gt;\n&lt;ul&gt;\n&lt;li&gt;
 Date:&amp;nbsp\;&lt;strong&gt;13 Jul 2022&lt;/strong&gt;&lt;/li&gt;\n&lt;li&gt;Time:&amp;nbsp\;&lt;strong&gt;12:
 00 PM to 01:00 PM&lt;/strong&gt;&lt;/li&gt;\n&lt;li&gt;All times are (UTC-05:00) Eastern&lt;/li
 &gt;\n&lt;li&gt;Figure out your local time at &lt;a href=&quot;https://www.worldtimebuddy.c
 om/&quot; target=&quot;_blank&quot; rel=&quot;noopener&quot;&gt;Time converter&lt;/a&gt; at worldtimebuddy.c
 om&lt;/li&gt;\n&lt;/ul&gt;\n&lt;p&gt;&lt;span class=&quot;wtb-ew-v1&quot; style=&quot;width: 560px\; display: 
 inline-block\;&quot;&gt;&lt;noscript&gt;&lt;a href=&quot;https://www.worldtimebuddy.com/&quot;&gt;Time c
 onverter&lt;/a&gt; at worldtimebuddy.com&lt;/noscript&gt;&lt;/span&gt;&lt;/p&gt;
END:VEVENT
END:VCALENDAR

