BEGIN:VCALENDAR
VERSION:2.0
PRODID:IEEE vTools.Events//EN
CALSCALE:GREGORIAN
BEGIN:VTIMEZONE
TZID:America/Lima
BEGIN:DAYLIGHT
DTSTART:20380118T221407
TZOFFSETFROM:-0500
TZOFFSETTO:-0500
RRULE:FREQ=YEARLY;BYDAY=3MO;BYMONTH=1
TZNAME:-05
END:DAYLIGHT
BEGIN:STANDARD
DTSTART:19940331T230000
TZOFFSETFROM:-0400
TZOFFSETTO:-0500
RRULE:FREQ=YEARLY;BYDAY=-1TH;BYMONTH=3
TZNAME:-05
END:STANDARD
END:VTIMEZONE
BEGIN:VEVENT
DTSTAMP:20221120T234328Z
UID:B95EAE12-67AF-4D69-8B44-52F34685E318
DTSTART;TZID=America/Lima:20220623T110000
DTEND;TZID=America/Lima:20220625T150000
DESCRIPTION:El día 23 de junio se celebra el Día Internacional de la Muje
 r en la Ingeniería\, WIE Sección Ecuador en conjunto con los Grupos de A
 finidad y Ramas Estudiantiles de diversas universidades del país\, conmem
 oran este día con un ciclo de talleres\, conferencias\, experiencias y ac
 tividades lideradas por mujeres ingenieras distinguidas a nivel nacional y
  mundial.\n\nEl evento está dirigido a estudiantes y profesionales de div
 ersas áreas que tendrán la oportunidad de recibir conferencias de manera
  híbrida para desarrollar sus habilidades técnicas y de liderazgo.\n\n¡
 Inscríbete y sé parte de esta celebración\, te esperamos!\n\nCo-sponsor
 ed by: Grupos de Afinidad y Ramas Estudiantiles de diversas universidades 
 del país\n\nAgenda: \n[Agenda del evento](https://drive.google.com/file/d
 /1zKezP3ZhqrYzSYpXp0lebijefOp0Lm4j/view)\n\nVirtual: https://events.vtools
 .ieee.org/m/317535
LOCATION:Virtual: https://events.vtools.ieee.org/m/317535
ORGANIZER:kmyfloresg@ieee.org
SEQUENCE:4
SUMMARY:2DO. ENCUENTRO NACIONAL DE MUJERES EN LA INGENIERÍA: WOMEN INSPIRE
  WOMEN
URL;VALUE=URI:https://events.vtools.ieee.org/m/317535
X-ALT-DESC:Description: &lt;br /&gt;&lt;div class=&quot;cxmmr5t8 oygrvhab hcukyx3x c1et5u
 ql o9v6fnle ii04i59q&quot;&gt;\n&lt;div dir=&quot;auto&quot;&gt;&lt;span style=&quot;vertical-align: inher
 it\;&quot;&gt;&lt;span style=&quot;vertical-align: inherit\;&quot;&gt;&lt;span style=&quot;vertical-align:
  inherit\;&quot;&gt;&lt;span style=&quot;vertical-align: inherit\;&quot;&gt;El d&amp;iacute\;a 23 de j
 unio se celebra el D&amp;iacute\;a Internacional de la Mujer en la Ingenier&amp;ia
 cute\;a\, WIE Secci&amp;oacute\;n Ecuador en conjunto con los Grupos de Afinid
 ad y Ramas Estudiantiles de diversas universidades del pa&amp;iacute\;s\, conm
 emoran este d&amp;iacute\;a con un ciclo de talleres\, conferencias\, experien
 cias y actividades lideradas por mujeres ingenieras distinguidas a nivel n
 acional y mundial.&lt;/span&gt;&lt;/span&gt;&lt;/span&gt;&lt;/span&gt;&lt;/div&gt;\n&lt;div dir=&quot;auto&quot;&gt;&amp;nbs
 p\;&lt;/div&gt;\n&lt;/div&gt;\n&lt;div class=&quot;cxmmr5t8 oygrvhab hcukyx3x c1et5uql o9v6fnl
 e ii04i59q&quot;&gt;\n&lt;div dir=&quot;auto&quot;&gt;&lt;span style=&quot;vertical-align: inherit\;&quot;&gt;&lt;spa
 n style=&quot;vertical-align: inherit\;&quot;&gt;&lt;span style=&quot;vertical-align: inherit\;
 &quot;&gt;&lt;span style=&quot;vertical-align: inherit\;&quot;&gt;El evento est&amp;aacute\; dirigido 
 a estudiantes y profesionales de diversas &amp;aacute\;reas que tendr&amp;aacute\;
 n la oportunidad de recibir conferencias de manera h&amp;iacute\;brida para de
 sarrollar sus habilidades t&amp;eacute\;cnicas y de liderazgo.&lt;/span&gt;&lt;/span&gt;&lt;/
 span&gt;&lt;/span&gt;&lt;/div&gt;\n&lt;div dir=&quot;auto&quot;&gt;&amp;nbsp\;&lt;/div&gt;\n&lt;div dir=&quot;auto&quot;&gt;&lt;span s
 tyle=&quot;vertical-align: inherit\;&quot;&gt;&lt;span style=&quot;vertical-align: inherit\;&quot;&gt;&lt;
 span style=&quot;vertical-align: inherit\;&quot;&gt;&lt;span style=&quot;vertical-align: inheri
 t\;&quot;&gt;&amp;iexcl\;Inscr&amp;iacute\;bete y s&amp;eacute\; parte de esta celebraci&amp;oacut
 e\;n\, te esperamos!&lt;/span&gt;&lt;/span&gt;&lt;/span&gt;&lt;/span&gt;&lt;/div&gt;\n&lt;/div&gt;&lt;br /&gt;&lt;br /&gt;
 Agenda: &lt;br /&gt;&lt;p&gt;&lt;a href=&quot;https://drive.google.com/file/d/1zKezP3ZhqrYzSYp
 Xp0lebijefOp0Lm4j/view&quot;&gt;&lt;span style=&quot;vertical-align: inherit\;&quot;&gt;&lt;span styl
 e=&quot;vertical-align: inherit\;&quot;&gt;&lt;span style=&quot;vertical-align: inherit\;&quot;&gt;&lt;spa
 n style=&quot;vertical-align: inherit\;&quot;&gt;Agenda del evento&lt;/span&gt;&lt;/span&gt;&lt;/span&gt;
 &lt;/span&gt;&lt;/a&gt;&lt;/p&gt;
END:VEVENT
END:VCALENDAR

