BEGIN:VCALENDAR
VERSION:2.0
PRODID:IEEE vTools.Events//EN
CALSCALE:GREGORIAN
BEGIN:VTIMEZONE
TZID:America/Lima
BEGIN:DAYLIGHT
DTSTART:20380118T221407
TZOFFSETFROM:-0500
TZOFFSETTO:-0500
RRULE:FREQ=YEARLY;BYDAY=3MO;BYMONTH=1
TZNAME:-05
END:DAYLIGHT
BEGIN:STANDARD
DTSTART:19940331T230000
TZOFFSETFROM:-0400
TZOFFSETTO:-0500
RRULE:FREQ=YEARLY;BYDAY=-1TH;BYMONTH=3
TZNAME:-05
END:STANDARD
END:VTIMEZONE
BEGIN:VEVENT
DTSTAMP:20220627T034143Z
UID:7BB01714-22E9-4BF1-BBAC-CFCC9631B258
DTSTART;TZID=America/Lima:20220624T190000
DTEND;TZID=America/Lima:20220624T200000
DESCRIPTION:Te recordamos al evento conmemorativo por el Día Internacional
  de la Mujer en la Ingeniería organizado por IEEE ComSoc UNMSM.\nContarem
 os con la presencia de una profesional destacada... Inventora\, Ingeniera 
 y Docente Investigadora: Ruth Manzanares.\nTe esperamos el 24 de junio a l
 as 7 pm\n\nSpeaker(s): Ruth Aracelis Manzanares Grados\, \n\nVirtual: http
 s://events.vtools.ieee.org/m/317539
LOCATION:Virtual: https://events.vtools.ieee.org/m/317539
ORGANIZER:ieeecomsoc.fiee@unmsm.edu.pe
SEQUENCE:1
SUMMARY:WITTY WOMEN
URL;VALUE=URI:https://events.vtools.ieee.org/m/317539
X-ALT-DESC:Description: &lt;br /&gt;&lt;p&gt;&lt;span style=&quot;vertical-align: inherit\;&quot;&gt;&lt;s
 pan style=&quot;vertical-align: inherit\;&quot;&gt;Te recordamos al evento conmemorativ
 o por el D&amp;iacute\;a Internacional de la Mujer en la Ingenier&amp;iacute\;a or
 ganizado por IEEE ComSoc UNMSM. &lt;/span&gt;&lt;/span&gt;&lt;br /&gt;&lt;span style=&quot;vertical-
 align: inherit\;&quot;&gt;&lt;span style=&quot;vertical-align: inherit\;&quot;&gt;Contaremos con l
 a presencia de una profesional destacada... Inventora\, Ingeniera y Docent
 e Investigadora: Ruth Manzanares. &lt;/span&gt;&lt;/span&gt;&lt;br /&gt;&lt;span style=&quot;vertica
 l-align: inherit\;&quot;&gt;&lt;span style=&quot;vertical-align: inherit\;&quot;&gt;Te esperamos e
 l 24 de junio a las 7 pm&lt;/span&gt;&lt;/span&gt;&lt;/p&gt;
END:VEVENT
END:VCALENDAR

