BEGIN:VCALENDAR
VERSION:2.0
PRODID:IEEE vTools.Events//EN
CALSCALE:GREGORIAN
BEGIN:VTIMEZONE
TZID:America/Lima
BEGIN:DAYLIGHT
DTSTART:20380118T221407
TZOFFSETFROM:-0500
TZOFFSETTO:-0500
RRULE:FREQ=YEARLY;BYDAY=3MO;BYMONTH=1
TZNAME:-05
END:DAYLIGHT
BEGIN:STANDARD
DTSTART:19940331T230000
TZOFFSETFROM:-0400
TZOFFSETTO:-0500
RRULE:FREQ=YEARLY;BYDAY=-1TH;BYMONTH=3
TZNAME:-05
END:STANDARD
END:VTIMEZONE
BEGIN:VEVENT
DTSTAMP:20220713T004629Z
UID:02981A61-2F43-4364-888F-9F5083638488
DTSTART;TZID=America/Lima:20220623T110000
DTEND;TZID=America/Lima:20220625T150500
DESCRIPTION:El II Encuentro nacional “Mujeres en la Ingeniería” por el
  Día Internacional de la Mujer en la Ingeniería contará con 3 días de 
 charlas magistrales\, foros\, talleres técnicos y talleres prácticos\, 2
 6 ponentes nacionales e internacionales que mostrarán el talento y la pre
 sencia del género femenino dentro de los campos de la Ingeniería\, la Ci
 encia y la Tecnología. Los congresistas deberán tener un registro previo
  a un formulario que será enviado junto con el cartel promocional a parti
 r del 15 de junio de 2021 de 10:00 am al 23 de junio a las 10:00 am (GMT-5
 )\, las personas registradas correctamente tendrán acceso a un link que s
 erá enviado al correo electrónico. El evento será gratuito y se realiza
 rá del jueves 23 al sábado 25 de junio de 2022\, los horarios son tanto 
 en la mañana de 11:00 a 13: 00 como en la tarde de 17:00 a 19:00 (GMT-5)\
 , y el sábado una jornada de 9:00 a 12:00 (GMT-5) con talleres técnicos 
 y alternamente de 10:00 a 15:00 (GMT-5) presentaciones de organizaciones\,
  taller práctico y networking Grupos de afinidad WIE\, las presentaciones
  tendrán una duración de 25 minutos y 5 minutos para las preguntas de lo
 s asistentes. Se llevará a cabo de manera virtual en la plataforma Zoom. 
 Serán invitados 8 colegios de diferentes partes del Ecuador y las organiz
 aciones STEM Hive y Warmi STEM\, Al finalizar el evento se entregará un c
 ertificado digital de participación a los asistentes siempre y cuando Ten
 er al menos un 80% de asistencia al evento.\n\nAgenda: \nhttps://drive.goo
 gle.com/file/d/11goXAH-6JZ8GBmi8QXQxa3n5djwVC3Sl/view?usp=sharing\n\nVirtu
 al: https://events.vtools.ieee.org/m/317668
LOCATION:Virtual: https://events.vtools.ieee.org/m/317668
ORGANIZER:wie.ieee.espe@gmail.com
SEQUENCE:2
SUMMARY:2do Encuentro de la mujer en la ingeniería
URL;VALUE=URI:https://events.vtools.ieee.org/m/317668
X-ALT-DESC:Description: &lt;br /&gt;&lt;p&gt;El II Encuentro nacional &amp;ldquo\;Mujeres e
 n la Ingenier&amp;iacute\;a&amp;rdquo\; por el D&amp;iacute\;a Internacional de la Muj
 er en la Ingenier&amp;iacute\;a contar&amp;aacute\; con 3 d&amp;iacute\;as de charlas 
 magistrales\, foros\, talleres t&amp;eacute\;cnicos y talleres pr&amp;aacute\;ctic
 os\, 26 ponentes nacionales e internacionales que mostrar&amp;aacute\;n el tal
 ento y la presencia del g&amp;eacute\;nero femenino dentro de los campos de la
  Ingenier&amp;iacute\;a\, la Ciencia y la Tecnolog&amp;iacute\;a. Los congresistas
  deber&amp;aacute\;n tener un registro previo a un formulario que ser&amp;aacute\;
  enviado junto con el cartel promocional a partir del 15 de junio de 2021 
 de 10:00 am al 23 de junio a las 10:00 am (GMT-5)\, las personas registrad
 as correctamente tendr&amp;aacute\;n acceso a un link que ser&amp;aacute\; enviado
  al correo electr&amp;oacute\;nico. El evento ser&amp;aacute\; gratuito y se reali
 zar&amp;aacute\; del jueves 23 al s&amp;aacute\;bado 25 de junio de 2022\, los hor
 arios son tanto en la ma&amp;ntilde\;ana de 11:00 a 13: 00 como en la tarde de
  17:00 a 19:00 (GMT-5)\, y el s&amp;aacute\;bado una jornada de 9:00 a 12:00 (
 GMT-5) con talleres t&amp;eacute\;cnicos y alternamente de 10:00 a 15:00 (GMT-
 5) presentaciones de organizaciones\, taller&amp;nbsp\; pr&amp;aacute\;ctico y net
 working Grupos de afinidad WIE\, las presentaciones tendr&amp;aacute\;n una du
 raci&amp;oacute\;n de 25 minutos y 5 minutos para las preguntas de los asisten
 tes. Se llevar&amp;aacute\; a cabo de manera virtual en la plataforma Zoom. Se
 r&amp;aacute\;n invitados 8 colegios de diferentes partes del Ecuador y las or
 ganizaciones STEM Hive y Warmi STEM\, Al finalizar el evento se entregar&amp;a
 acute\; un certificado digital de participaci&amp;oacute\;n a los asistentes s
 iempre y cuando Tener al menos un 80% de asistencia al evento.&lt;/p&gt;&lt;br /&gt;&lt;b
 r /&gt;Agenda: &lt;br /&gt;&lt;p&gt;&lt;a title=&quot;Agenda&quot; href=&quot;https://drive.google.com/file
 /d/11goXAH-6JZ8GBmi8QXQxa3n5djwVC3Sl/view?usp=sharing&quot; target=&quot;_blank&quot; rel
 =&quot;noopener&quot;&gt;https://drive.google.com/file/d/11goXAH-6JZ8GBmi8QXQxa3n5djwVC
 3Sl/view?usp=sharing&lt;/a&gt;&lt;/p&gt;
END:VEVENT
END:VCALENDAR

