BEGIN:VCALENDAR
VERSION:2.0
PRODID:IEEE vTools.Events//EN
CALSCALE:GREGORIAN
BEGIN:VTIMEZONE
TZID:America/New_York
BEGIN:DAYLIGHT
DTSTART:20220313T030000
TZOFFSETFROM:-0500
TZOFFSETTO:-0400
RRULE:FREQ=YEARLY;BYDAY=2SU;BYMONTH=3
TZNAME:EDT
END:DAYLIGHT
BEGIN:STANDARD
DTSTART:20221106T010000
TZOFFSETFROM:-0400
TZOFFSETTO:-0500
RRULE:FREQ=YEARLY;BYDAY=1SU;BYMONTH=11
TZNAME:EST
END:STANDARD
END:VTIMEZONE
BEGIN:VEVENT
DTSTAMP:20220702T181414Z
UID:6FB2E2E9-ADB9-4A90-BDC5-A94579B41A94
DTSTART;TZID=America/New_York:20220627T090000
DTEND;TZID=America/New_York:20220627T120000
DESCRIPTION:Over the last 30 years\, Field Programmable Gate Arrays (FPGA) 
 design applications have increased exponentially. They have moved from jus
 t digital designs to other areas such as embedded controllers\, Digital Si
 gnal Processing\, communication\, and configurable computing. The Xilinx Z
 ynq FPGAs are a perfect example of how far FPGA came. They provide plenty 
 of FPGA fabric\, embedded ARM\, high speed ADC and DACs as well specialize
 d hard core for channel coding. These FPGA can act as a full Linux machine
  providing a powerful development framework to enables advanced developmen
 t of advanced communication\, RADAR and machine learning solutions. This h
 as made exposure and mastering of FPGA very important to many people in th
 e industry and academia.\n\nSpeaker(s): prof. Cherif Chibane \, \n\nAgenda
 : \nThe talk will be virtual by Zoom on June 27\, 2022 between 9:00 AM and
  12:00 PM EST. There is no fee and everybody is invited. Plaese use the fo
 llowing link to participate.\n\nVirtual: https://events.vtools.ieee.org/m/
 317955
LOCATION:Virtual: https://events.vtools.ieee.org/m/317955
ORGANIZER:cherif.chibane@ieee.org 
SEQUENCE:7
SUMMARY:Advanced FPGA technologies short course Session 2 hosted at Tizi Ou
 zou U. Algeria
URL;VALUE=URI:https://events.vtools.ieee.org/m/317955
X-ALT-DESC:Description: &lt;br /&gt;&lt;p&gt;Over the last 30 years\, Field Programmabl
 e Gate Arrays (FPGA) design applications have increased exponentially. The
 y have moved from just digital designs to other areas such as embedded con
 trollers\, Digital Signal Processing\, communication\, and configurable co
 mputing. The Xilinx Zynq FPGAs are a perfect example of how far FPGA came.
  They provide plenty of FPGA fabric\, embedded ARM\, high speed ADC and DA
 Cs as well specialized hard core for channel coding. These FPGA can act as
  a full Linux machine providing a powerful development framework to enable
 s advanced development of advanced communication\, RADAR and machine learn
 ing solutions. This has made exposure and mastering of FPGA very important
  to many people in the industry and academia.&lt;/p&gt;&lt;br /&gt;&lt;br /&gt;Agenda: &lt;br /
 &gt;&lt;p&gt;The talk will be virtual by Zoom on June 27\, 2022 between 9:00 AM and
  12:00&amp;nbsp\; PM EST. There is no fee and everybody is invited. Plaese use
  the following link to participate.&lt;/p&gt;\n&lt;p&gt;&amp;nbsp\;&lt;/p&gt;
END:VEVENT
END:VCALENDAR

