BEGIN:VCALENDAR
VERSION:2.0
PRODID:IEEE vTools.Events//EN
CALSCALE:GREGORIAN
BEGIN:VTIMEZONE
TZID:America/Lima
BEGIN:DAYLIGHT
DTSTART:20380118T221407
TZOFFSETFROM:-0500
TZOFFSETTO:-0500
RRULE:FREQ=YEARLY;BYDAY=3MO;BYMONTH=1
TZNAME:-05
END:DAYLIGHT
BEGIN:STANDARD
DTSTART:19940331T230000
TZOFFSETFROM:-0400
TZOFFSETTO:-0500
RRULE:FREQ=YEARLY;BYDAY=-1TH;BYMONTH=3
TZNAME:-05
END:STANDARD
END:VTIMEZONE
BEGIN:VEVENT
DTSTAMP:20220705T200015Z
UID:83DEC4DD-B87C-43AB-B3B5-2245D9A6F691
DTSTART;TZID=America/Lima:20220629T170000
DTEND;TZID=America/Lima:20220702T130500
DESCRIPTION:El evento IoT Integral Solution busca dar a conocer los último
 s avances de la ciencia y tecnología y sus aplicaciones dentro del ámbit
 o del Internet de las Cosas\, a través de la realización de charlas y ta
 lleres vía Webex (una plataforma de Video Conferencias Online) y/o presen
 ciales. Se busca abordar una diversidad de temas contemporáneos de mucho 
 interés para la comunidad\, incluyendo: Nuevas tecnologías y aplicacione
 s del IoT en la actualidad\, entre otros.\n\nEl IoT Integral Solution est
 á programado para que se realice en formato hibrido\, desde el miércoles
  29 hasta viernes 1 de julio desde las 18h00 hasta las 20h30 y el sábado 
 2 de julio del presente año\, desde las 9h00 hasta las 12h30 aproximadame
 nte\, horario de Ecuador (GMT-5).\n\nAgenda: \nDAY 1:\n\nMiércoles 29 Jun
 io de 2022\n\nIoT via 5G Satellite Systems.\n\nExpositor: PhD. Giovanni Gi
 ambene\n\nHora: 17h00 (GMT -5)\n\nSoluciones inteligentes usando TinyML.\n
 \nExpositor: Mg. Ronald Criollo\n\nHora: 18h30 (GMT -5)\n\nSeguridad en lo
 s sistemas IoT.\n\nExpositor: Roberto Andrade\n\nHora: 19h30 (GMT -5)\n\n-
  DAY 2:\n\nJueves 30 de junio de 2022\n\nMassive Ultra-Reliable Connectivi
 ty in 6G.\n\nExpositor: PhD. Arumugam Nallanathan\n\nHora: 11h00 (GMT -5)\
 n\nIoT for Healthcare Applications: BLE Mesh in medical environments.\n\nE
 xpositor: PhD. (c) Jimmy Fernandez\n\nHora: 18h30 (GMT -5)\n\nViabilidad d
 e Bluetooth Mesh en aplicaciones de edificios inteligentes.\n\nExpositor: 
 PhD. Federico Dominguez\n\nHora: 19h30 (GMT -5)\n\n- DAY 3:\n\nViernes 1 d
 e julio de 2022\n\nCerrando la brecha entre teoria y Practica: Creación I
 IoT con Labview.\n\nExpositor: Mg. Santiago Orellana\n\nHora: 17h30 (GMT -
 5)\n\nAutomatizando IoT devices con MAAS (Metal As A Service) .\n\nExposit
 or: Ing. Fausto Castañeda\n\nHora: 18h30 (GMT -5)\n\nSmart Cities y las a
 plicaciones para la Industria y la Educación.\n\nExpositor: PhD. Miriam C
 arlos.\n\nHora: 19h30 (GMT -5)\n\nDAY 4:\n\nSábado 2 de julio de 2022\n\n
 IIoT con Labview.\n\nExpositor: Mg. Santiago Orellana\n\nHora: 9h00 (GMT -
 5)\n\nIoT y sus aplicaciones en la industria Ecuatoriana.\n\nExpositor: Ed
 isson Sánchez Castro\n\nHora: 10h30 (GMT -5)\n\nIoT Esquema Abierto para 
 Gestión con HomeAssistant\, MQTT y dispositivos con ESP32.\n\nExpositor: 
 Ing. Edison Del Rosario\n\nHora: 9h30 (GMT -5)\n\nIoT Machine Learning.\n\
 nExpositor: PhD. (c) Cristián Ramírez\n\nHora: 9h30 (GMT -5)\n\nVirtual:
  https://events.vtools.ieee.org/m/318005
LOCATION:Virtual: https://events.vtools.ieee.org/m/318005
ORGANIZER:miri.lucero.tenorio@ieee.org
SEQUENCE:6
SUMMARY:IoT Integral Solution
URL;VALUE=URI:https://events.vtools.ieee.org/m/318005
X-ALT-DESC:Description: &lt;br /&gt;&lt;div dir=&quot;ltr&quot;&gt;&lt;span style=&quot;color: #073763\; 
 font-family: times new roman\, serif\;&quot;&gt;El evento IoT Integral Solution bu
 sca dar a conocer los &amp;uacute\;ltimos avances de la ciencia y tecnolog&amp;iac
 ute\;a y sus aplicaciones dentro del &amp;aacute\;mbito del Internet de las Co
 sas\, a trav&amp;eacute\;s de la realizaci&amp;oacute\;n de charlas y talleres v&amp;i
 acute\;a Webex (una plataforma de Video Conferencias Online) y/o presencia
 les. Se busca abordar una diversidad de temas contempor&amp;aacute\;neos de mu
 cho inter&amp;eacute\;s para la comunidad\, incluyendo: Nuevas tecnolog&amp;iacute
 \;as y aplicaciones del IoT en la actualidad\, entre otros.&lt;/span&gt;&lt;/div&gt;\n
 &lt;div dir=&quot;ltr&quot;&gt;&lt;span style=&quot;color: #073763\; font-family: times new roman\
 , serif\;&quot;&gt;&lt;br /&gt;El IoT Integral Solution est&amp;aacute\; programado para que
  se realice en formato hibrido\, desde el mi&amp;eacute\;rcoles 29 hasta viern
 es 1 de julio desde las 18h00 hasta las 20h30 y el s&amp;aacute\;bado 2 de jul
 io del presente a&amp;ntilde\;o\, desde las 9h00 hasta las 12h30 aproximadamen
 te\, horario de Ecuador (GMT-5).&lt;/span&gt;&lt;/div&gt;&lt;br /&gt;&lt;br /&gt;Agenda: &lt;br /&gt;&lt;p 
 style=&quot;font-weight: 400\;&quot;&gt;&amp;nbsp\;&amp;nbsp\;&amp;nbsp\;&amp;nbsp\;&amp;nbsp\;&amp;nbsp\;&amp;nbsp
 \;&lt;strong&gt;DAY 1:&lt;/strong&gt;&lt;/p&gt;\n&lt;p style=&quot;font-weight: 400\;&quot;&gt;&lt;strong&gt;Mi&amp;ea
 cute\;rcoles 29 Junio de 2022&lt;/strong&gt;&lt;/p&gt;\n&lt;p style=&quot;font-weight: 400\;&quot;&gt;
 &lt;strong&gt;&lt;u&gt;IoT via 5G Satellite Systems.&lt;/u&gt;&lt;/strong&gt;&lt;/p&gt;\n&lt;p style=&quot;font-
 weight: 400\;&quot;&gt;&lt;strong&gt;Expositor:&lt;/strong&gt;&amp;nbsp\;PhD. Giovanni Giambene&lt;/p
 &gt;\n&lt;p style=&quot;font-weight: 400\;&quot;&gt;&lt;strong&gt;Hora:&lt;/strong&gt; 17h00 (GMT -5)&lt;/p&gt;
 \n&lt;p style=&quot;font-weight: 400\;&quot;&gt;&lt;strong&gt;&lt;u&gt;Soluciones inteligentes usando 
 TinyML.&lt;/u&gt;&lt;/strong&gt;&lt;/p&gt;\n&lt;p style=&quot;font-weight: 400\;&quot;&gt;&lt;strong&gt;Expositor:
 &lt;/strong&gt;&amp;nbsp\;Mg. Ronald Criollo&lt;/p&gt;\n&lt;p style=&quot;font-weight: 400\;&quot;&gt;&lt;str
 ong&gt;Hora:&lt;/strong&gt;&amp;nbsp\;18h30&amp;nbsp\;(GMT -5)&lt;/p&gt;\n&lt;p style=&quot;font-weight: 
 400\;&quot;&gt;&lt;strong&gt;&lt;u&gt;Seguridad en los sistemas IoT.&lt;/u&gt;&lt;/strong&gt;&lt;/p&gt;\n&lt;p styl
 e=&quot;font-weight: 400\;&quot;&gt;&lt;strong&gt;Expositor:&lt;/strong&gt;&amp;nbsp\;Roberto Andrade&lt;/
 p&gt;\n&lt;p style=&quot;font-weight: 400\;&quot;&gt;&lt;strong&gt;Hora:&lt;/strong&gt;&amp;nbsp\;19h30&amp;nbsp\
 ;(GMT -5)&lt;/p&gt;\n&lt;p style=&quot;font-weight: 400\;&quot;&gt;&amp;nbsp\;&lt;/p&gt;\n&lt;ul&gt;\n&lt;li style=
 &quot;font-weight: 400\;&quot;&gt;&lt;strong&gt;DAY 2:&lt;/strong&gt;&lt;/li&gt;\n&lt;/ul&gt;\n&lt;p style=&quot;font-w
 eight: 400\;&quot;&gt;&lt;strong&gt;Jueves 30 de junio de 2022&lt;/strong&gt;&lt;/p&gt;\n&lt;p style=&quot;f
 ont-weight: 400\;&quot;&gt;&lt;strong&gt;&lt;u&gt;Massive Ultra-Reliable Connectivity in 6G.&lt;/
 u&gt;&lt;/strong&gt;&lt;/p&gt;\n&lt;p style=&quot;font-weight: 400\;&quot;&gt;&lt;strong&gt;Expositor:&lt;/strong&gt;
 &amp;nbsp\;PhD. Arumugam Nallanathan&lt;/p&gt;\n&lt;p style=&quot;font-weight: 400\;&quot;&gt;&lt;stron
 g&gt;Hora:&lt;/strong&gt;&amp;nbsp\;11h00&amp;nbsp\;(GMT -5)&lt;/p&gt;\n&lt;p style=&quot;font-weight: 40
 0\;&quot;&gt;&amp;nbsp\;&lt;/p&gt;\n&lt;p style=&quot;font-weight: 400\;&quot;&gt;&lt;strong&gt;&lt;u&gt;IoT for Healthc
 are Applications: BLE Mesh in medical environments.&lt;/u&gt;&lt;/strong&gt;&lt;/p&gt;\n&lt;p s
 tyle=&quot;font-weight: 400\;&quot;&gt;&lt;strong&gt;Expositor:&lt;/strong&gt;&amp;nbsp\;PhD. (c) Jimmy
  Fernandez&lt;/p&gt;\n&lt;p style=&quot;font-weight: 400\;&quot;&gt;&lt;strong&gt;Hora:&lt;/strong&gt;&amp;nbsp\
 ;18h30&amp;nbsp\;(GMT -5)&lt;/p&gt;\n&lt;p style=&quot;font-weight: 400\;&quot;&gt;&lt;strong&gt;&lt;u&gt;Viabil
 idad de Bluetooth Mesh en aplicaciones de edificios inteligentes.&lt;/u&gt;&lt;/str
 ong&gt;&lt;/p&gt;\n&lt;p style=&quot;font-weight: 400\;&quot;&gt;&lt;strong&gt;Expositor:&lt;/strong&gt;&amp;nbsp\;
 PhD. Federico Dominguez&lt;/p&gt;\n&lt;p style=&quot;font-weight: 400\;&quot;&gt;&lt;strong&gt;Hora:&lt;/
 strong&gt;&amp;nbsp\;19h30&amp;nbsp\;(GMT -5)&lt;/p&gt;\n&lt;p style=&quot;font-weight: 400\;&quot;&gt;&amp;nbs
 p\;&lt;/p&gt;\n&lt;ul&gt;\n&lt;li style=&quot;font-weight: 400\;&quot;&gt;&lt;strong&gt;DAY 3:&lt;/strong&gt;&lt;/li&gt;
 \n&lt;/ul&gt;\n&lt;p style=&quot;font-weight: 400\;&quot;&gt;&lt;strong&gt;Viernes 1 de julio de 2022&lt;
 /strong&gt;&lt;/p&gt;\n&lt;p style=&quot;font-weight: 400\;&quot;&gt;&lt;strong&gt;&lt;u&gt;Cerrando la brecha 
 entre teoria y Practica: Creaci&amp;oacute\;n IIoT con Labview.&lt;/u&gt;&lt;/strong&gt;&lt;/
 p&gt;\n&lt;p style=&quot;font-weight: 400\;&quot;&gt;&lt;strong&gt;Expositor:&amp;nbsp\;&lt;/strong&gt;Mg. Sa
 ntiago Orellana&lt;/p&gt;\n&lt;p style=&quot;font-weight: 400\;&quot;&gt;&lt;strong&gt;Hora:&lt;/strong&gt;&amp;
 nbsp\;17h30&amp;nbsp\;(GMT -5)&lt;/p&gt;\n&lt;p style=&quot;font-weight: 400\;&quot;&gt;&lt;strong&gt;&lt;u&gt;A
 utomatizando IoT devices con MAAS (Metal As A Service)&amp;nbsp\; .&lt;/u&gt;&lt;/stron
 g&gt;&lt;/p&gt;\n&lt;p style=&quot;font-weight: 400\;&quot;&gt;&lt;strong&gt;Expositor:&lt;/strong&gt;&amp;nbsp\;In
 g. Fausto Casta&amp;ntilde\;eda&lt;/p&gt;\n&lt;p style=&quot;font-weight: 400\;&quot;&gt;&lt;strong&gt;Hor
 a:&lt;/strong&gt;&amp;nbsp\;18h30&amp;nbsp\;(GMT -5)&lt;/p&gt;\n&lt;p style=&quot;font-weight: 400\;&quot;&gt;
 &lt;strong&gt;&lt;u&gt;Smart Cities y las aplicaciones para la Industria y la Educaci&amp;
 oacute\;n.&lt;/u&gt;&lt;/strong&gt;&lt;/p&gt;\n&lt;p style=&quot;font-weight: 400\;&quot;&gt;&lt;strong&gt;Exposit
 or:&amp;nbsp\;&lt;/strong&gt;PhD. Miriam Carlos.&amp;nbsp\;&lt;strong&gt;&amp;nbsp\;&amp;nbsp\;&amp;nbsp\;
 &amp;nbsp\;&amp;nbsp\;&amp;nbsp\;&amp;nbsp\;&amp;nbsp\;&amp;nbsp\;&amp;nbsp\;&amp;nbsp\;&amp;nbsp\;&amp;nbsp\;&amp;nbs
 p\;&lt;/strong&gt;&lt;/p&gt;\n&lt;p style=&quot;font-weight: 400\;&quot;&gt;&lt;strong&gt;Hora:&lt;/strong&gt;&amp;nbs
 p\;19h30&amp;nbsp\;(GMT -5)&lt;/p&gt;\n&lt;p style=&quot;font-weight: 400\;&quot;&gt;&amp;nbsp\;&lt;/p&gt;\n&lt;p
  style=&quot;font-weight: 400\;&quot;&gt;&lt;strong&gt;DAY 4:&lt;/strong&gt;&lt;/p&gt;\n&lt;p style=&quot;font-we
 ight: 400\;&quot;&gt;&lt;strong&gt;S&amp;aacute\;bado 2 de julio de 2022&lt;/strong&gt;&lt;/p&gt;\n&lt;p st
 yle=&quot;font-weight: 400\;&quot;&gt;&lt;strong&gt;&lt;u&gt;IIoT con Labview.&lt;/u&gt;&lt;/strong&gt;&lt;/p&gt;\n&lt;p
  style=&quot;font-weight: 400\;&quot;&gt;&lt;strong&gt;Expositor:&amp;nbsp\;&lt;/strong&gt;Mg. Santiago
  Orellana&lt;/p&gt;\n&lt;p style=&quot;font-weight: 400\;&quot;&gt;&lt;strong&gt;Hora:&lt;/strong&gt;&amp;nbsp\;
 9h00&amp;nbsp\;(GMT -5)&lt;/p&gt;\n&lt;p style=&quot;font-weight: 400\;&quot;&gt;&lt;strong&gt;&lt;u&gt;IoT y su
 s aplicaciones en la industria Ecuatoriana.&lt;/u&gt;&lt;/strong&gt;&lt;/p&gt;\n&lt;p style=&quot;fo
 nt-weight: 400\;&quot;&gt;&lt;strong&gt;Expositor:&lt;/strong&gt;&amp;nbsp\;Edisson S&amp;aacute\;nche
 z Castro&lt;/p&gt;\n&lt;p style=&quot;font-weight: 400\;&quot;&gt;&lt;strong&gt;Hora:&lt;/strong&gt;&amp;nbsp\;1
 0h30&amp;nbsp\;(GMT -5)&lt;/p&gt;\n&lt;p style=&quot;font-weight: 400\;&quot;&gt;&lt;strong&gt;&lt;u&gt;IoT Esqu
 ema Abierto para Gesti&amp;oacute\;n con HomeAssistant\, MQTT y dispositivos c
 on ESP32.&lt;/u&gt;&lt;/strong&gt;&lt;/p&gt;\n&lt;p style=&quot;font-weight: 400\;&quot;&gt;&lt;strong&gt;Exposito
 r:&lt;/strong&gt;&amp;nbsp\;Ing. Edison Del Rosario&lt;/p&gt;\n&lt;p style=&quot;font-weight: 400\
 ;&quot;&gt;&lt;strong&gt;Hora:&lt;/strong&gt;&amp;nbsp\;9h30&amp;nbsp\;(GMT -5)&lt;/p&gt;\n&lt;p style=&quot;font-we
 ight: 400\;&quot;&gt;&lt;strong&gt;&lt;u&gt;IoT Machine Learning.&lt;/u&gt;&lt;/strong&gt;&lt;/p&gt;\n&lt;p style=&quot;
 font-weight: 400\;&quot;&gt;&lt;strong&gt;&lt;span style=&quot;vertical-align: inherit\;&quot;&gt;&lt;span 
 style=&quot;vertical-align: inherit\;&quot;&gt;Expositor:&lt;/span&gt;&lt;/span&gt;&lt;/strong&gt;&lt;span s
 tyle=&quot;vertical-align: inherit\;&quot;&gt;&lt;span style=&quot;vertical-align: inherit\;&quot;&gt; 
 &amp;nbsp\;PhD. &lt;/span&gt;&lt;span style=&quot;vertical-align: inherit\;&quot;&gt;(c) Cristi&amp;aacu
 te\;n Ram&amp;iacute\;rez&lt;/span&gt;&lt;/span&gt;&lt;/p&gt;\n&lt;p style=&quot;font-weight: 400\;&quot;&gt;&lt;st
 rong&gt;&lt;span style=&quot;vertical-align: inherit\;&quot;&gt;&lt;span style=&quot;vertical-align: 
 inherit\;&quot;&gt;Hora:&lt;/span&gt;&lt;/span&gt;&lt;/strong&gt;&lt;span style=&quot;vertical-align: inheri
 t\;&quot;&gt;&lt;span style=&quot;vertical-align: inherit\;&quot;&gt; &amp;nbsp\;9h30 (GMT -5)&lt;/span&gt;&lt;
 /span&gt;&lt;/p&gt;
END:VEVENT
END:VCALENDAR

