BEGIN:VCALENDAR
VERSION:2.0
PRODID:IEEE vTools.Events//EN
CALSCALE:GREGORIAN
BEGIN:VTIMEZONE
TZID:US/Eastern
BEGIN:DAYLIGHT
DTSTART:20220313T030000
TZOFFSETFROM:-0500
TZOFFSETTO:-0400
RRULE:FREQ=YEARLY;BYDAY=2SU;BYMONTH=3
TZNAME:EDT
END:DAYLIGHT
BEGIN:STANDARD
DTSTART:20221106T010000
TZOFFSETFROM:-0400
TZOFFSETTO:-0500
RRULE:FREQ=YEARLY;BYDAY=1SU;BYMONTH=11
TZNAME:EST
END:STANDARD
END:VTIMEZONE
BEGIN:VEVENT
DTSTAMP:20221008T233647Z
UID:8B07DFF2-DD84-486A-BDD5-26C4A4681259
DTSTART;TZID=US/Eastern:20221007T180000
DTEND;TZID=US/Eastern:20221007T193700
DESCRIPTION:Recently in February\, June and October 2021\, as part of an in
 novative and fresh approach\, i.e. a non-traditional meeting event: we pre
 sented video documentaries. This was very warmly received. So we decided t
 o continue the good work.\n\nWe proudly present\, in partnership with the 
 IEEE Foundation: &quot;Divine Discontent: The Life of Charles Proteus Steinmetz
 &quot;\n\nSummary: This documentary/movie will look at the life and contributio
 ns of one of the most celebrated Engineers and inventors\, Charles Proteus
  Steinmetz. Dr. Steinmetz was a legendary figure in his time inside and ou
 tside of GE. He was a Chief Consulting Engineer\, a Professor at Union Col
 lege\, a Community Activist\, and a family man. We will relive his path fr
 om a small town in Prussia to New York and his great accomplishments in Sc
 ience\, Engineering\, Education\, and contributions to Society. Running ti
 me is approximately 55 minutes. This documentary is brought to you by the 
 IEEE Foundation who partially funded this. The trailer can be viewed at: h
 ttps://vimeo.com/57064748\n\nAFTER the movie - we can have a brief discuss
 ion session. NOTE: You must supply your own soda pop and popcorn! :-)\n\nT
 rivia may also follow\, so bring your Jeopardy hats too\n\nCo-sponsored by
 : Subramaniam Ganesan\n\nAgenda: \n6:00 PM - Welcome and Introductions\, C
 hapter business update\; (on your own) Pizza\, Popcorn and Soda Pop\n\n6:1
 5 PM - Documentary\n\n7:15 PM - End of Documentary\; Start of Q &amp; A\; Grou
 p Discussion\n\n7:30 PM - Wrap Up\n\nVirtual: https://events.vtools.ieee.o
 rg/m/318151
LOCATION:Virtual: https://events.vtools.ieee.org/m/318151
ORGANIZER:sharan.kalwani@ieee.org
SEQUENCE:5
SUMMARY:Charles Proteus Steinmetz: documentary
URL;VALUE=URI:https://events.vtools.ieee.org/m/318151
X-ALT-DESC:Description: &lt;br /&gt;&lt;p&gt;Recently in February\, June and October 20
 21\, as part of an innovative and fresh approach\, i.e. a non-traditional 
 meeting event: we presented video documentaries. This was very warmly rece
 ived. So we decided to continue the good work.&lt;/p&gt;\n&lt;p&gt;We proudly present\
 , in &lt;em&gt;&lt;strong&gt;partnership&lt;/strong&gt;&lt;/em&gt; with the&lt;span style=&quot;text-decor
 ation: underline\;&quot;&gt;&lt;strong&gt;&lt;em&gt; IEEE Foundation&lt;/em&gt;&lt;/strong&gt;&lt;/span&gt;: &quot;Di
 vine Discontent: The Life of Charles Proteus Steinmetz&quot;&lt;/p&gt;\n&lt;p&gt;&lt;strong&gt;Su
 mmary:&amp;nbsp\;&lt;/strong&gt;&lt;em&gt;This documentary/movie will look at the life and
  contributions of one of the most celebrated Engineers and inventors\, Cha
 rles Proteus Steinmetz. Dr. Steinmetz was a legendary figure in his time i
 nside and outside of GE. He was a Chief Consulting Engineer\, a Professor 
 at Union College\, a Community Activist\, and a family man. We will relive
  his path from a small town in Prussia to New York and his great accomplis
 hments in Science\, Engineering\, Education\, and contributions to Society
 . Running time is approximately 55 minutes. This documentary is brought to
  you by the IEEE Foundation who partially funded this. The trailer can be 
 viewed at:&lt;/em&gt; &lt;a title=&quot;trailer&quot; href=&quot;https://vimeo.com/57064748&quot; targe
 t=&quot;_blank&quot; rel=&quot;noopener&quot;&gt;https://vimeo.com/57064748&lt;/a&gt;&lt;/p&gt;\n&lt;p&gt;&lt;span sty
 le=&quot;color: #800000\;&quot;&gt;&lt;strong&gt;AFTER the movie - we can have a brief discus
 sion session. NOTE: You must supply your own soda pop and popcorn! :-)&lt;/st
 rong&gt; &lt;/span&gt;&lt;/p&gt;\n&lt;p&gt;&lt;span style=&quot;color: #800000\;&quot;&gt;&lt;strong&gt;Trivia may al
 so follow\, so bring your Jeopardy hats too&lt;/strong&gt;&lt;/span&gt;&lt;/p&gt;&lt;br /&gt;&lt;br /
 &gt;Agenda: &lt;br /&gt;&lt;p&gt;&lt;span style=&quot;font-family: courier new\, courier\, monosp
 ace\; font-size: 12pt\;&quot;&gt;6:00 PM - Welcome and Introductions\, Chapter bus
 iness update\; (on your own) Pizza\, Popcorn and Soda Pop&lt;br /&gt;&lt;/span&gt;&lt;/p&gt;
 \n&lt;p&gt;&lt;span style=&quot;font-family: courier new\, courier\, monospace\; font-si
 ze: 12pt\;&quot;&gt;6:15 PM - Documentary&lt;/span&gt;&lt;/p&gt;\n&lt;p&gt;&lt;span style=&quot;font-family:
  courier new\, courier\, monospace\; font-size: 12pt\;&quot;&gt;7:15 PM - End of D
 ocumentary\; Start of Q &amp;amp\; A\; Group Discussion &lt;br /&gt;&lt;/span&gt;&lt;/p&gt;\n&lt;p&gt;
 &lt;span style=&quot;font-size: 12pt\;&quot;&gt;&lt;span style=&quot;font-family: courier new\, co
 urier\, monospace\;&quot;&gt;7:30 PM - Wrap Up&lt;/span&gt;&lt;span style=&quot;font-family: cou
 rier new\, courier\, monospace\;&quot;&gt;&amp;nbsp\;&lt;/span&gt;&lt;/span&gt;&lt;/p&gt;\n&lt;p&gt;&lt;span styl
 e=&quot;font-size: 12pt\;&quot;&gt;&amp;nbsp\;&lt;/span&gt;&lt;/p&gt;
END:VEVENT
END:VCALENDAR

