BEGIN:VCALENDAR
VERSION:2.0
PRODID:IEEE vTools.Events//EN
CALSCALE:GREGORIAN
BEGIN:VTIMEZONE
TZID:America/Argentina/Buenos_Aires
BEGIN:DAYLIGHT
DTSTART:20380119T001407
TZOFFSETFROM:-0300
TZOFFSETTO:-0300
RRULE:FREQ=YEARLY;BYDAY=3TU;BYMONTH=1
TZNAME:-03
END:DAYLIGHT
BEGIN:STANDARD
DTSTART:20090314T230000
TZOFFSETFROM:-0200
TZOFFSETTO:-0300
RRULE:FREQ=YEARLY;BYDAY=2SA;BYMONTH=3
TZNAME:-03
END:STANDARD
END:VTIMEZONE
BEGIN:VEVENT
DTSTAMP:20220824T221511Z
UID:1236CC14-5DBA-4FE3-AC48-645D396226BA
DTSTART;TZID=America/Argentina/Buenos_Aires:20220712T174500
DTEND;TZID=America/Argentina/Buenos_Aires:20220712T193000
DESCRIPTION:Estimados\,\n\nEl próximo martes 12 de julio de 2022 tendremos
  la quinta reunión virtual del Grupo de Afinidad de Socios Vitalicios de 
 Argentina (LMAG). En esta oportunidad la Dra. Natalia M. López disertará
  sobre &quot;Rehabilitación orientada a tareas: Tendencias en tecnologías asi
 stidas\, con integración sensorial y cognitiva&quot;\n\nLa reunión virtual co
 menzará a las 17:45 AR\, dedicando unos minutos a novedades LMAG y charla
  informal\, y la disertación técnica comenzará a las 18:00 AR.\n\nTodos
  los interesados son bienvenidos.\n\nA continuación encontrarán el resum
 en de la disertación\, un breve CV de la disertante y los datos de acceso
  a la reunión.\n\nResumen\n\nEl concepto de aprendizaje basado en tareas 
 específicas\, como disparadores de neuroplasticidad\, sugiere que las act
 ividades de la vida diaria pueden entrenarse y mejorarse en pacientes con 
 patologías neuromusculoesqueléticas mediante repeticiones.\n\nLa terapia
  de rehabilitación asistida cumple con estas funciones a través del movi
 miento funcional y la estimulación sensorial\, maximizando los resultados
  con un proceso cognitivo asociado que integra el movimiento en un plan ne
 uronal específico.\n\nEn los nuevos paradigmas de rehabilitación se obje
 tiviza el entrenamiento y el seguimiento de las mejoras en la movilidad y 
 desempeño del paciente\, optimizando el entrenamiento funcional. Asimismo
 \, se mejora la motivación del paciente gracias a la visualización y rea
 limentación por vías sensoriales\, especialmente visuales como la Realid
 ad Virtual\, táctiles\, y propioceptivas.\n\nEn esta charla se presentar
 án aspectos conceptuales y tecnológicos de la rehabilitación asistida o
 rientada a tareas\, con un enfoque integral del sistema nervioso-músculoe
 squelético-sensorial y propioceptivo. Además\, se analizarán los desaf
 íos que el contexto sanitario (especialmente el latinoamericano) encuentr
 a en los costos y descentralización de los sistemas de salud de alta comp
 lejidad.\n\nDisertante: Natalia M. López\n\nRecibió el título de Bioing
 eniera\, Magister y Doctora en Ingeniería de Control de la Universidad Na
 cional Juan (UNSJ) en 2001\, 2007 y 2010\, respectivamente.\n\nEn 2003 ing
 resó al Departamento de Tecnología Médica\, donde actualmente es Profes
 ora Asociada e Investigadora del CONICET (Consejo Nacional de Investigacio
 nes Científicas Técnicas).\n\nSu investigación se centra en registros e
 lectromiográficos y de microelectrodos\, procesamiento de señales\, disp
 ositivos de asistencia y la aplicación de la robótica en la neurorrehabi
 litación.\n\nEs Senior Member del IEEE\, fue Consejera de la Rama Estudia
 ntil de San Juan y Presidente de EMBS Argentina en dos oportunidades. Actu
 almente es Presidente de la Sección Argentina del IEEE.\n\n- - - - - - - 
 - - -\n\nFecha y hora: Martes 12 de julio de 2022\, 17:45 AR (UTC-3)\n\nIn
 scripción previa\n\nEl acceso a la sesión es libre y gratuito\, pero par
 a facilitar su gestión se agradecerá inscripción previa a través de &#39;R
 egistration&#39; en\n\nhttps://events.vtools.ieee.org/m/318178\n\nDatos de acc
 eso a la reunión Zoom\n\nhttps://us02web.zoom.us/j/85686972300?pwd=Aj5BRQ
 U6EznejvTskjROvqR0RBPZXf.1\n\nID de reunión: 856 8697 2300\n\nCódigo de 
 acceso: 197142\n\n- - - - - - - - - -\n\nLos esperamos!\n\nSaludos cordial
 es\,\n\nGustavo A. del Pino\nIEEE AR LMAG Chair 2022\ngadp2010@gmail.com\n
 \nAgenda: \nFecha y hora: Martes 12 de julio de 2022 - 17:45 a 19:30 AR (U
 TC-3)\n\nReunión virtual por Zoom\n\nVirtual: https://events.vtools.ieee.
 org/m/318178
LOCATION:Virtual: https://events.vtools.ieee.org/m/318178
ORGANIZER:info@ieee.org.ar
SEQUENCE:7
SUMMARY:IEEE AR LMAG - Disertación &quot;Rehabilitación orientada a tareas: Te
 ndencias en tecnologías asistidas\, con integración sensorial y cognitiv
 a&quot; (12/JUL/2022)
URL;VALUE=URI:https://events.vtools.ieee.org/m/318178
X-ALT-DESC:Description: &lt;br /&gt;&lt;p&gt;&lt;img src=&quot;https://site.ieee.org/argentina/
 files/ieeear_lmag_shortid_en.jpg&quot; width=&quot;350&quot; height=&quot;109&quot; /&gt;&lt;/p&gt;\n&lt;p&gt;&amp;nbs
 p\;&lt;/p&gt;\n&lt;p&gt;&lt;span style=&quot;font-family: verdana\, geneva\, sans-serif\; font
 -size: 12pt\;&quot;&gt;Estimados\,&lt;/span&gt;&lt;br /&gt;&lt;br /&gt;&lt;span style=&quot;font-family: ver
 dana\, geneva\, sans-serif\; font-size: 12pt\;&quot;&gt;&lt;strong&gt;El pr&amp;oacute\;ximo
  martes 12 de julio de 2022 tendremos la quinta reuni&amp;oacute\;n virtual de
 l Grupo de Afinidad de Socios Vitalicios de Argentina (LMAG).&amp;nbsp\; &lt;/str
 ong&gt;&lt;strong&gt;En esta oportunidad la Dra. Natalia M. L&amp;oacute\;pez disertar&amp;
 aacute\; sobre &quot;Rehabilitaci&amp;oacute\;n orientada a tareas: Tendencias en t
 ecnolog&amp;iacute\;as asistidas\, con integraci&amp;oacute\;n sensorial y cogniti
 va&quot;&lt;/strong&gt;&lt;/span&gt;&lt;/p&gt;\n&lt;p&gt;&lt;span style=&quot;font-family: verdana\, geneva\, s
 ans-serif\; font-size: 12pt\;&quot;&gt;La reuni&amp;oacute\;n virtual comenzar&amp;aacute\
 ; a las 17:45 AR\, dedicando unos minutos a novedades LMAG y charla inform
 al\, y la disertaci&amp;oacute\;n t&amp;eacute\;cnica comenzar&amp;aacute\; a las 18:0
 0 AR. &lt;/span&gt;&lt;/p&gt;\n&lt;p&gt;&lt;strong&gt;&lt;em&gt;&lt;span style=&quot;font-family: verdana\, gene
 va\, sans-serif\; font-size: 12pt\;&quot;&gt;Todos los interesados son bienvenidos
 .&amp;nbsp\;&amp;nbsp\;&lt;/span&gt;&lt;/em&gt;&lt;/strong&gt;&lt;br /&gt;&lt;br /&gt;&lt;span style=&quot;font-family: 
 verdana\, geneva\, sans-serif\; font-size: 12pt\;&quot;&gt;A continuaci&amp;oacute\;n 
 encontrar&amp;aacute\;n el resumen de la disertaci&amp;oacute\;n\, un breve CV de 
 la disertante y los datos de acceso a la reuni&amp;oacute\;n.&lt;/span&gt;&lt;br /&gt;&lt;br 
 /&gt;&lt;span style=&quot;font-size: 12pt\; font-family: verdana\, geneva\, sans-seri
 f\;&quot;&gt;&lt;strong&gt;Resumen&lt;/strong&gt;&lt;/span&gt;&lt;/p&gt;\n&lt;p&gt;&lt;span style=&quot;font-size: 12pt\
 ; font-family: verdana\, geneva\, sans-serif\;&quot;&gt;El concepto de aprendizaje
  basado en tareas espec&amp;iacute\;ficas\, como disparadores de neuroplastici
 dad\, sugiere que las actividades de la vida diaria pueden entrenarse y me
 jorarse en pacientes con patolog&amp;iacute\;as neuromusculoesquel&amp;eacute\;tic
 as mediante repeticiones. &lt;/span&gt;&lt;/p&gt;\n&lt;p&gt;&lt;span style=&quot;font-size: 12pt\; f
 ont-family: verdana\, geneva\, sans-serif\;&quot;&gt;La terapia de rehabilitaci&amp;oa
 cute\;n asistida cumple con estas funciones a trav&amp;eacute\;s del movimient
 o funcional y la estimulaci&amp;oacute\;n sensorial\, maximizando los resultad
 os con un proceso cognitivo asociado que integra el movimiento en un plan 
 neuronal espec&amp;iacute\;fico.&lt;br /&gt;&lt;/span&gt;&lt;/p&gt;\n&lt;p&gt;&lt;span style=&quot;font-size: 
 12pt\; font-family: verdana\, geneva\, sans-serif\;&quot;&gt;En los nuevos paradig
 mas de rehabilitaci&amp;oacute\;n se objetiviza el entrenamiento y el seguimie
 nto de las mejoras en la movilidad y desempe&amp;ntilde\;o del paciente\, opti
 mizando el entrenamiento funcional. Asimismo\, se mejora la motivaci&amp;oacut
 e\;n del paciente gracias a la visualizaci&amp;oacute\;n y realimentaci&amp;oacute
 \;n por v&amp;iacute\;as sensoriales\, especialmente visuales como la Realidad
  Virtual\, t&amp;aacute\;ctiles\, y propioceptivas.&lt;br /&gt;&lt;/span&gt;&lt;/p&gt;\n&lt;p&gt;&lt;span
  style=&quot;font-size: 12pt\; font-family: verdana\, geneva\, sans-serif\;&quot;&gt;En
  esta charla se presentar&amp;aacute\;n aspectos conceptuales y tecnol&amp;oacute\
 ;gicos de la rehabilitaci&amp;oacute\;n asistida orientada a tareas\, con un e
 nfoque integral del sistema nervioso-m&amp;uacute\;sculoesquel&amp;eacute\;tico-se
 nsorial y propioceptivo. Adem&amp;aacute\;s\, se analizar&amp;aacute\;n los desaf&amp;
 iacute\;os que el contexto sanitario (especialmente el latinoamericano) en
 cuentra en los costos y descentralizaci&amp;oacute\;n de los sistemas de salud
  de alta complejidad.&lt;strong&gt;&amp;nbsp\;&lt;/strong&gt;&lt;/span&gt;&lt;/p&gt;\n&lt;p&gt;&lt;span style=&quot;
 font-family: verdana\, geneva\, sans-serif\; font-size: 12pt\;&quot;&gt;&lt;strong&gt;Di
 sertante: Natalia M. L&amp;oacute\;pez&lt;/strong&gt;&lt;/span&gt;&lt;/p&gt;\n&lt;p&gt;&lt;span style=&quot;fo
 nt-family: verdana\, geneva\, sans-serif\; font-size: 12pt\;&quot;&gt;Recibi&amp;oacut
 e\; el t&amp;iacute\;tulo de Bioingeniera\, Magister y Doctora en Ingenier&amp;iac
 ute\;a de Control de la Universidad Nacional Juan (UNSJ) en 2001\, 2007 y 
 2010\, respectivamente. &lt;/span&gt;&lt;/p&gt;\n&lt;p&gt;&lt;span style=&quot;font-family: verdana\
 , geneva\, sans-serif\; font-size: 12pt\;&quot;&gt;En 2003 ingres&amp;oacute\; al Depa
 rtamento de Tecnolog&amp;iacute\;a M&amp;eacute\;dica\, donde actualmente es Profe
 sora Asociada e Investigadora del CONICET (Consejo Nacional de Investigaci
 ones Cient&amp;iacute\;ficas T&amp;eacute\;cnicas). &lt;/span&gt;&lt;/p&gt;\n&lt;p&gt;&lt;span style=&quot;f
 ont-family: verdana\, geneva\, sans-serif\; font-size: 12pt\;&quot;&gt;Su investig
 aci&amp;oacute\;n se centra en registros electromiogr&amp;aacute\;ficos y de micro
 electrodos\, procesamiento de se&amp;ntilde\;ales\, dispositivos de asistencia
  y la aplicaci&amp;oacute\;n de la rob&amp;oacute\;tica en la neurorrehabilitaci&amp;o
 acute\;n.&lt;/span&gt;&lt;/p&gt;\n&lt;p&gt;&lt;span style=&quot;font-family: verdana\, geneva\, sans
 -serif\; font-size: 12pt\;&quot;&gt;Es Senior Member del IEEE\, fue Consejera de l
 a Rama Estudiantil de San Juan y Presidente de EMBS Argentina en dos oport
 unidades. Actualmente es Presidente de la Secci&amp;oacute\;n Argentina del IE
 EE.&lt;/span&gt;&lt;/p&gt;\n&lt;p&gt;&lt;span style=&quot;font-family: verdana\, geneva\, sans-serif
 \; font-size: 12pt\;&quot;&gt;&lt;strong&gt;&amp;nbsp\;&lt;/strong&gt;- - - - - - - - - -&amp;nbsp\;&lt;/
 span&gt;&lt;/p&gt;\n&lt;p&gt;&lt;span style=&quot;font-family: verdana\, geneva\, sans-serif\;&quot;&gt;&lt;
 strong&gt;Fecha y hora: Martes 12 de julio de 2022\, 17:45 AR (UTC-3)&lt;/strong
 &gt;&lt;/span&gt;&lt;/p&gt;\n&lt;p&gt;&lt;span style=&quot;font-family: verdana\, geneva\, sans-serif\;
 &quot;&gt;&lt;strong&gt;Inscripci&amp;oacute\;n previa&lt;/strong&gt;&lt;/span&gt;&lt;/p&gt;\n&lt;p&gt;&lt;span style=&quot;
 font-family: verdana\, geneva\, sans-serif\;&quot;&gt;El acceso a la sesi&amp;oacute\;
 n es libre y gratuito\, pero para facilitar su gesti&amp;oacute\;n se agradece
 r&amp;aacute\; inscripci&amp;oacute\;n previa a trav&amp;eacute\;s de &#39;&lt;em&gt;&lt;strong&gt;Reg
 istration&lt;/strong&gt;&lt;/em&gt;&#39; en&amp;nbsp\;&lt;/span&gt;&lt;/p&gt;\n&lt;p&gt;&lt;a title=&quot;IEEE AR LMAG D
 isertaci&amp;oacute\;n N. L&amp;oacute\;pez &quot; href=&quot;https://events.vtools.ieee.org
 /m/318178&quot; target=&quot;_blank&quot; rel=&quot;noopener&quot;&gt;&lt;span style=&quot;font-family: verdan
 a\, geneva\, sans-serif\;&quot;&gt;https://events.vtools.ieee.org/m/318178&lt;/span&gt;&lt;
 /a&gt;&lt;/p&gt;\n&lt;p&gt;&lt;span style=&quot;font-family: verdana\, geneva\, sans-serif\;&quot;&gt;&lt;st
 rong&gt;Datos de acceso a la reuni&amp;oacute\;n Zoom&lt;/strong&gt;&lt;/span&gt;&lt;/p&gt;\n&lt;p&gt;&lt;sp
 an style=&quot;font-family: verdana\, geneva\, sans-serif\;&quot;&gt;https://us02web.zo
 om.us/j/85686972300?pwd=Aj5BRQU6EznejvTskjROvqR0RBPZXf.1&lt;/span&gt;&lt;/p&gt;\n&lt;p&gt;&lt;s
 pan style=&quot;font-family: verdana\, geneva\, sans-serif\;&quot;&gt;ID de reuni&amp;oacut
 e\;n: 856 8697 2300&lt;/span&gt;&lt;/p&gt;\n&lt;p&gt;&lt;span style=&quot;font-family: verdana\, gen
 eva\, sans-serif\;&quot;&gt;C&amp;oacute\;digo de acceso: 197142&lt;/span&gt;&lt;/p&gt;\n&lt;p&gt;&lt;span 
 style=&quot;font-family: verdana\, geneva\, sans-serif\; font-size: 12pt\;&quot;&gt;- -
  - - - - - - - -&amp;nbsp\;&lt;/span&gt;&lt;/p&gt;\n&lt;p&gt;&lt;span style=&quot;font-family: verdana\,
  geneva\, sans-serif\; font-size: 12pt\;&quot;&gt;Los esperamos!&amp;nbsp\;&lt;/span&gt;&lt;br 
 /&gt;&lt;br /&gt;&lt;span style=&quot;font-family: verdana\, geneva\, sans-serif\; font-siz
 e: 12pt\;&quot;&gt;Saludos cordiales\,&amp;nbsp\;&lt;/span&gt;&lt;br /&gt;&lt;br /&gt;&lt;span style=&quot;font-
 family: verdana\, geneva\, sans-serif\; font-size: 12pt\;&quot;&gt;&lt;strong&gt;Gustavo
  A. del Pino&lt;/strong&gt;&lt;/span&gt;&lt;br /&gt;&lt;span style=&quot;font-family: verdana\, gene
 va\, sans-serif\; font-size: 12pt\;&quot;&gt;IEEE&amp;nbsp\;AR LMAG Chair 2022&lt;/span&gt;&lt;
 br /&gt;&lt;span style=&quot;font-family: verdana\, geneva\, sans-serif\; font-size: 
 12pt\;&quot;&gt;&lt;a title=&quot;Contact&quot; href=&quot;mailto:gadp2010@gmail.com&quot; target=&quot;_blank
 &quot; rel=&quot;noopener&quot;&gt;gadp2010@gmail.com&lt;/a&gt;&lt;/span&gt;&lt;/p&gt;\n&lt;p&gt;&amp;nbsp\;&lt;/p&gt;&lt;br /&gt;&lt;b
 r /&gt;Agenda: &lt;br /&gt;&lt;p&gt;Fecha y hora: Martes 12 de julio de 2022 - 17:45 a 19
 :30 AR (UTC-3)&lt;/p&gt;\n&lt;p&gt;Reuni&amp;oacute\;n virtual por Zoom&lt;/p&gt;\n&lt;p&gt;&amp;nbsp\;&lt;/p
 &gt;
END:VEVENT
END:VCALENDAR

