BEGIN:VCALENDAR
VERSION:2.0
PRODID:IEEE vTools.Events//EN
CALSCALE:GREGORIAN
BEGIN:VTIMEZONE
TZID:Australia/Sydney
BEGIN:DAYLIGHT
DTSTART:20221002T030000
TZOFFSETFROM:+1000
TZOFFSETTO:+1100
RRULE:FREQ=YEARLY;BYDAY=1SU;BYMONTH=10
TZNAME:AEDT
END:DAYLIGHT
BEGIN:STANDARD
DTSTART:20220403T020000
TZOFFSETFROM:+1100
TZOFFSETTO:+1000
RRULE:FREQ=YEARLY;BYDAY=1SU;BYMONTH=4
TZNAME:AEST
END:STANDARD
END:VTIMEZONE
BEGIN:VEVENT
DTSTAMP:20220801T013319Z
UID:5C5D77F6-430B-4170-8705-5354FE55303C
DTSTART;TZID=Australia/Sydney:20220704T180000
DTEND;TZID=Australia/Sydney:20220704T190000
DESCRIPTION:This is an opportunity for the young professionals and students
  to meet academics\, researchers and professional from various backgrounds
 .\nMoreover IEEE NSW section committee members\, and different techical ch
 apters officers will also be attending the event.\nYou may discussion with
  them regarding your profesional journey or transition towards professiona
 l career\, and expand your profesional network.\n\n09WW\, Macquarie Univer
 sity\, New South Wales\, Australia
LOCATION:09WW\, Macquarie University\, New South Wales\, Australia
ORGANIZER:syed.abbas@mq.edu.au
SEQUENCE:3
SUMMARY:NSW YP Networking Event
URL;VALUE=URI:https://events.vtools.ieee.org/m/318294
X-ALT-DESC:Description: &lt;br /&gt;&lt;p&gt;This is an opportunity for the young profe
 ssionals and students to meet academics\, researchers and professional fro
 m various backgrounds.&lt;br /&gt;Moreover IEEE NSW section committee members\, 
 and different techical chapters officers will also be attending the event.
 &lt;br /&gt;You may discussion with them regarding your profesional journey or t
 ransition towards professional career\, and expand your profesional networ
 k.&lt;/p&gt;
END:VEVENT
END:VCALENDAR

