BEGIN:VCALENDAR
VERSION:2.0
PRODID:IEEE vTools.Events//EN
CALSCALE:GREGORIAN
BEGIN:VTIMEZONE
TZID:Asia/Kolkata
BEGIN:STANDARD
DTSTART:19451014T230000
TZOFFSETFROM:+0630
TZOFFSETTO:+0530
TZNAME:IST
END:STANDARD
END:VTIMEZONE
BEGIN:VEVENT
DTSTAMP:20220630T100205Z
UID:6DFFF969-655B-4E94-B15D-5283F8147B02
DTSTART;TZID=Asia/Kolkata:20220607T160000
DTEND;TZID=Asia/Kolkata:20220607T170000
DESCRIPTION:Classroom education will be more flashing with the amalgamation
  of innovation &amp; knowledge exchange. In the view of same RIT\, Roorkee ins
 titute of Technology tried and got one more coloured father in its cap as 
 got formal approval to host an IEEE sponsored 1st international Conference
  on Intelligent Computing &amp; Research Trends-2023 (ICRT&#39;2023- [http://icrt2
 023.myritroorkee.in/](http://icrt2023.myritroorkee.in/?fbclid=IwAR3vz5OJV3
 2a3lH4lNQC7_ksHLCfqji0os08AIsvIxIXdJCx_9O7O2i07x8))\, technically co-spons
 ored by the IEEE UP Section\, scheduled to be held on 3 &amp; 4 Feb 2023\, Fir
 st of its in RIT ‘s History. To celebrate and share this proud moment. A
 ll the members are invited in Conference Room\, Placement Cell at 4:00 pm 
 on 7th June 2022 to be official participation for IEEE –ICRT 2023 Offici
 al Website (icrt2023myritroorkee.com) Launching Ceremony.\n\nCo-sponsored 
 by: RIT IEEE Student Branch STB11763\n\nSpeaker(s): Mr Aman Kumar (Coordin
 ator R&amp;D Cell)\, \n\nAgenda: \nIEEE ICRT 2023 Official Website (https://ic
 rt2023.myritroorkee.com) Launching Ceremony.)\n\nRoom: Conference Room\, B
 ldg: 8TH KM DEHRADUN ROAD\, PUHANA\, 8TH KM DEHRADUN ROAD\, PUHANA\, ROORK
 EE\, Uttaranchal\, India\, 247667
LOCATION:Room: Conference Room\, Bldg: 8TH KM DEHRADUN ROAD\, PUHANA\, 8TH 
 KM DEHRADUN ROAD\, PUHANA\, ROORKEE\, Uttaranchal\, India\, 247667
ORGANIZER:researchcell@ritroorkee.com
SEQUENCE:0
SUMMARY:IEEE ICRT 2023 Official Website (https://icrt2023.myritroorkee.com)
  Launching Ceremony.)
URL;VALUE=URI:https://events.vtools.ieee.org/m/318320
X-ALT-DESC:Description: &lt;br /&gt;&lt;p&gt;Classroom education will be more flashing 
 with the amalgamation of innovation &amp;amp\; knowledge exchange. In the view
  of same&amp;nbsp\; RIT\, Roorkee institute of Technology tried and got one mo
 re coloured father in its cap as got formal approval to host an IEEE spons
 ored 1&lt;sup&gt;st&lt;/sup&gt;&amp;nbsp\; international Conference on Intelligent Computi
 ng &amp;amp\; Research Trends-2023 (ICRT&#39;2023- &lt;a href=&quot;http://icrt2023.myritr
 oorkee.in/?fbclid=IwAR3vz5OJV32a3lH4lNQC7_ksHLCfqji0os08AIsvIxIXdJCx_9O7O2
 i07x8&quot;&gt;http://icrt2023.myritroorkee.in/&lt;/a&gt;)\, technically co-sponsored by
  the IEEE UP Section\, scheduled to be held on 3 &amp;amp\; 4 Feb 2023\, First
  of its in RIT &amp;lsquo\;s History.&amp;nbsp\; To celebrate&amp;nbsp\; and share thi
 s proud moment. All the members are invited in&amp;nbsp\; Conference Room\, Pl
 acement Cell at 4:00 pm on 7&lt;sup&gt;th&lt;/sup&gt; June 2022 to be official partici
 pation for IEEE &amp;ndash\;ICRT 2023 &amp;nbsp\;Official Website (icrt2023myritro
 orkee.com) &amp;nbsp\;Launching Ceremony.&lt;/p&gt;&lt;br /&gt;&lt;br /&gt;Agenda: &lt;br /&gt;&lt;p&gt;IEEE
  ICRT 2023 Official Website &amp;nbsp\;(https://icrt2023.myritroorkee.com) &amp;nb
 sp\;Launching Ceremony.)&lt;/p&gt;
END:VEVENT
END:VCALENDAR

