BEGIN:VCALENDAR
VERSION:2.0
PRODID:IEEE vTools.Events//EN
CALSCALE:GREGORIAN
BEGIN:VTIMEZONE
TZID:America/Lima
BEGIN:DAYLIGHT
DTSTART:20380118T221407
TZOFFSETFROM:-0500
TZOFFSETTO:-0500
RRULE:FREQ=YEARLY;BYDAY=3MO;BYMONTH=1
TZNAME:-05
END:DAYLIGHT
BEGIN:STANDARD
DTSTART:19940331T230000
TZOFFSETFROM:-0400
TZOFFSETTO:-0500
RRULE:FREQ=YEARLY;BYDAY=-1TH;BYMONTH=3
TZNAME:-05
END:STANDARD
END:VTIMEZONE
BEGIN:VEVENT
DTSTAMP:20220902T175952Z
UID:62B7DCB6-64F6-4798-925F-BC0739D56A0D
DTSTART;TZID=America/Lima:20220701T110000
DTEND;TZID=America/Lima:20220701T122000
DESCRIPTION:El capítulo estudiantil IEEE EMBS UTP tiene el agrado de invit
 ar a la comunidad IEEE\, EMB y público en general de participar en la con
 ferencia &quot;Computer vision y análisis de imágenes biomédicas&quot; a cargo de
 l PhD. Jonathan Heras.\n\nDía: Viernes 1 de Julio\nHora: 11:00 am\n\nReg
 ístrate en: [https://forms.gle/wajRB1jtv9nzuecu6](https://forms.gle/wajRB
 1jtv9nzuecu6?fbclid=IwAR1evOkWlWoEuSKNmJWj5IXi0d7ti-6Pt79JFoD-p3LcBc_-ngRB
 eC34nd0)\n¡Te esperamos!\n\nSpeaker(s): PhD. Jonathan Heras\, \n\nVirtual
 : https://events.vtools.ieee.org/m/318405
LOCATION:Virtual: https://events.vtools.ieee.org/m/318405
ORGANIZER:info.embsutp@gmail.com
SEQUENCE:5
SUMMARY:Computer Vision y análisis de imágenes biomédicas
URL;VALUE=URI:https://events.vtools.ieee.org/m/318405
X-ALT-DESC:Description: &lt;br /&gt;&lt;div class=&quot;kvgmc6g5 cxmmr5t8 oygrvhab hcukyx
 3x c1et5uql ii04i59q&quot;&gt;\n&lt;div dir=&quot;auto&quot;&gt;El cap&amp;iacute\;tulo estudiantil IE
 EE EMBS UTP tiene el agrado de invitar a la comunidad IEEE\, EMB y p&amp;uacut
 e\;blico en general de participar en la conferencia &lt;em&gt;&lt;strong&gt;&quot;Computer 
 vision y an&amp;aacute\;lisis de im&amp;aacute\;genes biom&amp;eacute\;dicas&quot;&lt;/strong&gt;
 &lt;/em&gt; a cargo del PhD. Jonathan Heras.&lt;/div&gt;\n&lt;/div&gt;\n&lt;div class=&quot;cxmmr5t8
  oygrvhab hcukyx3x c1et5uql o9v6fnle ii04i59q&quot;&gt;\n&lt;div dir=&quot;auto&quot;&gt;D&amp;iacute\
 ;a: Viernes 1 de Julio&lt;/div&gt;\n&lt;div dir=&quot;auto&quot;&gt;Hora: 11:00 am&lt;/div&gt;\n&lt;/div&gt;
 \n&lt;div class=&quot;cxmmr5t8 oygrvhab hcukyx3x c1et5uql o9v6fnle ii04i59q&quot;&gt;\n&lt;di
 v dir=&quot;auto&quot;&gt;Reg&amp;iacute\;strate en: &lt;a class=&quot;oajrlxb2 g5ia77u1 qu0x051f e
 sr5mh6w e9989ue4 r7d6kgcz rq0escxv nhd2j8a9 nc684nl6 p7hjln8o kvgmc6g5 cxm
 mr5t8 oygrvhab hcukyx3x jb3vyjys rz4wbd8a qt6c0cv9 a8nywdso i1ao9s8h esuyz
 wwr f1sip0of lzcic4wl gpro0wi8 py34i1dx&quot; tabindex=&quot;0&quot; role=&quot;link&quot; href=&quot;ht
 tps://forms.gle/wajRB1jtv9nzuecu6?fbclid=IwAR1evOkWlWoEuSKNmJWj5IXi0d7ti-6
 Pt79JFoD-p3LcBc_-ngRBeC34nd0&quot; target=&quot;_blank&quot; rel=&quot;nofollow noopener&quot;&gt;http
 s://forms.gle/wajRB1jtv9nzuecu6&lt;/a&gt;&lt;/div&gt;\n&lt;div dir=&quot;auto&quot;&gt;&amp;iexcl\;Te espe
 ramos!&lt;/div&gt;\n&lt;/div&gt;
END:VEVENT
END:VCALENDAR

