BEGIN:VCALENDAR
VERSION:2.0
PRODID:IEEE vTools.Events//EN
CALSCALE:GREGORIAN
BEGIN:VTIMEZONE
TZID:America/Lima
BEGIN:DAYLIGHT
DTSTART:20380118T221407
TZOFFSETFROM:-0500
TZOFFSETTO:-0500
RRULE:FREQ=YEARLY;BYDAY=3MO;BYMONTH=1
TZNAME:-05
END:DAYLIGHT
BEGIN:STANDARD
DTSTART:19940331T230000
TZOFFSETFROM:-0400
TZOFFSETTO:-0500
RRULE:FREQ=YEARLY;BYDAY=-1TH;BYMONTH=3
TZNAME:-05
END:STANDARD
END:VTIMEZONE
BEGIN:VEVENT
DTSTAMP:20220813T190239Z
UID:3D28E349-F4A1-4361-BED7-695443CE91E3
DTSTART;TZID=America/Lima:20220810T160000
DTEND;TZID=America/Lima:20220810T180000
DESCRIPTION:CURSO ACADÉMICO EN ENERGÍA RENOVABLE - Estudios de operativid
 ad para plantas renovables no convencionales.\n\nEl curso tiene como objet
 ivo que el participante obtenga los conocimientos necesarios sobre la inco
 rporación de centrales renovables de generación no convencional. El curs
 o será de carácter teórico y práctico\; es decir\, se presentarán los
  conceptos básicos de cada tema con la\nfinalidad de poder aplicarlos al 
 final de cada lección.\nAsimismo\, se presentarán algunos casos orientad
 os al sector de energía y otras aplicaciones.\n\nCertificación: Para rec
 ibir la certificación del curso los participantes deberán cumplir con el
  75% de asistencia.\n\nMódulo 1: Introducción y Generalidades\n\nImpacto
  de las renovables en la red eléctrica\nImpacto en la estabilidad e inerc
 ia\nImpacto calidad de energía\nImpacto en el control de tensión y frecu
 encia\n\nMódulo 2: Fundamentos de las Energías Renovables\n\nFundamentos
  de la Energía Eólica\nPrincipio de conversión de energía\nSistemas e
 ólicos y configuraciones\nTipos de turbinas eólicas\nIntroducción a los
  Sistemas de control\nFundamentos de la Energía Solar Fotovoltaica\nPrinc
 ipio de conversión de energía\nTopologías y configuración de sistemas 
 fotovoltaicos.\nTipos de inversores\nIntroducción a los Sistemas de contr
 ol\n\nMódulo 3: Códigos de Red y Normativa Internacional\n\nNorma intern
 acionales y códigos de red\nFactor de potencia en el punto de conexión\n
 Soporte a la estabilidad de frecuencia\nSoporte a la estabilidad de tensi
 ón\nHuecos de tensión (LVRT)\nCalidad de potencia y otros Requerimientos
 \n\nMódulo 4: Control de Tensión\n\nFundamentos\nMétodos y dispositivos
  de control de tensión\nParticipación de la generación renovable en el 
 control de tensión\n\nMódulo 5: Control de Frecuencia\n\nInercia. Regula
 ción primaria – reguladores de velocidad.\nRegulación secundaria y AGC
 .\nParticipación de la generación renovable en el control de frecuencia.
 \n\nMódulo 6: Modelamiento en DIgSILENT PowerFactory\n\nParticipación de
  la generación renovable en el control de frecuencia.\n\nMódulo 6: Model
 amiento en DIgSILENT PowerFactory\n\nModelo generadores eólicos\nGenerado
 r de inducción doblemente alimentado (DFIG)\nGenerador con convertidor a 
 potencia nominal\nModelo de generadores fotovoltaicas\nModelo de instalaci
 ones de MT\nModelo de instalaciones de AT\n\nMódulo 7: Estudio de Flujo d
 e Carga\n\nFundamentos técnicos Información requerida y modelamiento\nMe
 todología y criterios\nEstudio de flujo de carga en condición N\nEstudio
  de contingencias en condición N-1\nCasos prácticos y reales con DIgSILE
 NT PowerFactory\n\nMódulo 8: Estudio de Compensación reactiva\n\nFundame
 ntos técnicos\nInformación requerida y modelamiento\nMetodología y crit
 erios\nEstudio de la compensación reactiva requerida en MT\nEstudio de la
  compensación reactiva requerida en AT\nCasos prácticos y reales con DIg
 SILENT PowerFactory\n\nMódulo 9: Estudio de Cortocircuito\n\nFundamentos 
 técnicos\nInformación requerida y modelamiento\nMetodología y criterios
 \nEstudio de cortocircuito\nCasos prácticos y reales con DIgSILENT\nPower
 Factory\n\nMódulo 10: Estudio de Calidad de Potencia\n\nFundamentos técn
 icos\nInformación requerida y modelamiento\nMetodología y criterios\nEst
 udio de armónicos y flicker\nCasos prácticos y reales con DIgSILENT Powe
 rFactory\n\nMódulo 11: Estudio de Estabilidad\n\nFundamentos técnicos In
 formación requerida Metodología y criterios\nEstudio de Estabilidad tran
 sitoria y de pequeña señal\nEstudio de Estabilidad de Frecuencia\nCasos 
 prácticos y reales con DIgSILENT PowerFactory\n\nINVERSIÓN:\nMiembros IE
 EE/CIP/CIGRE/AEP: USD 70.00\n\nPúblico en general: USD 80.00\n\nBANCO DE 
 CRÉDITO MONEDA SOLES:\n\nCuenta Corriente: Nº 191-1850478-0-95\nCCI: 002
 19100185047809550\n\nBANCO DE CRÉDITO MONEDA DÓLARES:\n\nCuenta Corrient
 e: N° 191-1191456-1-17\nCCI: 00219100119145611757\n\nSECCION PERU DEL THE
  INSTITUTE OF\nELECTRICAL AND ELECTRONICS ENGINEERS INC.\nRUC: 20502206134
 \nNombre Comercial: Sección Perú del IEEE\n\nENVIAR COMPROBANTE DE PAGO 
 A:\n\npes.peru@ieee.org.pe\,\ninformes@ieee.org.pe\,\nlisien.leon@ieee.org
 \,\nkarina.huanqui@ieee.org\,\nricardo.ariasvelasquez.eng@ieee.org\n\nCo-s
 ponsored by: HMV Ingenieros Ltda. Colombia y Perú\n\nSpeaker(s): Mario Al
 berto Suárez Cardona\, Miguel García Vélez\n\nAgenda: \nContenido del C
 urso:\n\nMódulo 1: Introducción y Generalidades\n\nMódulo 2: Fundamento
 s de las Energías Renovables\n\nMódulo 3: Códigos de Red y Normativa In
 ternacional\n\nMódulo 4: Control de Tensión\n\nMódulo 5: Control de Fre
 cuencia\n\nMódulo 6: Modelamiento en DIgSILENT PowerFactory\n\nMódulo 7:
  Estudio de Flujo de Carga\n\nMódulo 8: Estudio de Compensación reactiva
 \n\nMódulo 9: Estudio de Cortocircuito\n\nMódulo 10: Estudio de Calidad 
 de Potencia\n\nMódulo 11: Estudio de Estabilidad\n\nVirtual: https://even
 ts.vtools.ieee.org/m/318481
LOCATION:Virtual: https://events.vtools.ieee.org/m/318481
ORGANIZER:pes.peru@ieee.org
SEQUENCE:2
SUMMARY:CURSO ACADEMICO VIRTUAL EN ENERGÍA RENOVABLE (9 horas) dia 4
URL;VALUE=URI:https://events.vtools.ieee.org/m/318481
X-ALT-DESC:Description: &lt;br /&gt;&lt;p&gt;&lt;strong&gt;CURSO ACAD&amp;Eacute\;MICO EN ENERG&amp;I
 acute\;A RENOVABLE - Estudios de operatividad para plantas renovables no c
 onvencionales.&lt;br /&gt;&lt;/strong&gt;&lt;/p&gt;\n&lt;p&gt;El curso tiene como objetivo que el 
 participante obtenga los conocimientos necesarios sobre la incorporaci&amp;oac
 ute\;n de centrales renovables de generaci&amp;oacute\;n no convencional. El c
 urso ser&amp;aacute\; de car&amp;aacute\;cter te&amp;oacute\;rico y pr&amp;aacute\;ctico\;
  es decir\, se presentar&amp;aacute\;n los conceptos b&amp;aacute\;sicos de cada t
 ema con la&lt;br /&gt;finalidad de poder aplicarlos al final de cada lecci&amp;oacut
 e\;n.&lt;br /&gt;Asimismo\, se presentar&amp;aacute\;n algunos casos orientados al s
 ector de energ&amp;iacute\;a y otras aplicaciones.&lt;/p&gt;\n&lt;p&gt;Certificaci&amp;oacute\
 ;n: Para recibir la certificaci&amp;oacute\;n del curso los participantes debe
 r&amp;aacute\;n cumplir con el 75% de asistencia.&lt;/p&gt;\n&lt;p&gt;M&amp;oacute\;dulo 1: In
 troducci&amp;oacute\;n y Generalidades&lt;/p&gt;\n&lt;p&gt;Impacto de las renovables en la
  red el&amp;eacute\;ctrica&lt;br /&gt;Impacto en la estabilidad e inercia&lt;br /&gt;Impac
 to calidad de energ&amp;iacute\;a&lt;br /&gt;Impacto en el control de tensi&amp;oacute\;
 n y frecuencia&lt;/p&gt;\n&lt;p&gt;M&amp;oacute\;dulo 2: Fundamentos de las Energ&amp;iacute\;
 as Renovables&lt;/p&gt;\n&lt;p&gt;Fundamentos de la Energ&amp;iacute\;a E&amp;oacute\;lica&lt;br 
 /&gt;Principio de conversi&amp;oacute\;n de energ&amp;iacute\;a&lt;br /&gt;Sistemas e&amp;oacut
 e\;licos y configuraciones&lt;br /&gt;Tipos de turbinas e&amp;oacute\;licas&lt;br /&gt;Int
 roducci&amp;oacute\;n a los Sistemas de control&lt;br /&gt;Fundamentos de la Energ&amp;i
 acute\;a Solar Fotovoltaica&lt;br /&gt;Principio de conversi&amp;oacute\;n de energ&amp;
 iacute\;a&lt;br /&gt;Topolog&amp;iacute\;as y configuraci&amp;oacute\;n de sistemas foto
 voltaicos.&lt;br /&gt;Tipos de inversores&lt;br /&gt;Introducci&amp;oacute\;n a los Sistem
 as de control&lt;/p&gt;\n&lt;p&gt;M&amp;oacute\;dulo 3: C&amp;oacute\;digos de Red y Normativa
  Internacional&lt;/p&gt;\n&lt;p&gt;Norma internacionales y c&amp;oacute\;digos de red&lt;br /
 &gt;Factor de potencia en el punto de conexi&amp;oacute\;n&lt;br /&gt;Soporte a la esta
 bilidad de frecuencia&lt;br /&gt;Soporte a la estabilidad de tensi&amp;oacute\;n&lt;br 
 /&gt;Huecos de tensi&amp;oacute\;n (LVRT)&lt;br /&gt;Calidad de potencia y otros Requer
 imientos&lt;/p&gt;\n&lt;p&gt;M&amp;oacute\;dulo 4: Control de Tensi&amp;oacute\;n&lt;/p&gt;\n&lt;p&gt;Fund
 amentos&lt;br /&gt;M&amp;eacute\;todos y dispositivos de control de tensi&amp;oacute\;n&lt;
 br /&gt;Participaci&amp;oacute\;n de la generaci&amp;oacute\;n renovable en el contro
 l de tensi&amp;oacute\;n&lt;/p&gt;\n&lt;p&gt;M&amp;oacute\;dulo 5: Control de Frecuencia&lt;/p&gt;\n
 &lt;p&gt;Inercia. Regulaci&amp;oacute\;n primaria &amp;ndash\; reguladores de velocidad.
 &lt;br /&gt;Regulaci&amp;oacute\;n secundaria y AGC.&lt;br /&gt;Participaci&amp;oacute\;n de l
 a generaci&amp;oacute\;n renovable en el control de frecuencia.&lt;/p&gt;\n&lt;p&gt;M&amp;oacu
 te\;dulo 6: Modelamiento en DIgSILENT PowerFactory&lt;/p&gt;\n&lt;p&gt;Participaci&amp;oac
 ute\;n de la generaci&amp;oacute\;n renovable en el control de frecuencia.&lt;/p&gt;
 \n&lt;p&gt;M&amp;oacute\;dulo 6: Modelamiento en DIgSILENT PowerFactory&lt;/p&gt;\n&lt;p&gt;Mode
 lo generadores e&amp;oacute\;licos&lt;br /&gt;Generador de inducci&amp;oacute\;n dobleme
 nte alimentado (DFIG)&lt;br /&gt;Generador con convertidor a potencia nominal&lt;br
  /&gt;Modelo de generadores fotovoltaicas&lt;br /&gt;Modelo de instalaciones de MT&lt;
 br /&gt;Modelo de instalaciones de AT&lt;/p&gt;\n&lt;p&gt;M&amp;oacute\;dulo 7: Estudio de Fl
 ujo de Carga&lt;/p&gt;\n&lt;p&gt;Fundamentos t&amp;eacute\;cnicos Informaci&amp;oacute\;n requ
 erida y modelamiento&lt;br /&gt;Metodolog&amp;iacute\;a y criterios&lt;br /&gt;Estudio de 
 flujo de carga en condici&amp;oacute\;n N&lt;br /&gt;Estudio de contingencias en con
 dici&amp;oacute\;n N-1&lt;br /&gt;Casos pr&amp;aacute\;cticos y reales con DIgSILENT Pow
 erFactory&lt;/p&gt;\n&lt;p&gt;M&amp;oacute\;dulo 8: Estudio de Compensaci&amp;oacute\;n reacti
 va&lt;/p&gt;\n&lt;p&gt;Fundamentos t&amp;eacute\;cnicos&lt;br /&gt;Informaci&amp;oacute\;n requerida
  y modelamiento&lt;br /&gt;Metodolog&amp;iacute\;a y criterios&lt;br /&gt;Estudio de la co
 mpensaci&amp;oacute\;n reactiva requerida en MT&lt;br /&gt;Estudio de la compensaci&amp;
 oacute\;n reactiva requerida en AT&lt;br /&gt;Casos pr&amp;aacute\;cticos y reales c
 on DIgSILENT PowerFactory&lt;/p&gt;\n&lt;p&gt;M&amp;oacute\;dulo 9: Estudio de Cortocircui
 to&lt;/p&gt;\n&lt;p&gt;Fundamentos t&amp;eacute\;cnicos&lt;br /&gt;Informaci&amp;oacute\;n requerida
  y modelamiento&lt;br /&gt;Metodolog&amp;iacute\;a y criterios&lt;br /&gt;Estudio de corto
 circuito&lt;br /&gt;Casos pr&amp;aacute\;cticos y reales con DIgSILENT&lt;br /&gt;PowerFac
 tory&lt;/p&gt;\n&lt;p&gt;M&amp;oacute\;dulo 10: Estudio de Calidad de Potencia&lt;/p&gt;\n&lt;p&gt;Fun
 damentos t&amp;eacute\;cnicos&lt;br /&gt;Informaci&amp;oacute\;n requerida y modelamient
 o&lt;br /&gt;Metodolog&amp;iacute\;a y criterios&lt;br /&gt;Estudio de arm&amp;oacute\;nicos y
  flicker&lt;br /&gt;Casos pr&amp;aacute\;cticos y reales con DIgSILENT PowerFactory&lt;
 /p&gt;\n&lt;p&gt;M&amp;oacute\;dulo 11: Estudio de Estabilidad&lt;/p&gt;\n&lt;p&gt;Fundamentos t&amp;ea
 cute\;cnicos Informaci&amp;oacute\;n requerida Metodolog&amp;iacute\;a y criterios
 &lt;br /&gt;Estudio de Estabilidad transitoria y de peque&amp;ntilde\;a se&amp;ntilde\;a
 l&lt;br /&gt;Estudio de Estabilidad de Frecuencia&lt;br /&gt;Casos pr&amp;aacute\;cticos y
  reales con DIgSILENT PowerFactory&lt;/p&gt;\n&lt;p&gt;&lt;strong&gt;INVERSI&amp;Oacute\;N:&lt;/str
 ong&gt;&lt;br /&gt;Miembros IEEE/CIP/CIGRE/AEP: USD 70.00&lt;/p&gt;\n&lt;p&gt;P&amp;uacute\;blico e
 n general: USD 80.00&lt;/p&gt;\n&lt;p&gt;BANCO DE CR&amp;Eacute\;DITO MONEDA SOLES:&lt;/p&gt;\n&lt;
 p&gt;Cuenta Corriente: N&amp;ordm\; 191-1850478-0-95&lt;br /&gt;CCI: 002191001850478095
 50&lt;/p&gt;\n&lt;p&gt;BANCO DE CR&amp;Eacute\;DITO MONEDA D&amp;Oacute\;LARES:&lt;/p&gt;\n&lt;p&gt;Cuenta
  Corriente: N&amp;deg\; 191-1191456-1-17&lt;br /&gt;CCI: 00219100119145611757&lt;/p&gt;\n&lt;
 p&gt;SECCION PERU DEL THE INSTITUTE OF&lt;br /&gt;ELECTRICAL AND ELECTRONICS ENGINE
 ERS INC.&lt;br /&gt;RUC: 20502206134&lt;br /&gt;Nombre Comercial: Secci&amp;oacute\;n Per&amp;
 uacute\; del IEEE&lt;/p&gt;\n&lt;p&gt;&lt;strong&gt;ENVIAR COMPROBANTE DE PAGO A:&lt;/strong&gt;&lt;/
 p&gt;\n&lt;p&gt;pes.peru@ieee.org.pe\,&lt;br /&gt;informes@ieee.org.pe\,&lt;br /&gt;lisien.leon
 @ieee.org\,&lt;br /&gt;karina.huanqui@ieee.org\,&lt;br /&gt;ricardo.ariasvelasquez.eng
 @ieee.org&lt;/p&gt;&lt;br /&gt;&lt;br /&gt;Agenda: &lt;br /&gt;&lt;p&gt;&lt;strong&gt;Contenido del Curso:&lt;/st
 rong&gt;&lt;/p&gt;\n&lt;p&gt;M&amp;oacute\;dulo 1: Introducci&amp;oacute\;n y Generalidades&lt;/p&gt;\n
 &lt;p&gt;M&amp;oacute\;dulo 2: Fundamentos de las Energ&amp;iacute\;as Renovables&lt;/p&gt;\n&lt;
 p&gt;M&amp;oacute\;dulo 3: C&amp;oacute\;digos de Red y Normativa Internacional&lt;/p&gt;\n
 &lt;p&gt;M&amp;oacute\;dulo 4: Control de Tensi&amp;oacute\;n&lt;/p&gt;\n&lt;p&gt;M&amp;oacute\;dulo 5: 
 Control de Frecuencia&lt;/p&gt;\n&lt;p&gt;M&amp;oacute\;dulo 6: Modelamiento en DIgSILENT 
 PowerFactory&lt;/p&gt;\n&lt;p&gt;M&amp;oacute\;dulo 7: Estudio de Flujo de Carga&lt;/p&gt;\n&lt;p&gt;M
 &amp;oacute\;dulo 8: Estudio de Compensaci&amp;oacute\;n reactiva&lt;/p&gt;\n&lt;p&gt;M&amp;oacute
 \;dulo 9: Estudio de Cortocircuito&lt;/p&gt;\n&lt;p&gt;M&amp;oacute\;dulo 10: Estudio de C
 alidad de Potencia&lt;/p&gt;\n&lt;p&gt;M&amp;oacute\;dulo 11: Estudio de Estabilidad&lt;/p&gt;
END:VEVENT
END:VCALENDAR

