BEGIN:VCALENDAR
VERSION:2.0
PRODID:IEEE vTools.Events//EN
CALSCALE:GREGORIAN
BEGIN:VTIMEZONE
TZID:America/New_York
BEGIN:DAYLIGHT
DTSTART:20220313T030000
TZOFFSETFROM:-0500
TZOFFSETTO:-0400
RRULE:FREQ=YEARLY;BYDAY=2SU;BYMONTH=3
TZNAME:EDT
END:DAYLIGHT
BEGIN:STANDARD
DTSTART:20221106T010000
TZOFFSETFROM:-0400
TZOFFSETTO:-0500
RRULE:FREQ=YEARLY;BYDAY=1SU;BYMONTH=11
TZNAME:EST
END:STANDARD
END:VTIMEZONE
BEGIN:VEVENT
DTSTAMP:20220721T130056Z
UID:15A2677C-E8CC-411D-93FF-DB8BB8986C37
DTSTART;TZID=America/New_York:20220714T110000
DTEND;TZID=America/New_York:20220714T120500
DESCRIPTION:The Mid-Hudson Valley Chapter of the IEEE Electron Devices Soci
 ety is pleased to present a two-part Disitinguished Lecture given by Dr. M
 ichael Shur\, Patricia W. and C. Sheldon Roberts Professor of Electrical\,
  Computer\, and Systems Engineering and Physics\, Applied Physics\, and As
 tronomy.\n\nSpeaker(s): Dr. Michael Shur\, Dr. Michael Shur\n\nAgenda: \n1
 . IEEE and MHV EDS Overview - 5 min\n\n2. Distinguished Lecture #1: Physic
 s-based approach to monitoring pandemic evolution - 30min\n\n3. Distinguis
 hed Lecture #2: Counter-Intuitive Physics of Ballsitic Transport in the St
 ate-of-the-Art Silicon CMOS - 30 min\n\nVirtual: https://events.vtools.iee
 e.org/m/318928
LOCATION:Virtual: https://events.vtools.ieee.org/m/318928
ORGANIZER:akil.sutton@ieee.org
SEQUENCE:11
SUMMARY:IEEE EDS Mid-Hudson Section Distinguished Lecture Series with Dr. M
 ichael Shur
URL;VALUE=URI:https://events.vtools.ieee.org/m/318928
X-ALT-DESC:Description: &lt;br /&gt;&lt;p&gt;&lt;span style=&quot;font-family: verdana\, geneva
 \, sans-serif\;&quot;&gt;The Mid-Hudson Valley Chapter of the IEEE Electron Device
 s Society is pleased to present a two-part Disitinguished Lecture given by
  Dr. Michael Shur\, Patricia W. and C. Sheldon Roberts Professor of Electr
 ical\, Computer\, and Systems Engineering and Physics\, Applied Physics\, 
 and Astronomy.&lt;/span&gt;&lt;/p&gt;&lt;br /&gt;&lt;br /&gt;Agenda: &lt;br /&gt;&lt;p&gt;&lt;span style=&quot;font-fa
 mily: verdana\, geneva\, sans-serif\;&quot;&gt;1. IEEE and MHV EDS Overview - 5 mi
 n&lt;/span&gt;&lt;/p&gt;\n&lt;p&gt;&lt;span style=&quot;font-family: verdana\, geneva\, sans-serif\;
 &quot;&gt;2. Distinguished Lecture #1: Physics-based approach to monitoring pandem
 ic evolution - 30min&lt;/span&gt;&lt;/p&gt;\n&lt;p&gt;&lt;span style=&quot;font-family: verdana\, ge
 neva\, sans-serif\;&quot;&gt;3. Distinguished Lecture #2: Counter-Intuitive Physic
 s of Ballsitic Transport in the State-of-the-Art Silicon CMOS - 30 min&lt;/sp
 an&gt;&lt;/p&gt;\n&lt;p&gt;&amp;nbsp\;&lt;/p&gt;
END:VEVENT
END:VCALENDAR

