BEGIN:VCALENDAR
VERSION:2.0
PRODID:IEEE vTools.Events//EN
CALSCALE:GREGORIAN
BEGIN:VTIMEZONE
TZID:America/Lima
BEGIN:DAYLIGHT
DTSTART:20380118T221407
TZOFFSETFROM:-0500
TZOFFSETTO:-0500
RRULE:FREQ=YEARLY;BYDAY=3MO;BYMONTH=1
TZNAME:-05
END:DAYLIGHT
BEGIN:STANDARD
DTSTART:19940331T230000
TZOFFSETFROM:-0400
TZOFFSETTO:-0500
RRULE:FREQ=YEARLY;BYDAY=-1TH;BYMONTH=3
TZNAME:-05
END:STANDARD
END:VTIMEZONE
BEGIN:VEVENT
DTSTAMP:20220719T000059Z
UID:DE0729CB-F896-440A-8433-7CF69B00C8D9
DTSTART;TZID=America/Lima:20220711T200000
DTEND;TZID=America/Lima:20220711T230000
DESCRIPTION:Evento de orientación vocacional dirigido a aquellos estudiant
 es que desean ingresar a estudiar una carrera universitaria en ingeniería
  pero aún no se han decidido a cuál donde tocaremos las carreras de Inge
 niería Eléctrica y Electrónica.\n\nSpeaker(s): ALEXANDRA MARISOL MEZA T
 AMANI\, CÉSAR AURELIO ATUSPARIA ALHUA\n\nVirtual: https://events.vtools.i
 eee.org/m/318945
LOCATION:Virtual: https://events.vtools.ieee.org/m/318945
ORGANIZER:manuel_2001.17@ieee.org
SEQUENCE:4
SUMMARY:1er Día de Ciencias e Ingenierías en la UNAC
URL;VALUE=URI:https://events.vtools.ieee.org/m/318945
X-ALT-DESC:Description: &lt;br /&gt;&lt;p&gt;Evento de orientaci&amp;oacute\;n vocacional d
 irigido a aquellos estudiantes que desean ingresar a estudiar una carrera 
 universitaria en ingenier&amp;iacute\;a pero a&amp;uacute\;n no se han decidido a 
 cu&amp;aacute\;l donde tocaremos las carreras de Ingenier&amp;iacute\;a El&amp;eacute\
 ;ctrica y Electr&amp;oacute\;nica.&lt;/p&gt;
END:VEVENT
END:VCALENDAR

