BEGIN:VCALENDAR
VERSION:2.0
PRODID:IEEE vTools.Events//EN
CALSCALE:GREGORIAN
BEGIN:VTIMEZONE
TZID:America/New_York
BEGIN:DAYLIGHT
DTSTART:20220313T030000
TZOFFSETFROM:-0500
TZOFFSETTO:-0400
RRULE:FREQ=YEARLY;BYDAY=2SU;BYMONTH=3
TZNAME:EDT
END:DAYLIGHT
BEGIN:STANDARD
DTSTART:20221106T010000
TZOFFSETFROM:-0400
TZOFFSETTO:-0500
RRULE:FREQ=YEARLY;BYDAY=1SU;BYMONTH=11
TZNAME:EST
END:STANDARD
END:VTIMEZONE
BEGIN:VEVENT
DTSTAMP:20221120T174641Z
UID:F97D2F6A-E047-4048-9CD4-804F0FBD60AA
DTSTART;TZID=America/New_York:20221103T180000
DTEND;TZID=America/New_York:20221103T193000
DESCRIPTION:A beer cart sponsorship upgrade (limit 1) entitles you to one f
 ree table with preferential placement\, logo inclusion on the symposium fl
 yers and posters\, and 100 tickets for you to give out to attendees for a 
 free beer. (Beer cart opens at 6 PM.)\n\nHauppauge Radisson\, 110 Motor Pa
 rkway\, Hauppauge\, Long Island\, New York\, United States\, 11788
LOCATION:Hauppauge Radisson\, 110 Motor Parkway\, Hauppauge\, Long Island\,
  New York\, United States\, 11788
ORGANIZER:colotti@telephonics.com
SEQUENCE:7
SUMMARY:Beer Cart Sponsor Registration\, IEEE LI Power Symposium
URL;VALUE=URI:https://events.vtools.ieee.org/m/319282
X-ALT-DESC:Description: &lt;br /&gt;&lt;p&gt;A beer cart sponsorship upgrade (limit 1) 
 entitles you to one free table with preferential placement\, logo inclusio
 n on the symposium flyers and posters\, and 100 tickets for you to give ou
 t to attendees for a free beer. (Beer cart opens at 6 PM.)&lt;/p&gt;
END:VEVENT
END:VCALENDAR

