BEGIN:VCALENDAR
VERSION:2.0
PRODID:IEEE vTools.Events//EN
CALSCALE:GREGORIAN
BEGIN:VTIMEZONE
TZID:America/Los_Angeles
BEGIN:DAYLIGHT
DTSTART:20220313T030000
TZOFFSETFROM:-0800
TZOFFSETTO:-0700
RRULE:FREQ=YEARLY;BYDAY=2SU;BYMONTH=3
TZNAME:PDT
END:DAYLIGHT
BEGIN:STANDARD
DTSTART:20221106T010000
TZOFFSETFROM:-0700
TZOFFSETTO:-0800
RRULE:FREQ=YEARLY;BYDAY=1SU;BYMONTH=11
TZNAME:PST
END:STANDARD
END:VTIMEZONE
BEGIN:VEVENT
DTSTAMP:20220928T170102Z
UID:406CC8B0-6127-4E5C-8E3B-55E002414915
DTSTART;TZID=America/Los_Angeles:20220921T120000
DTEND;TZID=America/Los_Angeles:20220921T133000
DESCRIPTION:AI is notoriously resource-heavy\, requiring significant comput
 e\, memory\, and power\, which makes it very difficult to deploy in highly
  constrained environments such as IoT and consumer endpoints. Practical de
 ployment of sophisticated AI requires solving for all three constraints. T
 his talk covers recent algorithmic\, architectural\, and technological inn
 ovations that are converging to enable truly useful AI everywhere.\n\nABOU
 T SPEAKER\n\nCarlos Morales - VP of Aritificial Intelligence\n\nVirtual: h
 ttps://events.vtools.ieee.org/m/319486
LOCATION:Virtual: https://events.vtools.ieee.org/m/319486
ORGANIZER:olga@myactionspot.com
SEQUENCE:3
SUMMARY:Endpoint AI Requires Innovative Solutions for Compute\, Memory\, an
 d Power
URL;VALUE=URI:https://events.vtools.ieee.org/m/319486
X-ALT-DESC:Description: &lt;br /&gt;&lt;p data-key=&quot;2&quot;&gt;&lt;span data-key=&quot;3&quot;&gt;AI is noto
 riously resource-heavy\, requiring significant compute\, memory\, and powe
 r\, which makes it very difficult to deploy in highly constrained environm
 ents such as IoT and consumer endpoints. Practical deployment of sophistic
 ated AI requires solving for all three constraints. This talk covers recen
 t algorithmic\, architectural\, and technological innovations that are con
 verging to enable truly useful AI everywhere.&lt;/span&gt;&lt;/p&gt;\n&lt;p data-key=&quot;4&quot;&gt;
 &lt;span data-key=&quot;5&quot;&gt;ABOUT SPEAKER&lt;/span&gt;&lt;/p&gt;\n&lt;p data-key=&quot;6&quot; data-slate-fr
 agment=&quot;JTdCJTIyb2JqZWN0JTIyJTNBJTIyZG9jdW1lbnQlMjIlMkMlMjJkYXRhJTIyJTNBJT
 dCJTdEJTJDJTIybm9kZXMlMjIlM0ElNUIlN0IlMjJvYmplY3QlMjIlM0ElMjJibG9jayUyMiUy
 QyUyMnR5cGUlMjIlM0ElMjJwYXJhZ3JhcGglMjIlMkMlMjJkYXRhJTIyJTNBJTdCJTIyY2xhc3
 NOYW1lJTIyJTNBbnVsbCU3RCUyQyUyMm5vZGVzJTIyJTNBJTVCJTdCJTIyb2JqZWN0JTIyJTNB
 JTIydGV4dCUyMiUyQyUyMmxlYXZlcyUyMiUzQSU1QiU3QiUyMm9iamVjdCUyMiUzQSUyMmxlYW
 YlMjIlMkMlMjJ0ZXh0JTIyJTNBJTIyQUklMjBpcyUyMG5vdG9yaW91c2x5JTIwcmVzb3VyY2Ut
 aGVhdnklMkMlMjByZXF1aXJpbmclMjBzaWduaWZpY2FudCUyMGNvbXB1dGUlMkMlMjBtZW1vcn
 klMkMlMjBhbmQlMjBwb3dlciUyQyUyMHdoaWNoJTIwbWFrZXMlMjBpdCUyMHZlcnklMjBkaWZm
 aWN1bHQlMjB0byUyMGRlcGxveSUyMGluJTIwaGlnaGx5JTIwY29uc3RyYWluZWQlMjBlbnZpcm
 9ubWVudHMlMjBzdWNoJTIwYXMlMjBJb1QlMjBhbmQlMjBjb25zdW1lciUyMGVuZHBvaW50cy4l
 MjBQcmFjdGljYWwlMjBkZXBsb3ltZW50JTIwb2YlMjBzb3BoaXN0aWNhdGVkJTIwQUklMjByZX
 F1aXJlcyUyMHNvbHZpbmclMjBmb3IlMjBhbGwlMjB0aHJlZSUyMGNvbnN0cmFpbnRzLiUyMFRo
 aXMlMjB0YWxrJTIwY292ZXJzJTIwcmVjZW50JTIwYWxnb3JpdGhtaWMlMkMlMjBhcmNoaXRlY3
 R1cmFsJTJDJTIwYW5kJTIwdGVjaG5vbG9naWNhbCUyMGlubm92YXRpb25zJTIwdGhhdCUyMGFy
 ZSUyMGNvbnZlcmdpbmclMjB0byUyMGVuYWJsZSUyMHRydWx5JTIwdXNlZnVsJTIwQUklMjBldm
 VyeXdoZXJlLiUyMiUyQyUyMm1hcmtzJTIyJTNBJTVCJTVEJTdEJTVEJTdEJTVEJTdEJTJDJTdC
 JTIyb2JqZWN0JTIyJTNBJTIyYmxvY2slMjIlMkMlMjJ0eXBlJTIyJTNBJTIycGFyYWdyYXBoJT
 IyJTJDJTIyZGF0YSUyMiUzQSU3QiUyMmNsYXNzTmFtZSUyMiUzQW51bGwlN0QlMkMlMjJub2Rl
 cyUyMiUzQSU1QiU3QiUyMm9iamVjdCUyMiUzQSUyMnRleHQlMjIlMkMlMjJsZWF2ZXMlMjIlM0
 ElNUIlN0IlMjJvYmplY3QlMjIlM0ElMjJsZWFmJTIyJTJDJTIydGV4dCUyMiUzQSUyMkFCT1VU
 JTIwU1BFQUtFUiUyMiUyQyUyMm1hcmtzJTIyJTNBJTVCJTVEJTdEJTVEJTdEJTVEJTdEJTJDJT
 dCJTIyb2JqZWN0JTIyJTNBJTIyYmxvY2slMjIlMkMlMjJ0eXBlJTIyJTNBJTIycGFyYWdyYXBo
 JTIyJTJDJTIyZGF0YSUyMiUzQSU3QiUyMmNsYXNzTmFtZSUyMiUzQW51bGwlN0QlMkMlMjJub2
 RlcyUyMiUzQSU1QiU3QiUyMm9iamVjdCUyMiUzQSUyMnRleHQlMjIlMkMlMjJsZWF2ZXMlMjIl
 M0ElNUIlN0IlMjJvYmplY3QlMjIlM0ElMjJsZWFmJTIyJTJDJTIydGV4dCUyMiUzQSUyMkNhcm
 xvcyUyME1vcmFsZXMlMjAtJTIwVlAlMjBvZiUyMEFyaXRpZmljaWFsJTIwSW50ZWxsaWdlbmNl
 JTIyJTJDJTIybWFya3MlMjIlM0ElNUIlNUQlN0QlNUQlN0QlNUQlN0QlMkMlN0IlMjJvYmplY3
 QlMjIlM0ElMjJibG9jayUyMiUyQyUyMnR5cGUlMjIlM0ElMjJwYXJhZ3JhcGglMjIlMkMlMjJk
 YXRhJTIyJTNBJTdCJTIyY2xhc3NOYW1lJTIyJTNBbnVsbCU3RCUyQyUyMm5vZGVzJTIyJTNBJT
 VCJTdCJTIyb2JqZWN0JTIyJTNBJTIydGV4dCUyMiUyQyUyMmxlYXZlcyUyMiUzQSU1QiU3QiUy
 Mm9iamVjdCUyMiUzQSUyMmxlYWYlMjIlMkMlMjJ0ZXh0JTIyJTNBJTIyJTIyJTJDJTIybWFya3
 MlMjIlM0ElNUIlNUQlN0QlNUQlN0QlNUQlN0QlNUQlN0Q=&quot;&gt;&lt;span data-key=&quot;7&quot;&gt;Carlos 
 Morales - VP of Aritificial Intelligence&lt;/span&gt;&lt;/p&gt;\n&lt;p data-key=&quot;8&quot;&gt;&amp;nbsp
 \;&lt;/p&gt;
END:VEVENT
END:VCALENDAR

