BEGIN:VCALENDAR
VERSION:2.0
PRODID:IEEE vTools.Events//EN
CALSCALE:GREGORIAN
BEGIN:VTIMEZONE
TZID:Europe/Zurich
BEGIN:DAYLIGHT
DTSTART:20220327T030000
TZOFFSETFROM:+0100
TZOFFSETTO:+0200
RRULE:FREQ=YEARLY;BYDAY=-1SU;BYMONTH=3
TZNAME:CEST
END:DAYLIGHT
BEGIN:STANDARD
DTSTART:20221030T020000
TZOFFSETFROM:+0200
TZOFFSETTO:+0100
RRULE:FREQ=YEARLY;BYDAY=-1SU;BYMONTH=10
TZNAME:CET
END:STANDARD
END:VTIMEZONE
BEGIN:VEVENT
DTSTAMP:20220720T080209Z
UID:A9C4531B-1F53-4736-976E-DB4D7A4DD224
DTSTART;TZID=Europe/Zurich:20220330T161500
DTEND;TZID=Europe/Zurich:20220330T171500
DESCRIPTION:Meeting with Kristen Irwin from EPFL concerning event preparati
 on. Agreement on the scope of the event\, and the expected dates. We decid
 ed to divide it into two parts. First part would be an online informative 
 event concerning founding opportunities in Switzerland. The second part wo
 uld be an in person workshop for proposal writing. Further agreements will
  be done after checking preferences of young professionals by pooling.\n\n
 Virtual: https://events.vtools.ieee.org/m/320166
LOCATION:Virtual: https://events.vtools.ieee.org/m/320166
ORGANIZER:yp-switzerland@ieee.org
SEQUENCE:0
SUMMARY:Meeting with our guest for proposal writing workshop
URL;VALUE=URI:https://events.vtools.ieee.org/m/320166
X-ALT-DESC:Description: &lt;br /&gt;&lt;p&gt;Meeting with Kristen Irwin from EPFL conce
 rning event preparation. Agreement on the scope of the event\, and the exp
 ected dates. We decided to divide it into two parts. First part would be a
 n online informative event concerning founding opportunities in Switzerlan
 d. The second part would be an in person workshop for proposal writing. Fu
 rther agreements will be done after checking preferences of young professi
 onals by pooling.&amp;nbsp\;&lt;/p&gt;
END:VEVENT
END:VCALENDAR

