BEGIN:VCALENDAR
VERSION:2.0
PRODID:IEEE vTools.Events//EN
CALSCALE:GREGORIAN
BEGIN:VTIMEZONE
TZID:Asia/Kolkata
BEGIN:STANDARD
DTSTART:19451014T230000
TZOFFSETFROM:+0630
TZOFFSETTO:+0530
TZNAME:IST
END:STANDARD
END:VTIMEZONE
BEGIN:VEVENT
DTSTAMP:20220827T152944Z
UID:E659A403-63D8-49BD-9C84-2BC8943FBA7D
DTSTART;TZID=Asia/Kolkata:20220820T150000
DTEND;TZID=Asia/Kolkata:20220824T190000
DESCRIPTION:Celebrating the 75th Anniversary of the Transistor with\n\nIEEE
  EDS Summer School on &quot;Recent Trends in Micro/Nanoelectronics Devices&quot;\n\n
 Co-sponsored by: Dr. Trupti R. Lenka\n\nAgenda: \nCelebrating the 75th Ann
 iversary of the Transistor with\n\nIEEE EDS Summer School on &quot;Recent Trend
 s in Micro/Nanoelectronics Devices&quot;\n\nfrom 20-24 Aug 2022\n\nVirtual: htt
 ps://events.vtools.ieee.org/m/320172
LOCATION:Virtual: https://events.vtools.ieee.org/m/320172
ORGANIZER:trlenka@ieee.org
SEQUENCE:5
SUMMARY:IEEE EDS Summer School on &quot;Recent Trends in Micro/Nanoelectronics D
 evices&quot;
URL;VALUE=URI:https://events.vtools.ieee.org/m/320172
X-ALT-DESC:Description: &lt;br /&gt;&lt;p&gt;Celebrating the 75th Anniversary of the Tr
 ansistor with&lt;/p&gt;\n&lt;p&gt;IEEE EDS Summer School on &quot;Recent Trends in Micro/Na
 noelectronics Devices&quot;&lt;/p&gt;&lt;br /&gt;&lt;br /&gt;Agenda: &lt;br /&gt;&lt;p&gt;Celebrating the 75t
 h Anniversary of the Transistor with&lt;/p&gt;\n&lt;p&gt;IEEE EDS Summer School on &quot;Re
 cent Trends in Micro/Nanoelectronics Devices&quot;&lt;/p&gt;\n&lt;p&gt;from 20-24 Aug 2022&lt;
 /p&gt;
END:VEVENT
END:VCALENDAR

