BEGIN:VCALENDAR
VERSION:2.0
PRODID:IEEE vTools.Events//EN
CALSCALE:GREGORIAN
BEGIN:VTIMEZONE
TZID:America/New_York
BEGIN:DAYLIGHT
DTSTART:20220313T030000
TZOFFSETFROM:-0500
TZOFFSETTO:-0400
RRULE:FREQ=YEARLY;BYDAY=2SU;BYMONTH=3
TZNAME:EDT
END:DAYLIGHT
BEGIN:STANDARD
DTSTART:20221106T010000
TZOFFSETFROM:-0400
TZOFFSETTO:-0500
RRULE:FREQ=YEARLY;BYDAY=1SU;BYMONTH=11
TZNAME:EST
END:STANDARD
END:VTIMEZONE
BEGIN:VEVENT
DTSTAMP:20220929T193448Z
UID:A320F682-4EBA-431D-886D-FC10B2576603
DTSTART;TZID=America/New_York:20220811T081500
DTEND;TZID=America/New_York:20220811T123000
DESCRIPTION:Various speakers will give talks on advanced technologies for i
 nter-chiplet connectivity\n\nSpeaker(s): Various speakers\, \n\nAgenda: \n
 Vineet Pancholi\, Sr Director\, Test Technology\, Amkor Technology\, Inc.\
 , Topic: Advanced Technologies for Inter- Chiplet Connectivity\n\nDr. Ning
 -Cheng Lee \, ShinePure Hi-Tech\, Topic: Material Considerations for high 
 Reliability Pb-Free Solder Joints\n\nDr. Tanja Braun\, Fraunhofer IZM\, De
 pt. System Integration and Interconnection Technologies\, Topic: Advanced 
 Packaging – Key for Heterogeneous Integration\n\nDr. Junghyun Cho\, Prof
 essor\, SUNY Binghamton\, Topic: Bonding Technologies toward Ultra Fine Pi
 tch 3D Interconnection\n\nBldg: NFS auditorium\, 255 Fuller Rd\, Albany\, 
 New York\, United States\, 12203-3603
LOCATION:Bldg: NFS auditorium\, 255 Fuller Rd\, Albany\, New York\, United 
 States\, 12203-3603
ORGANIZER:sathya.r@ibm.com
SEQUENCE:11
SUMMARY:Mini Colloquium on Advanced Technology for Inter-Chiplet Connectivi
 ty
URL;VALUE=URI:https://events.vtools.ieee.org/m/320609
X-ALT-DESC:Description: &lt;br /&gt;&lt;p&gt;Various speakers will give talks on advanc
 ed technologies for inter-chiplet connectivity&lt;/p&gt;&lt;br /&gt;&lt;br /&gt;Agenda: &lt;br 
 /&gt;&lt;p&gt;&lt;span style=&quot;font-size: 12pt\;&quot;&gt;Vineet Pancholi\,&amp;nbsp\;Sr Director\,
  Test Technology\, Amkor Technology\, Inc.\, Topic: &lt;strong&gt;Advanced Techn
 ologies for Inter- Chiplet Connectivity&lt;/strong&gt;&amp;nbsp\;&lt;/span&gt;&lt;/p&gt;\n&lt;p&gt;&lt;sp
 an style=&quot;font-size: 12pt\;&quot;&gt;Dr. Ning-Cheng Lee \, ShinePure Hi-Tech\, Top
 ic: &lt;strong&gt;Material Considerations for high Reliability Pb-Free Solder Jo
 ints&lt;/strong&gt;&amp;nbsp\;&lt;/span&gt;&lt;/p&gt;\n&lt;p&gt;&lt;span style=&quot;font-size: 12pt\;&quot;&gt;Dr. Ta
 nja Braun\, Fraunhofer IZM\, Dept. System Integration and Interconnection 
 Technologies\, Topic: &lt;strong&gt;Advanced Packaging &amp;ndash\; Key for Heteroge
 neous Integration&lt;/strong&gt;&lt;/span&gt;&lt;/p&gt;\n&lt;p&gt;&lt;span style=&quot;font-size: 12pt\;&quot;&gt;
 Dr. Junghyun Cho\, Professor\, SUNY Binghamton\, Topic: &lt;strong&gt;Bonding Te
 chnologies toward Ultra Fine Pitch 3D Interconnection&lt;/strong&gt;&lt;/span&gt;&lt;/p&gt;
END:VEVENT
END:VCALENDAR

