BEGIN:VCALENDAR
VERSION:2.0
PRODID:IEEE vTools.Events//EN
CALSCALE:GREGORIAN
BEGIN:VTIMEZONE
TZID:Australia/Brisbane
BEGIN:STANDARD
DTSTART:19920301T020000
TZOFFSETFROM:+1100
TZOFFSETTO:+1000
TZNAME:AEST
END:STANDARD
END:VTIMEZONE
BEGIN:VEVENT
DTSTAMP:20220808T073522Z
UID:DF7EAD57-5FBB-4678-B688-FAC3C4542F70
DTSTART;TZID=Australia/Brisbane:20220804T173000
DTEND;TZID=Australia/Brisbane:20220804T203000
DESCRIPTION:This month on Thursday\, Pat Scott will be discussing QODA\, Nv
 idia&#39;s platform for hybrid quantum-classical computing.\n\nQuantum compute
 rs hold great promise to help us solve some of our most important problems
 . The idea now is to open up quantum computing to scientists and experts i
 n domains where HPC and AI already play a critical role\, as well as enabl
 ing easy integration of today’s best existing software with quantum soft
 ware. This will dramatically accelerate quantum computers realizing their 
 potential.\n\nQODA provides an open platform to do just that.\n\nHere is a
  technical walkthrough https://developer.nvidia.com/blog/introducing-qoda-
 the-platform-for-hybrid-quantum-classical-computing/\n\nRecommended watch:
 \n\nhttps://www.youtube.com/watch?v=RzkssSPOG5Q\n\nNOTE: The event will be
  held on a THURSDAY\n\n454 Brunswick St\, Bloodhound Bar\, Fortitude Valle
 y\, Queensland\, Australia\, 4006
LOCATION:454 Brunswick St\, Bloodhound Bar\, Fortitude Valley\, Queensland\
 , Australia\, 4006
ORGANIZER:daiki.ichiyama@gmail.com
SEQUENCE:6
SUMMARY:1TJPC - QODA Quantum-Classical Hybrid Programming Framework
URL;VALUE=URI:https://events.vtools.ieee.org/m/320735
X-ALT-DESC:Description: &lt;br /&gt;&lt;p&gt;This month on &lt;span style=&quot;text-decoration
 : underline\;&quot;&gt;&lt;strong&gt;Thursday&lt;/strong&gt;&lt;/span&gt;\, Pat Scott will be discus
 sing QODA\, Nvidia&#39;s platform for hybrid quantum-classical computing.&lt;/p&gt;\
 n&lt;p&gt;Quantum computers hold great promise to help us solve some of our most
  important problems. The idea now is to open up quantum computing to scien
 tists and experts in domains where HPC and AI already play a critical role
 \, as well as enabling easy integration of today&amp;rsquo\;s best existing so
 ftware with quantum software. This will dramatically accelerate quantum co
 mputers realizing their potential.&lt;/p&gt;\n&lt;p&gt;QODA provides an open platform 
 to do just that.&lt;/p&gt;\n&lt;p&gt;Here is a technical walkthrough &lt;a href=&quot;https://
 developer.nvidia.com/blog/introducing-qoda-the-platform-for-hybrid-quantum
 -classical-computing/&quot;&gt;https://developer.nvidia.com/blog/introducing-qoda-
 the-platform-for-hybrid-quantum-classical-computing/&lt;/a&gt;&lt;/p&gt;\n&lt;p&gt;Recommend
 ed watch:&lt;/p&gt;\n&lt;p&gt;&lt;a href=&quot;https://www.youtube.com/watch?v=RzkssSPOG5Q&quot; ta
 rget=&quot;_blank&quot; rel=&quot;noopener&quot; data-saferedirecturl=&quot;https://www.google.com/
 url?q=https://www.youtube.com/watch?v%3DRzkssSPOG5Q&amp;amp\;source=gmail&amp;amp\
 ;ust=1659074438747000&amp;amp\;usg=AOvVaw3qanL8_i3e_WGyStqyr_nf&quot;&gt;https://www.y
 outube.com/watch?&lt;wbr /&gt;v=RzkssSPOG5Q&lt;/a&gt;&lt;/p&gt;\n&lt;p&gt;&lt;strong&gt;&lt;em&gt;NOTE:&lt;/em&gt;&lt;/
 strong&gt;&amp;nbsp\;The event will be held on a&amp;nbsp\;&lt;em&gt;&lt;strong&gt;THURSDAY&lt;/stro
 ng&gt;&lt;/em&gt;&lt;/p&gt;\n&lt;p&gt;&amp;nbsp\;&lt;/p&gt;
END:VEVENT
END:VCALENDAR

