BEGIN:VCALENDAR
VERSION:2.0
PRODID:IEEE vTools.Events//EN
CALSCALE:GREGORIAN
BEGIN:VTIMEZONE
TZID:Asia/Kolkata
BEGIN:STANDARD
DTSTART:19451014T230000
TZOFFSETFROM:+0630
TZOFFSETTO:+0530
TZNAME:IST
END:STANDARD
END:VTIMEZONE
BEGIN:VEVENT
DTSTAMP:20220728T090617Z
UID:61DBAEEE-4946-4A12-B04E-F426B8F95469
DTSTART;TZID=Asia/Kolkata:20220719T140000
DTEND;TZID=Asia/Kolkata:20220719T153000
DESCRIPTION:The webinar was organized by AISSMS Institute of Information Te
 chnology in association with IEEE Communication Society\, Pune Section. We
 binar was started by the host Prof. Shobha Nikam\, Assistant Professor\, E
 &amp;TC Department. She gave a brief introduction about the speaker. Later the
  platform was given to the Vice-Chairman\, IEEE Communication Society\, Pu
 ne Section\, Dr. Makrand M. Jadhav. He addressed the faculties and student
 s with his experiences. Later the platform was given to the Speaker Mr. Vi
 las Purushottam Rabde\, VU2VPRTech Forum Pune\, President Ham Radio Club V
 U2DYP\, Ajeenkya D.Y. Patil\, Pune. He discussed his journey full of thril
 ling experiences. He motivated faculties and students to learn new technol
 ogy of Ham Radio and its history.\n\nLater Q &amp; A session was organized. Th
 e speaker answered almost all the questions.\n\nVote of Thanks was propose
 d by Dr. Sarika Panwar\, Secretary\, IEEE Communications Society\, Pune Se
 ction.\n\nSpeaker(s): Mr. Vilas Rabde\, \n\nAgenda: \nIntroduction to HAM 
 Radio\n\nBldg: Kennedy Road\, All India Shri Shivaji Memorial Society&#39;s In
 stitute of Information Technology\, Near RTO Office\, Pune\, Maharashtra\,
  India\, 411001
LOCATION:Bldg: Kennedy Road\, All India Shri Shivaji Memorial Society&#39;s Ins
 titute of Information Technology\, Near RTO Office\, Pune\, Maharashtra\, 
 India\, 411001
ORGANIZER:pbmane6829@gmail.com
SEQUENCE:0
SUMMARY:Webinar on INTRODUCTION TO HAM RADIO
URL;VALUE=URI:https://events.vtools.ieee.org/m/320755
X-ALT-DESC:Description: &lt;br /&gt;&lt;p&gt;The webinar was organized by AISSMS Instit
 ute of Information Technology in association with IEEE Communication Socie
 ty\, Pune Section. Webinar was started by the host Prof. Shobha Nikam\, As
 sistant Professor\, E&amp;amp\;TC Department. She gave a brief introduction ab
 out the speaker.&amp;nbsp\; Later the platform was given to the Vice-Chairman\
 , IEEE Communication Society\, Pune Section\, Dr. Makrand M. Jadhav. He ad
 dressed the faculties and students with his experiences. Later the platfor
 m was given to the Speaker Mr. Vilas Purushottam Rabde\, VU2VPRTech Forum 
 Pune\, President Ham Radio Club VU2DYP\, Ajeenkya D.Y. Patil\, Pune. He di
 scussed his journey full of thrilling experiences. He motivated faculties 
 and students to learn new technology of Ham Radio and its history.&lt;/p&gt;\n&lt;p
 &gt;Later Q &amp;amp\; A session was organized. The speaker answered almost all t
 he questions.&lt;/p&gt;\n&lt;p&gt;Vote of Thanks was proposed by Dr. Sarika Panwar\, S
 ecretary\, IEEE Communications Society\, Pune Section&lt;strong&gt;.&lt;/strong&gt;&lt;/p
 &gt;&lt;br /&gt;&lt;br /&gt;Agenda: &lt;br /&gt;&lt;p&gt;Introduction to HAM Radio&lt;/p&gt;
END:VEVENT
END:VCALENDAR

