BEGIN:VCALENDAR
VERSION:2.0
PRODID:IEEE vTools.Events//EN
CALSCALE:GREGORIAN
BEGIN:VTIMEZONE
TZID:America/Santiago
BEGIN:DAYLIGHT
DTSTART:20220911T010000
TZOFFSETFROM:-0400
TZOFFSETTO:-0300
RRULE:FREQ=YEARLY;BYDAY=2SU;BYMONTH=9
TZNAME:-03
END:DAYLIGHT
BEGIN:STANDARD
DTSTART:20220402T230000
TZOFFSETFROM:-0300
TZOFFSETTO:-0400
RRULE:FREQ=YEARLY;BYDAY=1SA;BYMONTH=4
TZNAME:-04
END:STANDARD
END:VTIMEZONE
BEGIN:VEVENT
DTSTAMP:20220807T110102Z
UID:B153D984-06E9-44B1-A5AD-819547265A9A
DTSTART;TZID=America/Santiago:20220731T093000
DTEND;TZID=America/Santiago:20220731T103000
DESCRIPTION:The workshop host will present an introduction to RFID technolo
 gy as well as demonstrate the learned concepts through some projects creat
 ed with the Raspberry Pi. Over the course of this workshop\, the host will
  aim to cover:\n\n• The meaning of radio-frequency identification and ho
 w the system works\n• The common everyday applications of RFID technolog
 y\n• A short discussion about the Raspberry Pi and how to set it up\n•
  Some sample projects created with the Raspberry Pi demonstrating concepts
 \n\nSpeaker(s): Ari Karimalis\, \n\nVirtual: https://events.vtools.ieee.or
 g/m/320859
LOCATION:Virtual: https://events.vtools.ieee.org/m/320859
ORGANIZER:AKARIMALIS91@GMAIL.COM
SEQUENCE:4
SUMMARY:RFID technology with the Raspberry Pi 
URL;VALUE=URI:https://events.vtools.ieee.org/m/320859
X-ALT-DESC:Description: &lt;br /&gt;&lt;p&gt;The workshop host will present an introduc
 tion to RFID technology as well as demonstrate the learned concepts throug
 h some projects created with the Raspberry Pi. &amp;nbsp\;Over the course of t
 his workshop\, the host will aim to cover:&lt;/p&gt;\n&lt;p&gt;&amp;bull\; &amp;nbsp\; &amp;nbsp\;
 The meaning of radio-frequency identification and how the system works&lt;br 
 /&gt;&amp;bull\; &amp;nbsp\; &amp;nbsp\;The common everyday applications of RFID technolo
 gy&lt;br /&gt;&amp;bull\; &amp;nbsp\; &amp;nbsp\;A short discussion about the Raspberry Pi a
 nd how to set it up&lt;br /&gt;&amp;bull\; &amp;nbsp\; &amp;nbsp\;Some sample projects creat
 ed with the Raspberry Pi demonstrating concepts&lt;/p&gt;
END:VEVENT
END:VCALENDAR

