BEGIN:VCALENDAR
VERSION:2.0
PRODID:IEEE vTools.Events//EN
CALSCALE:GREGORIAN
BEGIN:VTIMEZONE
TZID:America/Chicago
BEGIN:DAYLIGHT
DTSTART:20220313T030000
TZOFFSETFROM:-0600
TZOFFSETTO:-0500
RRULE:FREQ=YEARLY;BYDAY=2SU;BYMONTH=3
TZNAME:CDT
END:DAYLIGHT
BEGIN:STANDARD
DTSTART:20221106T010000
TZOFFSETFROM:-0500
TZOFFSETTO:-0600
RRULE:FREQ=YEARLY;BYDAY=1SU;BYMONTH=11
TZNAME:CST
END:STANDARD
END:VTIMEZONE
BEGIN:VEVENT
DTSTAMP:20220812T232211Z
UID:4A419B61-1F68-42DB-A1B2-78D9257CACFE
DTSTART;TZID=America/Chicago:20220811T110000
DTEND;TZID=America/Chicago:20220811T120000
DESCRIPTION:As engineering educators\, the task of teaching entrepreneurshi
 p in the classroom can seem daunting. Fortunately\, there are organization
 s such as Engineering Unleashed dedicated to training educators on how to 
 incorporate more entrepreneurship mindsets into the classroom. In this pre
 sentation\, we will answer the following:\n\n- What is an Entrepreneurship
  Mindset?\n\n- What resources does Engineering Unleashed have to offer?\n\
 n- What are some examples of entrepreneurially-minded activities we can de
 ploy in the classroom?\n\nMore specifically\, we will discuss some of the 
 recent entrepreneurially focused classroom activities deployed into a core
  curriculum physiology course for biomedical engineers and the potential i
 mpact. These activities include a problem-solving workshop\, hands-on exer
 cises\, and video creations.\n\nSpeaker(s): SABIA\, JULIA\n\nVirtual: http
 s://events.vtools.ieee.org/m/320938
LOCATION:Virtual: https://events.vtools.ieee.org/m/320938
ORGANIZER:sabia.z.abidi@rice.edu
SEQUENCE:3
SUMMARY:Cultivating the Entrepreneurship Mindset in the Classroom
URL;VALUE=URI:https://events.vtools.ieee.org/m/320938
X-ALT-DESC:Description: &lt;br /&gt;&lt;p&gt;&amp;nbsp\;&lt;/p&gt;\n&lt;table&gt;\n&lt;tbody&gt;\n&lt;tr&gt;\n&lt;td&gt;\
 n&lt;p&gt;As engineering educators\, the task of teaching entrepreneurship in th
 e classroom can seem daunting. Fortunately\, there are organizations such 
 as Engineering Unleashed dedicated to training educators on how to incorpo
 rate more entrepreneurship mindsets into the classroom. In this presentati
 on\, we will answer the following:&lt;/p&gt;\n&lt;p&gt;-&amp;nbsp\;&amp;nbsp\;&amp;nbsp\;&amp;nbsp\;&amp;n
 bsp\;&amp;nbsp\;&amp;nbsp\; What is an Entrepreneurship Mindset?&lt;/p&gt;\n&lt;p&gt;-&amp;nbsp\;&amp;
 nbsp\;&amp;nbsp\;&amp;nbsp\;&amp;nbsp\;&amp;nbsp\;&amp;nbsp\; What resources does Engineering 
 Unleashed have to offer?&lt;/p&gt;\n&lt;p&gt;-&amp;nbsp\;&amp;nbsp\;&amp;nbsp\;&amp;nbsp\;&amp;nbsp\;&amp;nbsp
 \;&amp;nbsp\; What are some examples of entrepreneurially-minded activities we
  can deploy in the classroom?&lt;/p&gt;\n&lt;p&gt;More specifically\, we will discuss 
 some of the recent entrepreneurially focused classroom activities deployed
  into a core curriculum physiology course for biomedical engineers and the
  potential impact. These activities include a problem-solving workshop\, h
 ands-on exercises\, and video creations.&lt;/p&gt;\n&lt;/td&gt;\n&lt;/tr&gt;\n&lt;/tbody&gt;\n&lt;/ta
 ble&gt;\n&lt;p&gt;&amp;nbsp\;&lt;/p&gt;
END:VEVENT
END:VCALENDAR

