BEGIN:VCALENDAR
VERSION:2.0
PRODID:IEEE vTools.Events//EN
CALSCALE:GREGORIAN
BEGIN:VTIMEZONE
TZID:America/Chicago
BEGIN:DAYLIGHT
DTSTART:20220313T030000
TZOFFSETFROM:-0600
TZOFFSETTO:-0500
RRULE:FREQ=YEARLY;BYDAY=2SU;BYMONTH=3
TZNAME:CDT
END:DAYLIGHT
BEGIN:STANDARD
DTSTART:20221106T010000
TZOFFSETFROM:-0500
TZOFFSETTO:-0600
RRULE:FREQ=YEARLY;BYDAY=1SU;BYMONTH=11
TZNAME:CST
END:STANDARD
END:VTIMEZONE
BEGIN:VEVENT
DTSTAMP:20220924T013530Z
UID:73EBEFDA-262D-4B52-A984-DC69F8899788
DTSTART;TZID=America/Chicago:20220922T110000
DTEND;TZID=America/Chicago:20220922T120000
DESCRIPTION:Industry 4.0 is considered the great revolution of the past few
  years. New technologies\, the Internet of things\, and the possibility to
  monitor everything from everywhere changed both plants and the approaches
  to industrial production. Medicine is considered a slowly changing discip
 line. The human body model is a difficult concept to develop. But we can i
 dentify some passages in which medicine can be compared to the industry. F
 our major changes revolutionized medicine:\n\nMedicine 1.0: James Watson a
 nd Francis Crick described the structure of DNA. This was the beginning of
  research in the field of molecular and cellular biology\n\nMedicine 2.0: 
 Sequencing the Human genome. This discovery made it possible to find the o
 rigin of the diseases.\n\nMedicine 3.0: The convergence of biology and eng
 ineering. Now the biologist’s experience can be combined with the techno
 logy of the engineers. New approaches to new forms of analysis can be used
 .\n\nMedicine 4.0: Digitalization of Medicine: IoT devices and techniques\
 , AI to perform analyses\, Machine Learning for diagnoses\, Brain Computer
  Interface\, Smart wearable sensors.\n\nMedicine 4.0 is definitely a great
  revolution in patient care. New horizons are possible today. Covid 19 has
  highlighted problems that have existed for a long time. Relocation of ser
 vices\, which means remote monitoring\, and remote diagnoses without direc
 t contact between the doctor and the patient. Hospitals are freed from rou
 tine tests that could be performed by patients at home and reported by doc
 tors on the internet. Potential dangerous conditions can be prevented. Dur
 ing the Covid emergency\, everybody can check his condition and ask for a 
 medical visit (swab) only when really necessary. This is true telemedicine
 . This is not a WhatsApp where an elder tries to chat with a doctor. This 
 is a smart device able to measure objective vital parameters and send to a
  health care center. Of course\, Medicine 4.0 requires new technologies fo
 r smart sensors. These devices need to be very easy to use\, fast\, reliab
 le\, and low cost. They must be accepted by both people and doctors.\n\nIn
  this talk\, we’ll see together the meaning of telemedicine and E-Health
 . E-health is the key to allowing people to self-monitor their vital signa
 ls. Some devices already exist but a new approach will allow everybody (es
 pecially older people with cognitive difficulties) to use these systems wi
 th a friendly approach. Telemedicine will be the new approach to the conce
 pt of a hospital. A virtual hospital\, without any physical contact but wi
 th an objective measurement of every parameter. A final remote discussion 
 between the doctor and the patient is still required to feel comfortable. 
 But the doctor will have all the vital signals recorded to allow him to ma
 ke a diagnosis based on reliable data.\n\nAnother important aspect of medi
 cine 4.0 is the possibility of using AI both to perform parameter measurem
 ents and to manage the monitoring of multiple patients. The new image proc
 essing based on Artificial Neural Networks allows doctors to have a better
  and faster analysis. But AI algorithms are also able to manage intensive 
 care rooms with several patients reducing the number of doctors involved i
 n the global monitoring of the situation.\n\nSpeaker(s): EROS\, \n\nVirtua
 l: https://events.vtools.ieee.org/m/321334
LOCATION:Virtual: https://events.vtools.ieee.org/m/321334
ORGANIZER:ztaqvi@gmail.com
SEQUENCE:1
SUMMARY:Medicine 4.0: AI and IOT\, the new revolution: GBS IMS WEEK\, WEBIN
 AR #3 of 3
URL;VALUE=URI:https://events.vtools.ieee.org/m/321334
X-ALT-DESC:Description: &lt;br /&gt;&lt;p&gt;Industry 4.0 is considered the great revol
 ution of the past few years. New technologies\, the Internet of things\, a
 nd the possibility to monitor everything from everywhere changed both plan
 ts and the approaches to industrial production. Medicine is considered a s
 lowly changing discipline. The human body model is a difficult concept to 
 develop. But we can identify some passages in which medicine can be compar
 ed to the industry. Four major changes revolutionized medicine:&lt;/p&gt;\n&lt;p&gt;Me
 dicine 1.0: James Watson and Francis Crick described the structure of DNA.
  This was the beginning of research in the field of molecular and cellular
  biology&lt;/p&gt;\n&lt;p&gt;Medicine 2.0: Sequencing the Human genome. This discovery
  made it possible to find the origin of the diseases.&lt;/p&gt;\n&lt;p&gt;Medicine 3.0
 : The convergence of biology and engineering. Now the biologist&amp;rsquo\;s e
 xperience can be combined with the technology of the engineers. New approa
 ches to new forms of analysis can be used.&lt;/p&gt;\n&lt;p&gt;Medicine 4.0: Digitaliz
 ation of Medicine: IoT devices and techniques\, AI to perform analyses\, M
 achine Learning for diagnoses\, Brain Computer Interface\, Smart wearable 
 sensors.&lt;/p&gt;\n&lt;p&gt;Medicine 4.0 is definitely a great revolution in patient 
 care. New horizons are possible today. Covid 19 has highlighted problems t
 hat have existed for a long time. Relocation of services\, which means rem
 ote monitoring\, and remote diagnoses without direct contact between the d
 octor and the patient. Hospitals are freed from routine tests that could b
 e performed by patients at home and reported by doctors on the internet. P
 otential dangerous conditions can be prevented. During the Covid emergency
 \, everybody can check his condition and ask for a medical visit (swab) on
 ly when really necessary. This is true telemedicine. This is not a WhatsAp
 p where an elder tries to chat with a doctor. This is a smart device able 
 to measure objective vital parameters and send to a health care center. Of
  course\, Medicine 4.0 requires new technologies for smart sensors. These 
 devices need to be very easy to use\, fast\, reliable\, and low cost. They
  must be accepted by both people and doctors.&lt;/p&gt;\n&lt;p&gt;In this talk\, we&amp;rs
 quo\;ll see together the meaning of telemedicine and E-Health. E-health is
  the key to allowing people to self-monitor their vital signals. Some devi
 ces already exist but a new approach will allow everybody (especially olde
 r people with cognitive difficulties) to use these systems with a friendly
  approach. Telemedicine will be the new approach to the concept of a hospi
 tal. A virtual hospital\, without any physical contact but with an objecti
 ve measurement of every parameter. A final remote discussion between the d
 octor and the patient is still required to feel comfortable. But the docto
 r will have all the vital signals recorded to allow him to make a diagnosi
 s based on reliable data.&lt;/p&gt;\n&lt;p&gt;Another important aspect of medicine 4.0
  is the possibility of using AI both to perform parameter measurements and
  to manage the monitoring of multiple patients. The new image processing b
 ased on Artificial Neural Networks allows doctors to have a better and fas
 ter analysis. But AI algorithms are also able to manage intensive care roo
 ms with several patients reducing the number of doctors involved in the gl
 obal monitoring of the situation.&lt;/p&gt;
END:VEVENT
END:VCALENDAR

