BEGIN:VCALENDAR
VERSION:2.0
PRODID:IEEE vTools.Events//EN
CALSCALE:GREGORIAN
BEGIN:VTIMEZONE
TZID:America/Denver
BEGIN:DAYLIGHT
DTSTART:20220313T030000
TZOFFSETFROM:-0700
TZOFFSETTO:-0600
RRULE:FREQ=YEARLY;BYDAY=2SU;BYMONTH=3
TZNAME:MDT
END:DAYLIGHT
BEGIN:STANDARD
DTSTART:20221106T010000
TZOFFSETFROM:-0600
TZOFFSETTO:-0700
RRULE:FREQ=YEARLY;BYDAY=1SU;BYMONTH=11
TZNAME:MST
END:STANDARD
END:VTIMEZONE
BEGIN:VEVENT
DTSTAMP:20220810T005758Z
UID:F242741A-E681-4D76-9CCE-4751113AD769
DTSTART;TZID=America/Denver:20220809T120000
DTEND;TZID=America/Denver:20220809T130000
DESCRIPTION:Abstract:\n\nWe shall show that often one can see the linking n
 umbers between branch curves of covering spaces of knots.\n\nSpeaker(s): K
 enneth Perko\, \n\nVirtual: https://events.vtools.ieee.org/m/321394
LOCATION:Virtual: https://events.vtools.ieee.org/m/321394
ORGANIZER:makaruk@hughes.net
SEQUENCE:1
SUMMARY:Looking at Linking Numbers 
URL;VALUE=URI:https://events.vtools.ieee.org/m/321394
X-ALT-DESC:Description: &lt;br /&gt;&lt;p class=&quot;CDt4Ke zfr3Q&quot; dir=&quot;ltr&quot;&gt;&lt;strong&gt;Abs
 tract:&lt;/strong&gt;&lt;/p&gt;\n&lt;p class=&quot;CDt4Ke zfr3Q&quot; dir=&quot;ltr&quot;&gt;We shall show that 
 often one can see the linking numbers between branch curves of covering sp
 aces of knots.&lt;/p&gt;
END:VEVENT
END:VCALENDAR

