BEGIN:VCALENDAR
VERSION:2.0
PRODID:IEEE vTools.Events//EN
CALSCALE:GREGORIAN
BEGIN:VTIMEZONE
TZID:America/Lima
BEGIN:DAYLIGHT
DTSTART:20380118T221407
TZOFFSETFROM:-0500
TZOFFSETTO:-0500
RRULE:FREQ=YEARLY;BYDAY=3MO;BYMONTH=1
TZNAME:-05
END:DAYLIGHT
BEGIN:STANDARD
DTSTART:19940331T230000
TZOFFSETFROM:-0400
TZOFFSETTO:-0500
RRULE:FREQ=YEARLY;BYDAY=-1TH;BYMONTH=3
TZNAME:-05
END:STANDARD
END:VTIMEZONE
BEGIN:VEVENT
DTSTAMP:20220817T221917Z
UID:26C831E6-75DF-490A-8AD9-D4498A3AF974
DTSTART;TZID=America/Lima:20220812T150000
DTEND;TZID=America/Lima:20220812T170000
DESCRIPTION:International Collaboration between WIE TUNISIA and WIE UNAC\, 
 we&#39;ll know the situation of women in stem in both countries . We&#39;ll have s
 peakers from both countries.\n\nSpeaker(s): Carmen Barrientos Marrou\, Sua
 my Gabriela Pérez Ortega\n\nVirtual: https://events.vtools.ieee.org/m/321
 479
LOCATION:Virtual: https://events.vtools.ieee.org/m/321479
ORGANIZER:manuel_2001.17@ieee.org
SEQUENCE:4
SUMMARY:WOMEN IN STEM DOMAIN IN TUNISIA AND PERU
URL;VALUE=URI:https://events.vtools.ieee.org/m/321479
X-ALT-DESC:Description: &lt;br /&gt;&lt;p&gt;International Collaboration between WIE TU
 NISIA and WIE UNAC\, we&#39;ll know the situation of women in stem in both cou
 ntries . We&#39;ll have speakers from both countries.&lt;/p&gt;
END:VEVENT
END:VCALENDAR

