BEGIN:VCALENDAR
VERSION:2.0
PRODID:IEEE vTools.Events//EN
CALSCALE:GREGORIAN
BEGIN:VTIMEZONE
TZID:America/New_York
BEGIN:DAYLIGHT
DTSTART:20220313T030000
TZOFFSETFROM:-0500
TZOFFSETTO:-0400
RRULE:FREQ=YEARLY;BYDAY=2SU;BYMONTH=3
TZNAME:EDT
END:DAYLIGHT
BEGIN:STANDARD
DTSTART:20221106T010000
TZOFFSETFROM:-0400
TZOFFSETTO:-0500
RRULE:FREQ=YEARLY;BYDAY=1SU;BYMONTH=11
TZNAME:EST
END:STANDARD
END:VTIMEZONE
BEGIN:VEVENT
DTSTAMP:20220920T012949Z
UID:EF0465DB-394C-4029-9DFC-3DFFCA1D9C34
DTSTART;TZID=America/New_York:20220915T170000
DTEND;TZID=America/New_York:20220915T220000
DESCRIPTION:Get out of work early? Join the pre-game Happy Hour and IEEE Ne
 tworking from 5-6 pm at the 10th Inning Bar and enjoy live music from Duke
  Galaxy and The Pipeliners.\n\nThis is also the final [&quot;Bark in the Park&quot;]
 (https://www.milb.com/rochester/ballpark/bark-in-the-park?tfl=Rochester_Re
 d_Wings_Single_Game_Tickets-tickets-na-single_game_tickets-promo_game_high
 light-unknown-unknown) night of the 2022 season where fans can bring their
  dog to the game.\n\nReserve your tickets for just $5 each\, and get $20 i
 n Diamond Dollars to use at any of the [Red Wings Concession Stands](https
 ://www.milb.com/rochester/ballpark/concessions)\n\n[][]\n\n[][]\n\nAgenda:
  \n5:00 pm - Happy Hour Networking @ 10th Inning Bar: Enjoy $2 beers and l
 ive music from Duke Galaxy and The Pipeliners\n\n6:05 pm - Opening Pitch\n
 \nBldg: Frontier Field\, One Morrie Silver Way\, Rochester\, New York\, Un
 ited States\, 14608
LOCATION:Bldg: Frontier Field\, One Morrie Silver Way\, Rochester\, New Yor
 k\, United States\, 14608
ORGANIZER:roc.sec.chair@ieee.org
SEQUENCE:8
SUMMARY:IEEE Family Night At Frontier
URL;VALUE=URI:https://events.vtools.ieee.org/m/321553
X-ALT-DESC:Description: &lt;br /&gt;&lt;p&gt;Get out of work early? Join the pre-game H
 appy Hour and IEEE Networking from 5-6 pm at the 10th Inning Bar and enjoy
  live music from Duke Galaxy and The Pipeliners.&lt;/p&gt;\n&lt;p&gt;This is also the 
 final &lt;a href=&quot;https://www.milb.com/rochester/ballpark/bark-in-the-park?tf
 l=Rochester_Red_Wings_Single_Game_Tickets-tickets-na-single_game_tickets-p
 romo_game_highlight-unknown-unknown&quot; target=&quot;_blank&quot; rel=&quot;noopener&quot;&gt;&quot;Bark 
 in the Park&quot;&lt;/a&gt; night of the 2022 season where fans can bring their dog t
 o the game.&lt;/p&gt;\n&lt;p&gt;Reserve your tickets for just $5 each\, and get $20 in
  Diamond Dollars to use at any of the &lt;a href=&quot;https://www.milb.com/roches
 ter/ballpark/concessions&quot;&gt;Red Wings Concession Stands&lt;/a&gt;&lt;/p&gt;\n&lt;p&gt;&lt;img sty
 le=&quot;height: 160px\; width: 200px\;&quot; src=&quot;https://r1.ieee.org/rochester/wp-
 content/uploads/sites/30/2015/08/Baseball_2015_p3.jpg&quot; alt=&quot;&quot; /&gt;&lt;img style
 =&quot;height: 160px\; width: 200px\;&quot; src=&quot;https://r1.ieee.org/rochester/wp-co
 ntent/uploads/sites/30/2015/08/Baseball_2015_p2.jpg&quot; alt=&quot;&quot; /&gt;&lt;/p&gt;\n&lt;p&gt;&lt;im
 g style=&quot;height: 160px\; width: 200px\;&quot; src=&quot;https://r1.ieee.org/rocheste
 r/wp-content/uploads/sites/30/2015/08/Baseball_2015_p1.jpg&quot; alt=&quot;&quot; /&gt;&lt;img 
 style=&quot;height: 160px\; width: 284px\;&quot; src=&quot;https://r1.ieee.org/rochester/
 wp-content/uploads/sites/30/2022/08/redwings_dog.jpg&quot; alt=&quot;&quot; /&gt;&lt;/p&gt;&lt;br /&gt;&lt;
 br /&gt;Agenda: &lt;br /&gt;&lt;p&gt;5:00 pm - Happy Hour Networking @ 10th Inning Bar: E
 njoy $2 beers and live music from Duke Galaxy and The Pipeliners&lt;/p&gt;\n&lt;p&gt;6
 :05 pm - Opening Pitch&lt;/p&gt;
END:VEVENT
END:VCALENDAR

