BEGIN:VCALENDAR
VERSION:2.0
PRODID:IEEE vTools.Events//EN
CALSCALE:GREGORIAN
BEGIN:VTIMEZONE
TZID:America/Los_Angeles
BEGIN:DAYLIGHT
DTSTART:20220313T030000
TZOFFSETFROM:-0800
TZOFFSETTO:-0700
RRULE:FREQ=YEARLY;BYDAY=2SU;BYMONTH=3
TZNAME:PDT
END:DAYLIGHT
BEGIN:STANDARD
DTSTART:20221106T010000
TZOFFSETFROM:-0700
TZOFFSETTO:-0800
RRULE:FREQ=YEARLY;BYDAY=1SU;BYMONTH=11
TZNAME:PST
END:STANDARD
END:VTIMEZONE
BEGIN:VEVENT
DTSTAMP:20220908T000102Z
UID:25D1F1EE-2E62-4945-A720-F4EB0CCA2538
DTSTART;TZID=America/Los_Angeles:20220831T190000
DTEND;TZID=America/Los_Angeles:20220831T210000
DESCRIPTION:Lets all take a break from busy summer and lets grab to drink t
 o socialize.\n\n5$ cover charge and you get drinks. Lets meet at Lily Mac&#39;
 s - Irish &amp; American pub fare\, large-screen TVs &amp; live entertainment in a
  rollicking tavern atmosphere.\n\nLilly Mac&#39;s\, 187 S Murphy Ave\,\,  Sunn
 yvale\, California\, United States\, 94086
LOCATION:Lilly Mac&#39;s\, 187 S Murphy Ave\,\,  Sunnyvale\, California\, Unite
 d States\, 94086
ORGANIZER:aseemg@slac.stanford.edu
SEQUENCE:5
SUMMARY:Wednesday Social: Happy Hour at Lily Mac&#39;s\, Sunnyvale
URL;VALUE=URI:https://events.vtools.ieee.org/m/321888
X-ALT-DESC:Description: &lt;br /&gt;&lt;p&gt;Lets all take a break from busy summer and
  lets grab to drink to socialize.&lt;/p&gt;\n&lt;p&gt;&lt;strong&gt;5$ cover charge and you 
 get drinks. &lt;/strong&gt;Lets meet at Lily Mac&#39;s - &lt;span class=&quot;HlvSq&quot;&gt;Irish &amp;
 amp\; American pub fare\, large-screen TVs &amp;amp\; live entertainment in a 
 rollicking tavern atmosphere.&lt;/span&gt;&lt;/p&gt;
END:VEVENT
END:VCALENDAR

