BEGIN:VCALENDAR
VERSION:2.0
PRODID:IEEE vTools.Events//EN
CALSCALE:GREGORIAN
BEGIN:VTIMEZONE
TZID:Australia/Brisbane
BEGIN:STANDARD
DTSTART:19920301T020000
TZOFFSETFROM:+1100
TZOFFSETTO:+1000
TZNAME:AEST
END:STANDARD
END:VTIMEZONE
BEGIN:VEVENT
DTSTAMP:20221104T023155Z
UID:CA92D717-E17F-4F0D-AB5C-42C4B97E30E5
DTSTART;TZID=Australia/Brisbane:20220920T173000
DTEND;TZID=Australia/Brisbane:20220920T193000
DESCRIPTION:This workshop will provide some general background on patents a
 nd then work on a hypothetical case study based on this paper: https://res
 earch-repository.griffith.edu.au/handle/10072/411699. This paper describes
  a hyperspectral imaging application\, which could be turned into a commer
 cial product with patent protection. Attendees will learn about the proces
 s of extracting the invention from the paper\, drafting claims\, commercia
 l considerations\, prior art etc. The seminar will also touch briefly on s
 oftware copyright and wrap up with Q&amp;A.\n\nThis is a joint workshop provid
 ed by:\n\n- The Institute of Electrical and Electronics Engineers (IEEE) a
 nd\n\n- Licensing Executives Socienty of Australia and New Zealand (LESANZ
 )\n\nCo-sponsored by: FB Rice\n\nSpeaker(s): Dr Manuel Schmidt\, \n\nRoom:
  1.05A/B \, Bldg: N79\, Griffith University Nathan campus\, Ring Road\, Na
 than\, New South Wales\, Australia\, 4111
LOCATION:Room: 1.05A/B \, Bldg: N79\, Griffith University Nathan campus\, R
 ing Road\, Nathan\, New South Wales\, Australia\, 4111
ORGANIZER:mschmidt@fbrice.com.au
SEQUENCE:15
SUMMARY:Patents workshop for beginners brought to you by IEEE and LESANZ
URL;VALUE=URI:https://events.vtools.ieee.org/m/321905
X-ALT-DESC:Description: &lt;br /&gt;&lt;p&gt;This workshop will provide some general ba
 ckground on patents and then work on a hypothetical case study based on th
 is paper: &lt;a href=&quot;https://research-repository.griffith.edu.au/handle/1007
 2/411699&quot;&gt;https://research-repository.griffith.edu.au/handle/10072/411699&lt;
 /a&gt;. This paper describes a hyperspectral imaging application\,&amp;nbsp\; whi
 ch could be turned into a commercial product with patent protection. Atten
 dees will learn about the process of extracting the invention from the pap
 er\, drafting claims\, commercial considerations\, prior art etc. The semi
 nar will also touch briefly on software copyright and wrap up with Q&amp;amp\;
 A.&amp;nbsp\;&lt;/p&gt;\n&lt;p&gt;This is a joint workshop provided by:&lt;/p&gt;\n&lt;p&gt;- The Inst
 itute of Electrical and Electronics Engineers (IEEE) and&lt;/p&gt;\n&lt;p&gt;- Licensi
 ng Executives Socienty of Australia and New Zealand (LESANZ)&lt;/p&gt;
END:VEVENT
END:VCALENDAR

