BEGIN:VCALENDAR
VERSION:2.0
PRODID:IEEE vTools.Events//EN
CALSCALE:GREGORIAN
BEGIN:VTIMEZONE
TZID:America/Argentina/Buenos_Aires
BEGIN:DAYLIGHT
DTSTART:20380119T001407
TZOFFSETFROM:-0300
TZOFFSETTO:-0300
RRULE:FREQ=YEARLY;BYDAY=3TU;BYMONTH=1
TZNAME:-03
END:DAYLIGHT
BEGIN:STANDARD
DTSTART:20090314T230000
TZOFFSETFROM:-0200
TZOFFSETTO:-0300
RRULE:FREQ=YEARLY;BYDAY=2SA;BYMONTH=3
TZNAME:-03
END:STANDARD
END:VTIMEZONE
BEGIN:VEVENT
DTSTAMP:20220820T225941Z
UID:57EF8D4B-FBC1-4D32-99F8-62A592637D40
DTSTART;TZID=America/Argentina/Buenos_Aires:20220819T143000
DTEND;TZID=America/Argentina/Buenos_Aires:20220819T170000
DESCRIPTION:COMO APLICAR AL INSTITUTO BALSEIRO Y AL INVAP\n\nCo-sponsored b
 y: INVAP\, INSTITUTO BALSEIRO Y FICA UNSL\n\nSpeaker(s): Franco Sosa\, \n\
 nRoom: Aula de Posgrado\, Bldg: FICA\, ruta provincial 148\, extremo norte
 \, facultad de Ingenieria y Ciencias Agropecuarias\, VILLA MERCEDES\, San 
 Luis\, Argentina\, 5730\, Virtual: https://events.vtools.ieee.org/m/322054
LOCATION:Room: Aula de Posgrado\, Bldg: FICA\, ruta provincial 148\, extrem
 o norte\, facultad de Ingenieria y Ciencias Agropecuarias\, VILLA MERCEDES
 \, San Luis\, Argentina\, 5730\, Virtual: https://events.vtools.ieee.org/m
 /322054
ORGANIZER:ramaestudiantilieeevm@gmail.com
SEQUENCE:2
SUMMARY:COMO APLICAR AL INSTITUTO BALSEIRO Y AL INVAP
URL;VALUE=URI:https://events.vtools.ieee.org/m/322054
X-ALT-DESC:Description: &lt;br /&gt;&lt;p&gt;&lt;span style=&quot;vertical-align: inherit\;&quot;&gt;&lt;s
 pan style=&quot;vertical-align: inherit\;&quot;&gt;COMO APLICAR AL INSTITUTO BALSEIRO Y
  AL INVAP&lt;/span&gt;&lt;/span&gt;&lt;/p&gt;
END:VEVENT
END:VCALENDAR

