BEGIN:VCALENDAR
VERSION:2.0
PRODID:IEEE vTools.Events//EN
CALSCALE:GREGORIAN
BEGIN:VTIMEZONE
TZID:America/Guatemala
BEGIN:STANDARD
DTSTART:20060930T230000
TZOFFSETFROM:-0500
TZOFFSETTO:-0600
TZNAME:CST
END:STANDARD
END:VTIMEZONE
BEGIN:VEVENT
DTSTAMP:20221031T013307Z
UID:31A6F252-82B7-4EBB-8315-71C384134071
DTSTART;TZID=America/Guatemala:20221027T173000
DTEND;TZID=America/Guatemala:20221027T183000
DESCRIPTION:Science\, as practiced since the Renaissance\, can lead to true
  outcomes\, as measured by the astounding growth in technology and prosper
 ity since that time. How can this be\, and why did it start at that time? 
 For many centuries\, this question has been explored by philosophers and h
 istorians. This talk will cover some of this history\, and address puzzles
  such as:\n\n- No one person knows the truth\, yet truth nevertheless emer
 ges from scientific inquiry.\n\n- Philosophers cannot even cleanly define 
 the concept of “truth”\, yet truth nevertheless emerges from scientifi
 c inquiry.\n\n- In every field and sub-field of scientific knowledge and t
 echnology\, complexity is ever growing\, far beyond what any one person ca
 n comprehend\, yet truth nevertheless emerges from scientific inquiry.\n\n
 As one who uses empirical methods to pursue scientific inquiry\, the speak
 er has found understanding some of this history to be helpful\, especially
  when pondering the worth or meaning of conducting specific experiments.\n
 \n1PDH will be awarded to the attendees\n\n1 Colloquium Credit will be awa
 rded to UNL SoC students\n\nSpeaker(s): Dr. J. Edward Swan II\, \n\nVirtua
 l: https://events.vtools.ieee.org/m/322269
LOCATION:Virtual: https://events.vtools.ieee.org/m/322269
ORGANIZER:mvvrmkr@gmail.com
SEQUENCE:8
SUMMARY:How the Social Network of Knowledge Leads to Scientific Truth
URL;VALUE=URI:https://events.vtools.ieee.org/m/322269
X-ALT-DESC:Description: &lt;br /&gt;&lt;p style=&quot;font-weight: 400\;&quot;&gt;Science\, as pr
 acticed since the Renaissance\, can lead to true outcomes\, as measured by
  the astounding growth in technology and prosperity since that time.&amp;nbsp\
 ; How can this be\, and why did it start at that time?&amp;nbsp\; For many cen
 turies\, this question has been explored by philosophers and historians.&amp;n
 bsp\; This talk will cover some of this history\, and address puzzles such
  as:&lt;/p&gt;\n&lt;p style=&quot;font-weight: 400\;&quot;&gt;&amp;nbsp\;&lt;/p&gt;\n&lt;ul&gt;\n&lt;li style=&quot;font
 -weight: 400\;&quot;&gt;No one person knows the truth\, yet truth nevertheless eme
 rges from scientific inquiry.&lt;/li&gt;\n&lt;/ul&gt;\n&lt;p style=&quot;font-weight: 400\;&quot;&gt;&amp;
 nbsp\;&lt;/p&gt;\n&lt;ul&gt;\n&lt;li style=&quot;font-weight: 400\;&quot;&gt;Philosophers cannot even 
 cleanly define the concept of &amp;ldquo\;truth&amp;rdquo\;\, yet truth neverthele
 ss emerges from scientific inquiry.&lt;/li&gt;\n&lt;/ul&gt;\n&lt;p style=&quot;font-weight: 40
 0\;&quot;&gt;&amp;nbsp\;&lt;/p&gt;\n&lt;ul&gt;\n&lt;li style=&quot;font-weight: 400\;&quot;&gt;In every field and 
 sub-field of scientific knowledge and technology\, complexity is ever grow
 ing\, far beyond what any one person can comprehend\, yet truth neverthele
 ss emerges from scientific inquiry.&lt;/li&gt;\n&lt;/ul&gt;\n&lt;p style=&quot;font-weight: 40
 0\;&quot;&gt;&amp;nbsp\;&lt;/p&gt;\n&lt;p style=&quot;font-weight: 400\;&quot;&gt;As one who uses empirical 
 methods to pursue scientific inquiry\, the speaker has found understanding
  some of this history to be helpful\, especially when pondering the worth 
 or meaning of conducting specific experiments.&lt;/p&gt;\n&lt;p&gt;&amp;nbsp\;&lt;/p&gt;\n&lt;p&gt;&lt;sp
 an style=&quot;color: #e03e2d\; font-size: 14pt\;&quot;&gt;&lt;strong&gt;1PDH will be awarded
  to the attendees&lt;/strong&gt;&lt;/span&gt;&lt;/p&gt;\n&lt;p&gt;&lt;span style=&quot;color: #e03e2d\; fo
 nt-size: 14pt\;&quot;&gt;&lt;strong&gt;1 Colloquium Credit will be awarded to UNL SoC st
 udents&lt;/strong&gt;&lt;/span&gt;&lt;/p&gt;
END:VEVENT
END:VCALENDAR

