BEGIN:VCALENDAR
VERSION:2.0
PRODID:IEEE vTools.Events//EN
CALSCALE:GREGORIAN
BEGIN:VTIMEZONE
TZID:Asia/Kolkata
BEGIN:STANDARD
DTSTART:19451014T230000
TZOFFSETFROM:+0630
TZOFFSETTO:+0530
TZNAME:IST
END:STANDARD
END:VTIMEZONE
BEGIN:VEVENT
DTSTAMP:20220919T082152Z
UID:1154FA0C-B769-4103-A067-AA4260909E35
DTSTART;TZID=Asia/Kolkata:20220916T140000
DTEND;TZID=Asia/Kolkata:20220916T160000
DESCRIPTION:Traditional pedagogy of lectures\, laboratories and tutorials i
 s falling short of the expectations of the current students of Science\, T
 echnology\, Engineering\, and Mathematics (STEM). Consequently\, in many c
 ountries students are moving away from STEM related courses. This seminar 
 expounds how innovative pedagogy\, such as Digital Storytelling and Drama-
 based learning\, can help to enhance student engagement and lead to better
  learning outcomes.\n\nCombining aspects of the creative arts with the tec
 hnical content of STEM units can help to tap into the students’ creativi
 ty\, making the technical content more interesting and memorable. This lea
 ds to the concept of STEAM: Science\, Technology\, Engineering\, Arts and 
 Mathematics.\n\nDr Sharda will show how Digital Storytelling and Drama can
  be combined with STEM content to make it fun\, and a pleasure to learn at
  the school as well as university level education. The example of Educatio
 nal Drama (EduRama) will be shown as an innovative pedagogical model for e
 nhancing learners’ interest in Mathematics.\n\nCo-sponsored by: In colla
 boration with International Relations and Research Collaborations REVA Uni
 versity  and School of ECE REVA University\n\nSpeaker(s): Nalin\, \n\nAgen
 da: \n1) Welcome by Chair IEEE Education Society\, Bangalore Chapter\n\n2)
 Introduction of Chief Guest by Dr. Visweswara Rao P REVA University\n\n2) 
 Guest of Honor : Dr.M Dhanamjaya\, Vice Chancellor REVA University\n\n3) D
 istinguished Talk by Dr. Nalin Sharda\n\n4) Vote of Thanks by Secretary IE
 EE Education Society Bangalore Chapter\n\nVirtual: https://events.vtools.i
 eee.org/m/322518
LOCATION:Virtual: https://events.vtools.ieee.org/m/322518
ORGANIZER:rvsiva_reddy@rediffmail.com
SEQUENCE:13
SUMMARY:Enhancing STEM Students’ Engagement and Learning Outcomes with In
 novative Pedagogy 
URL;VALUE=URI:https://events.vtools.ieee.org/m/322518
X-ALT-DESC:Description: &lt;br /&gt;&lt;h1&gt;&lt;span style=&quot;font-size: 14pt\;&quot;&gt;T&lt;span st
 yle=&quot;font-size: 10pt\;&quot;&gt;raditional pedagogy of lectures\, laboratories and
  tutorials is falling short of the expectations of the current students of
  Science\, Technology\, Engineering\, and Mathematics (STEM). Consequently
 \, in many countries students are moving away from STEM related courses. T
 his seminar expounds how innovative pedagogy\, such as Digital Storytellin
 g and Drama-based learning\, can help to enhance student engagement and le
 ad to better learning outcomes.&lt;/span&gt;&lt;/span&gt;&lt;/h1&gt;\n&lt;h1&gt;&lt;span style=&quot;font-
 size: 10pt\;&quot;&gt;Combining aspects of the creative arts with the technical co
 ntent of STEM units can help to tap into the students&amp;rsquo\; creativity\,
  making the technical content more interesting and memorable. This leads t
 o the concept of STEAM: Science\, Technology\, Engineering\, Arts and Math
 ematics.&lt;/span&gt;&lt;/h1&gt;\n&lt;h1&gt;&lt;span style=&quot;font-size: 10pt\;&quot;&gt;Dr Sharda will s
 how how Digital Storytelling and Drama can be combined with STEM content t
 o make it fun\, and a pleasure to learn at the school as well as universit
 y level education. The example of Educational Drama (EduRama) will be show
 n as an innovative pedagogical model for enhancing learners&amp;rsquo\; intere
 st in Mathematics.&amp;nbsp\;&lt;/span&gt;&lt;/h1&gt;&lt;br /&gt;&lt;br /&gt;Agenda: &lt;br /&gt;&lt;p&gt;1) Welco
 me by Chair IEEE Education Society\, Bangalore Chapter&lt;/p&gt;\n&lt;p&gt;2)Introduct
 ion of Chief Guest by Dr. Visweswara Rao P REVA University&lt;/p&gt;\n&lt;p&gt;2) Gues
 t of Honor : Dr.M Dhanamjaya\, Vice Chancellor REVA University&lt;/p&gt;\n&lt;p&gt;3) 
 Distinguished Talk by Dr. Nalin Sharda&lt;/p&gt;\n&lt;p&gt;4) Vote of Thanks by Secret
 ary IEEE Education Society Bangalore Chapter&lt;/p&gt;\n&lt;p&gt;&amp;nbsp\;&lt;/p&gt;
END:VEVENT
END:VCALENDAR

