BEGIN:VCALENDAR
VERSION:2.0
PRODID:IEEE vTools.Events//EN
CALSCALE:GREGORIAN
BEGIN:VTIMEZONE
TZID:Europe/Warsaw
BEGIN:DAYLIGHT
DTSTART:20220327T030000
TZOFFSETFROM:+0100
TZOFFSETTO:+0200
RRULE:FREQ=YEARLY;BYDAY=-1SU;BYMONTH=3
TZNAME:CEST
END:DAYLIGHT
BEGIN:STANDARD
DTSTART:20221030T020000
TZOFFSETFROM:+0200
TZOFFSETTO:+0100
RRULE:FREQ=YEARLY;BYDAY=-1SU;BYMONTH=10
TZNAME:CET
END:STANDARD
END:VTIMEZONE
BEGIN:VEVENT
DTSTAMP:20221019T103228Z
UID:BCB0E2E3-C349-4BAB-8321-A70B39A4F802
DTSTART;TZID=Europe/Warsaw:20221014T140000
DTEND;TZID=Europe/Warsaw:20221016T190000
DESCRIPTION:[MiniModes 2022](http://minimodes.fuw.edu.pl/) is the third edi
 tion of a weekend-long student optical conference organized by the Student
  Association of Optics and Photonics ([KNOF](http://knof.fuw.edu.pl/)). It
  aims to unite the optical community at the University of Warsaw\, present
  the broad spectrum of its research\, enrich students with fresh ideas and
  inspire them for new scientific achievements.\n\nChęciny\, Swietokrzyski
 e\, Poland
LOCATION:Chęciny\, Swietokrzyskie\, Poland
ORGANIZER:knof-board@uw.edu.pl
SEQUENCE:2
SUMMARY:MiniModes Photonics School 2022
URL;VALUE=URI:https://events.vtools.ieee.org/m/322753
X-ALT-DESC:Description: &lt;br /&gt;&lt;p&gt;&lt;a href=&quot;http://minimodes.fuw.edu.pl/&quot;&gt;Min
 iModes 2022&lt;/a&gt; is the third edition of a weekend-long student optical con
 ference organized by the Student Association of Optics and Photonics (&lt;a h
 ref=&quot;http://knof.fuw.edu.pl/&quot; target=&quot;_blank&quot; rel=&quot;noopener&quot;&gt;KNOF&lt;/a&gt;). It
  aims to unite the optical community at the University of Warsaw\, present
  the broad spectrum of its research\, enrich students with fresh ideas and
  inspire them for new scientific achievements.&lt;/p&gt;
END:VEVENT
END:VCALENDAR

