BEGIN:VCALENDAR
VERSION:2.0
PRODID:IEEE vTools.Events//EN
CALSCALE:GREGORIAN
BEGIN:VTIMEZONE
TZID:America/New_York
BEGIN:DAYLIGHT
DTSTART:20220313T030000
TZOFFSETFROM:-0500
TZOFFSETTO:-0400
RRULE:FREQ=YEARLY;BYDAY=2SU;BYMONTH=3
TZNAME:EDT
END:DAYLIGHT
BEGIN:STANDARD
DTSTART:20221106T010000
TZOFFSETFROM:-0400
TZOFFSETTO:-0500
RRULE:FREQ=YEARLY;BYDAY=1SU;BYMONTH=11
TZNAME:EST
END:STANDARD
END:VTIMEZONE
BEGIN:VEVENT
DTSTAMP:20220902T144127Z
UID:F7412699-8A1F-4D76-8FB9-B72DFDEE4332
DTSTART;TZID=America/New_York:20220928T130000
DTEND;TZID=America/New_York:20220928T140000
DESCRIPTION:An AICNCC Virtual Meeting\n\nIn early 2022 the [Alliance of IEE
 E Consultants Networks Coordinating Committee (AICNCC)](https://ieeeusa.or
 g/committees/aicncc/) polled local consultant network chairs to find out t
 he status of their local groups. What we learned is that many networks wer
 e having trouble restarting activities after having such a long layoff fro
 m in-person meetings. We also learned that many chairs have questions abou
 t activities of the AICNCC.\n\nOn September 28 at 1:00pm-2:00pm EDT the AI
 CNCC is sponsoring a virtual workshop for local consultant network chairs.
  We’ve asked Brian Berg of the Consultants’ Network of Silicon Valley 
 (CNSV) to give a presentation on the best practices for maintaining a heal
 thy and vibrant local consultant network. Brian will be joined by Board me
 mbers of the CNSV to have an interactive discussion about things they’ve
  done that have kept their local consultant network strong year after year
 .\n\nAfter their presentation there will be a Q/A with the speakers and wi
 th members of the AICNCC. The speakers will address any questions you have
  regarding the presentation. The AICNCC members will address any questions
  about the committee&#39;s activities.\n\nSo\, we invite all Chairs and other 
 officers\, as well as potential future Board members\, to attend this onli
 ne event.\n\nThis meeting will be recorded to be used as an on Demand reso
 urce\n\nSpeaker(s): Brian Berg\, \n\nAgenda: \nIEEE-USA&#39;s free webinars/ev
 ents are designed to help you find your next job\, maintain your career\, 
 negotiate an appropriate salary\, understand ethical considerations in the
  workplace and learn about other career-building strategies and public pol
 icy developments that affect your profession.\n\nVirtual: https://events.v
 tools.ieee.org/m/322762
LOCATION:Virtual: https://events.vtools.ieee.org/m/322762
ORGANIZER:d.iams@ieee.org
SEQUENCE:4
SUMMARY:Best Practices for Running a Successful Local Consultants Network
URL;VALUE=URI:https://events.vtools.ieee.org/m/322762
X-ALT-DESC:Description: &lt;br /&gt;&lt;p&gt;&lt;span style=&quot;font-size: 14pt\; font-family
 : verdana\, geneva\, sans-serif\; color: #236fa1\;&quot;&gt;&lt;strong&gt;An AICNCC Virt
 ual Meeting&lt;/strong&gt;&lt;/span&gt;&lt;/p&gt;\n&lt;p&gt;&lt;span style=&quot;font-family: verdana\, ge
 neva\, sans-serif\;&quot;&gt;In early 2022 the &lt;strong&gt;&lt;a href=&quot;https://ieeeusa.or
 g/committees/aicncc/&quot; target=&quot;_blank&quot; rel=&quot;noopener&quot;&gt;Alliance of IEEE Cons
 ultants Networks Coordinating Committee (AICNCC)&lt;/a&gt;&lt;/strong&gt; polled local
  consultant network chairs to find out the status of their local groups. W
 hat we learned is that many networks were having trouble restarting activi
 ties after having such a long layoff from in-person meetings. We also lear
 ned that many chairs have questions about activities of the AICNCC.&lt;/span&gt;
 &lt;/p&gt;\n&lt;p&gt;&lt;span style=&quot;font-family: verdana\, geneva\, sans-serif\;&quot;&gt;On Sep
 tember 28 at 1:00pm-2:00pm EDT the AICNCC is sponsoring a virtual workshop
  for local consultant network chairs. We&amp;rsquo\;ve asked Brian Berg of the
  Consultants&amp;rsquo\; Network of Silicon Valley (CNSV) to give a presentati
 on on the best practices for maintaining a healthy and vibrant local consu
 ltant network. Brian will be joined by Board members of the CNSV to have a
 n interactive discussion about things they&amp;rsquo\;ve done that have kept t
 heir local consultant network strong year after year.&lt;/span&gt;&lt;/p&gt;\n&lt;p&gt;&lt;span
  style=&quot;font-family: verdana\, geneva\, sans-serif\;&quot;&gt;After their presenta
 tion there will be a Q/A with the speakers and with members of the AICNCC.
  The speakers will address any questions you have regarding the presentati
 on. The AICNCC members will address any questions about the committee&#39;s ac
 tivities.&lt;/span&gt;&lt;/p&gt;\n&lt;p&gt;So\, we invite all Chairs and other officers\, as
  well as potential future Board members\, to attend this online event.&lt;/p&gt;
 \n&lt;p&gt;&amp;nbsp\;&lt;/p&gt;\n&lt;p&gt;&lt;em&gt;&lt;span style=&quot;font-family: &#39;andale mono&#39;\, monospa
 ce\;&quot;&gt;This meeting will be recorded to be used as an on Demand resource&lt;/s
 pan&gt;&lt;/em&gt;&lt;/p&gt;&lt;br /&gt;&lt;br /&gt;Agenda: &lt;br /&gt;&lt;p&gt;&lt;span style=&quot;color: #000000\; fo
 nt-family: verdana\, geneva\, sans-serif\;&quot;&gt;IEEE-USA&#39;s free webinars/event
 s are designed to help you find your next job\, maintain your career\, neg
 otiate an appropriate salary\, understand ethical considerations in the wo
 rkplace and learn about other career-building strategies and public policy
  developments that affect your profession.&lt;/span&gt;&lt;/p&gt;
END:VEVENT
END:VCALENDAR

