BEGIN:VCALENDAR
VERSION:2.0
PRODID:IEEE vTools.Events//EN
CALSCALE:GREGORIAN
BEGIN:VTIMEZONE
TZID:Asia/Kolkata
BEGIN:STANDARD
DTSTART:19451014T230000
TZOFFSETFROM:+0630
TZOFFSETTO:+0530
TZNAME:IST
END:STANDARD
END:VTIMEZONE
BEGIN:VEVENT
DTSTAMP:20220903T155733Z
UID:2E2A890C-459E-428A-97BF-26C08E6A9F59
DTSTART;TZID=Asia/Kolkata:20220831T193000
DTEND;TZID=Asia/Kolkata:20220831T203000
DESCRIPTION:Speakers:\n\n1. P. Yashwanth Kumar\n\nTopic: Tricks To Learn\n\
 n2. V. Harika\n\nTopic: Big Data\n\nObjective: The main objective of this 
 session is to make students understand the new emerging technologies.\n\nT
 arget Audience: All B.Tech undergraduate students of RVR &amp; JC College of E
 ngineering.\n\nOutcome: At the end of the sessions students will be able t
 o know about some tricks and &#39;how to learn&#39; and about Big Data Analytics.\
 n\nSpeaker(s): P. Yashwanth Kumar\, V. Harika\n\nVirtual: https://events.v
 tools.ieee.org/m/322834
LOCATION:Virtual: https://events.vtools.ieee.org/m/322834
ORGANIZER:ieeervr@gmail.com
SEQUENCE:2
SUMMARY:WEEKLY TALKS 4
URL;VALUE=URI:https://events.vtools.ieee.org/m/322834
X-ALT-DESC:Description: &lt;br /&gt;&lt;p&gt;&lt;strong&gt;&lt;span style=&quot;text-decoration: unde
 rline\;&quot;&gt;Speakers:&lt;/span&gt;&lt;/strong&gt;&lt;/p&gt;\n&lt;p&gt;1. &lt;strong&gt;P. Yashwanth Kumar&lt;/
 strong&gt;&lt;/p&gt;\n&lt;p&gt;Topic: Tricks To Learn&lt;/p&gt;\n&lt;p&gt;2. &lt;strong&gt;V. Harika&lt;/stron
 g&gt;&lt;/p&gt;\n&lt;p&gt;Topic: Big Data&lt;/p&gt;\n&lt;p&gt;&amp;nbsp\;&lt;/p&gt;\n&lt;p&gt;&lt;strong&gt;&lt;span style=&quot;te
 xt-decoration: underline\;&quot;&gt;Objective&lt;/span&gt;&lt;/strong&gt;: The main objective 
 of this session is to make students understand the new emerging technologi
 es.&lt;/p&gt;\n&lt;p&gt;&lt;span style=&quot;text-decoration: underline\;&quot;&gt;&lt;strong&gt;Target Audi
 ence&lt;/strong&gt;&lt;/span&gt;: All B.Tech undergraduate students of RVR &amp;amp\; JC C
 ollege of Engineering.&lt;/p&gt;\n&lt;p&gt;&lt;span style=&quot;text-decoration: underline\;&quot;&gt;
 &lt;strong&gt;Outcome:&lt;/strong&gt;&lt;/span&gt; At the end of the sessions students will 
 be able to know about some tricks and &#39;how to learn&#39; and about Big Data An
 alytics.&lt;/p&gt;
END:VEVENT
END:VCALENDAR

