BEGIN:VCALENDAR
VERSION:2.0
PRODID:IEEE vTools.Events//EN
CALSCALE:GREGORIAN
BEGIN:VTIMEZONE
TZID:America/New_York
BEGIN:DAYLIGHT
DTSTART:20220313T030000
TZOFFSETFROM:-0500
TZOFFSETTO:-0400
RRULE:FREQ=YEARLY;BYDAY=2SU;BYMONTH=3
TZNAME:EDT
END:DAYLIGHT
BEGIN:STANDARD
DTSTART:20221106T010000
TZOFFSETFROM:-0400
TZOFFSETTO:-0500
RRULE:FREQ=YEARLY;BYDAY=1SU;BYMONTH=11
TZNAME:EST
END:STANDARD
END:VTIMEZONE
BEGIN:VEVENT
DTSTAMP:20221206T212210Z
UID:A584BD54-272E-4566-AC2B-AA0D6725AEBA
DTSTART;TZID=America/New_York:20220927T174500
DTEND;TZID=America/New_York:20220927T200000
DESCRIPTION:Bimonthly Administrative Meeting\n\nFor this month meeting\, we
  will be at &quot;Varuni Napoli&quot; restaurant. Given the location and the expecte
 d background noise\, we will be in-person only with no webex option. Pleas
 e plan to participate as this will be a social opportunity to meet the sec
 tion officers and other chapter chairs in person.\n\nThe section will cove
 r the cost of food for the event (alcoholic drink are not covered but you 
 are welcome to buy your own).\n\nLocation information below:\n\n[Address](
 https://www.google.com/search?cs=0&amp;q=varuni+napoli+address&amp;ludocid=1706410
 6374682922984&amp;sa=X&amp;ved=2ahUKEwiXx5e88ZT6AhWqlIkEHZExD-sQ6BN6BAgZEAI): 1540
  Monroe Dr NE\, Atlanta\, GA 30324\n\nhttps://maps.app.goo.gl/xQ5tNn9omH2i
 XzFa9?g_st=ig\n\nNo call-in option will be available for this meeting\n\nA
 genda: \n5:45 p.m. - Dinner begins\n6:45 p.m. - Meeting begins\n\n1540 Mon
 roe Dr NE\, Atlanta\, Georgia\, United States\, 30324
LOCATION:1540 Monroe Dr NE\, Atlanta\, Georgia\, United States\, 30324
ORGANIZER:Atlanta-Secretary@ieee.org
SEQUENCE:6
SUMMARY:ExCom/AdCom Meeting
URL;VALUE=URI:https://events.vtools.ieee.org/m/322938
X-ALT-DESC:Description: &lt;br /&gt;&lt;p&gt;&lt;span style=&quot;font-size: 18pt\;&quot;&gt;&lt;strong&gt;Bi
 monthly Administrative Meeting&lt;/strong&gt;&lt;/span&gt;&lt;/p&gt;\n&lt;p&gt;&amp;nbsp\;&lt;/p&gt;\n&lt;p&gt;&lt;sp
 an style=&quot;font-size: 14pt\;&quot;&gt;&lt;strong&gt;For this month meeting\, we will be a
 t &lt;/strong&gt;&lt;/span&gt;&lt;span style=&quot;font-size: 14pt\;&quot;&gt;&lt;strong&gt;&quot;Varuni Napoli&quot; 
 restaurant. Given the location and the expected background noise\, we will
  be in-person only with no webex option. Please plan to participate as thi
 s will be a social opportunity to meet the section officers and other chap
 ter chairs in person.&lt;/strong&gt;&lt;/span&gt;&lt;/p&gt;\n&lt;p&gt;&lt;span style=&quot;font-size: 14pt
 \;&quot;&gt;&lt;strong&gt;The section will cover the cost of food for the event (alcohol
 ic drink are not covered but you are welcome to buy your own).&lt;/strong&gt;&lt;/s
 pan&gt;&lt;/p&gt;\n&lt;p&gt;&amp;nbsp\;&lt;/p&gt;\n&lt;p&gt;&lt;span style=&quot;font-size: 14pt\;&quot;&gt;&lt;strong&gt;Locat
 ion information below:&lt;/strong&gt;&lt;/span&gt;&lt;/p&gt;\n&lt;p&gt;&lt;span style=&quot;font-size: 14p
 t\;&quot;&gt;&lt;strong&gt;&lt;span class=&quot;w8qArf&quot;&gt;&lt;a class=&quot;fl&quot; href=&quot;https://www.google.c
 om/search?cs=0&amp;amp\;q=varuni+napoli+address&amp;amp\;ludocid=17064106374682922
 984&amp;amp\;sa=X&amp;amp\;ved=2ahUKEwiXx5e88ZT6AhWqlIkEHZExD-sQ6BN6BAgZEAI&quot; data-
 ved=&quot;2ahUKEwiXx5e88ZT6AhWqlIkEHZExD-sQ6BN6BAgZEAI&quot;&gt;Address&lt;/a&gt;:&amp;nbsp\;&lt;/sp
 an&gt;&lt;span class=&quot;LrzXr&quot;&gt;1540 Monroe Dr NE\, Atlanta\, GA 30324&lt;/span&gt;&lt;/stro
 ng&gt;&lt;/span&gt;&lt;/p&gt;\n&lt;p&gt;https://maps.app.goo.gl/xQ5tNn9omH2iXzFa9?g_st=ig&lt;/p&gt;\n
 &lt;p&gt;&lt;strong&gt;No call-in option will be available for this meeting&lt;/strong&gt;&lt;/
 p&gt;&lt;br /&gt;&lt;br /&gt;Agenda: &lt;br /&gt;&lt;p&gt;5:45 p.m. - Dinner begins&lt;br /&gt;6:45 p.m. - 
 Meeting begins&lt;/p&gt;
END:VEVENT
END:VCALENDAR

