BEGIN:VCALENDAR
VERSION:2.0
PRODID:IEEE vTools.Events//EN
CALSCALE:GREGORIAN
BEGIN:VTIMEZONE
TZID:America/New_York
BEGIN:DAYLIGHT
DTSTART:20220313T030000
TZOFFSETFROM:-0500
TZOFFSETTO:-0400
RRULE:FREQ=YEARLY;BYDAY=2SU;BYMONTH=3
TZNAME:EDT
END:DAYLIGHT
BEGIN:STANDARD
DTSTART:20221106T010000
TZOFFSETFROM:-0400
TZOFFSETTO:-0500
RRULE:FREQ=YEARLY;BYDAY=1SU;BYMONTH=11
TZNAME:EST
END:STANDARD
END:VTIMEZONE
BEGIN:VEVENT
DTSTAMP:20220909T130919Z
UID:1751A47F-D0C4-439B-AAC0-74A519007552
DTSTART;TZID=America/New_York:20220908T180000
DTEND;TZID=America/New_York:20220908T203000
DESCRIPTION:IN Person ExCom\n\nOrder Dinner at 6PM\, meeting starts at 7PM\
 n\nAgenda: \nNH Section ExCom Meeting Agenda\n6PM THURSDAY Sept 8th\nat th
 e Airport Diner in Manchester\n6PM order dinner\n7PM business meeting star
 ts\n\n1. Attendance\nQuorum check -- David Casper\n2. approval of agenda i
 ncluding consent agenda [Note\, Approval for May though July minutes is ap
 propriate]\nConsent to approval of outstanding minutes (in the appropriate
  month&#39;s ExCom directory area)\nhttps://drive.google.com/drive/folders/1sj
 LlQgHW90kJVcMzGF3exp7g0upQ-DSv?usp=sharing\n\nConsent to approval of outst
 anding treasurer reports\nhttps://docs.google.com/spreadsheets/d/1AwJV9Ifb
 N1e_q6XJ91gQywHaP416bnXH/edit?usp=sharing&amp;ouid=114974291909984370342&amp;rtpof
 =true&amp;sd=true\n\n3. Chairs Comments\n4. Action Item Report\n5. Chapter/Aff
 iliate Group Activity &amp; coordination\n(ideally about 60 days in advance)\n
 Sept 20th MTT Distributed Antenna presentation at SNHU\n(This tech is now 
 a factor for WiFi\, Cell phones\, etc...\n6. Standing Committee Activities
 :\nEducation/pre-college\; --- Brian Betts Wicked STEM event\nSept 24th in
  Milford --- we need folks to signup to be there for a few hours\ncoordina
 ting with BAE/NH First to cover all three FIRST competition areas\n\nStude
 nt/College chapters\n7 Old Business\nAction R1 offer to support fall YP/st
 udent engagement activity --Barbara\n8 New Business\n\n9 Next Meeting -- O
 ct 13 or 18th (2nd Thursday/3rd Tuesday) (virtual/In Person)\nPreferences?
 ?\n10. For the good of the order --\nWhat key messages for our Members\n11
  Adjourn to forum\n12 Forum topics (upcoming events\, etc)\n\nBldg: Airpor
 t Diner\, 2280 Brown Ave\, Manchester\, New Hampshire\, United States\, 03
 103-6828
LOCATION:Bldg: Airport Diner\, 2280 Brown Ave\, Manchester\, New Hampshire\
 , United States\, 03103-6828
ORGANIZER:Jim &lt;excom@jimisaak.com&gt;
SEQUENCE:3
SUMMARY:NH ExCom Meeting
URL;VALUE=URI:https://events.vtools.ieee.org/m/323009
X-ALT-DESC:Description: &lt;br /&gt;&lt;p&gt;IN Person ExCom&lt;/p&gt;\n&lt;p&gt;Order Dinner at 6P
 M\, meeting starts at 7PM&lt;/p&gt;\n&lt;p&gt;&lt;span style=&quot;text-decoration: underline\
 ; color: #ba372a\; font-size: 18pt\;&quot;&gt;&lt;strong&gt;&amp;nbsp\;&lt;/strong&gt;&lt;/span&gt;&lt;/p&gt;&lt;
 br /&gt;&lt;br /&gt;Agenda: &lt;br /&gt;&lt;div class=&quot;gmail_default&quot; style=&quot;font-size: larg
 e\;&quot;&gt;NH Section ExCom Meeting Agenda&lt;br /&gt;6PM THURSDAY Sept 8th&lt;/div&gt;\n&lt;di
 v class=&quot;gmail_default&quot; style=&quot;font-size: large\;&quot;&gt;at the Airport Diner in
  Manchester&lt;/div&gt;\n&lt;div class=&quot;gmail_default&quot; style=&quot;font-size: large\;&quot;&gt;&amp;
 nbsp\; 6PM order dinner&lt;/div&gt;\n&lt;div class=&quot;gmail_default&quot; style=&quot;font-size
 : large\;&quot;&gt;&amp;nbsp\; 7PM business meeting starts&lt;/div&gt;\n&lt;div class=&quot;gmail_de
 fault&quot; style=&quot;font-size: large\;&quot;&gt;&lt;br /&gt;1. Attendance &lt;br /&gt;&amp;nbsp\; &amp;nbsp\
 ;Quorum check -- David Casper&lt;br /&gt;2. approval of agenda including consent
  agenda [Note\, Approval for May though July minutes is appropriate]&lt;br /&gt;
 Consent to approval of outstanding minutes (in the appropriate month&#39;s ExC
 om directory area)&lt;br /&gt;&lt;a href=&quot;https://drive.google.com/drive/folders/1s
 jLlQgHW90kJVcMzGF3exp7g0upQ-DSv?usp=sharing&quot;&gt;https://drive.google.com/driv
 e/folders/1sjLlQgHW90kJVcMzGF3exp7g0upQ-DSv?usp=sharing&lt;/a&gt;&lt;br /&gt;&amp;nbsp\;&lt;/
 div&gt;\n&lt;div class=&quot;gmail_default&quot; style=&quot;font-size: large\;&quot;&gt;Consent to app
 roval of outstanding treasurer reports &lt;br /&gt;&lt;a href=&quot;https://docs.google.
 com/spreadsheets/d/1AwJV9IfbN1e_q6XJ91gQywHaP416bnXH/edit?usp=sharing&amp;amp\
 ;ouid=114974291909984370342&amp;amp\;rtpof=true&amp;amp\;sd=true&quot;&gt;https://docs.goo
 gle.com/spreadsheets/d/1AwJV9IfbN1e_q6XJ91gQywHaP416bnXH/edit?usp=sharing&amp;
 amp\;ouid=114974291909984370342&amp;amp\;rtpof=true&amp;amp\;sd=true&lt;/a&gt;&lt;br /&gt;&lt;br 
 /&gt;3. Chairs Comments&lt;br /&gt;4. Action Item Report&lt;br /&gt;5. Chapter/Affiliate 
 Group Activity &amp;amp\; coordination&lt;br /&gt;&amp;nbsp\; &amp;nbsp\;(ideally about 60 d
 ays in advance)&lt;br /&gt;&amp;nbsp\; &amp;nbsp\; &amp;nbsp\;Sept 20th MTT Distributed Ante
 nna presentation at SNHU&lt;br /&gt;&amp;nbsp\; &amp;nbsp\; &amp;nbsp\;(This tech is now a f
 actor for WiFi\, Cell phones\, etc... &lt;br /&gt;6. Standing Committee Activiti
 es: &lt;br /&gt;&amp;nbsp\; &amp;nbsp\; &amp;nbsp\;Education/pre-college\; --- Brian Betts W
 icked STEM event&lt;br /&gt;&amp;nbsp\; &amp;nbsp\; &amp;nbsp\; &amp;nbsp\; Sept 24th in Milford
  --- we need folks to signup to be there for a few hours&lt;br /&gt;&amp;nbsp\; &amp;nbs
 p\; &amp;nbsp\; &amp;nbsp\; coordinating with BAE/NH First to cover all three FIRS
 T competition areas&lt;br /&gt;&amp;nbsp\; &amp;nbsp\; &amp;nbsp\; &amp;nbsp\; &lt;br /&gt;&amp;nbsp\; &amp;nb
 sp\; &amp;nbsp\;Student/College chapters&lt;br /&gt;7 Old Business&lt;br /&gt;&amp;nbsp\; &amp;nbs
 p\; &amp;nbsp\;Action R1 offer to support fall YP/student engagement activity 
 --Barbara&lt;br /&gt;8 New Business&lt;br /&gt;&lt;br /&gt;9 Next Meeting &amp;nbsp\;-- Oct 13 o
 r 18th (2nd Thursday/3rd Tuesday) (virtual/In Person)&lt;br /&gt;Preferences??&lt;b
 r /&gt;10. For the good of the order --&lt;br /&gt;What key messages for our Member
 s&lt;br /&gt;11 Adjourn to forum&lt;br /&gt;12 Forum topics (upcoming events\, etc)&lt;/d
 iv&gt;
END:VEVENT
END:VCALENDAR

