BEGIN:VCALENDAR
VERSION:2.0
PRODID:IEEE vTools.Events//EN
CALSCALE:GREGORIAN
BEGIN:VTIMEZONE
TZID:US/Central
BEGIN:DAYLIGHT
DTSTART:20220313T030000
TZOFFSETFROM:-0600
TZOFFSETTO:-0500
RRULE:FREQ=YEARLY;BYDAY=2SU;BYMONTH=3
TZNAME:CDT
END:DAYLIGHT
BEGIN:STANDARD
DTSTART:20221106T010000
TZOFFSETFROM:-0500
TZOFFSETTO:-0600
RRULE:FREQ=YEARLY;BYDAY=1SU;BYMONTH=11
TZNAME:CST
END:STANDARD
END:VTIMEZONE
BEGIN:VEVENT
DTSTAMP:20221013T111912Z
UID:E858FB90-CF37-4F68-8C27-95125CC43757
DTSTART;TZID=US/Central:20220921T140000
DTEND;TZID=US/Central:20220921T160000
DESCRIPTION:The IEEE Tulsa Life Member Afinity Group (LMAG) invites the Lif
 e Members and guests to a meeting at the Tulsa Historical Society. We will
  gather at 2 pm Wednesday September at the Tulsa historical Society\, a st
 ately mansion at 2445 S Peoria Ave.\, just south of 21st\, Woodward Park\,
  and the Tulsa Garden Center. We will start with a guided walk-through of 
 the exhibits before a sit-down meeting with a curator to discuss how we mi
 ght interact with the THS to preserve the electrical engineering history o
 f our community. They close at 4 pm.\n\nLMAG reimbursement will cover entr
 y fees so don’t pay an entry fees – tell the greeter you are with the 
 IEEE LMAG group. Bring your THS membership card if a member.\n\nThe Tulsa 
 Historical Society is at 2445 S Peoria Ave\, the southern-most of a pair o
 f mansions immediately south of 21st Street\, Woodward Park\, and the Tuls
 a Garden Center on the east side of Peoria Ave. Parking is at the back and
  is accessible from Woodward Park Drive (preferred) or from Peoria Ave (co
 blestone paving). If arriving via Woodward Park you need to make a right t
 urn after passing the gardens onto a one lane entrance into the Garden Cen
 ter mansion’s parking lot to get to the THS parking lot.\n\nYou also are
  welcome to join the ExCom at their lunch meeting at another location prec
 eeding this meeting as described in a separte meeting notice.\n\nRegistrat
 ion is not required but we ask that you either register via the vTools lin
 k provided or email or phone (voice or text) to the LMAG Secretary at r.st
 rattan@ieee.org or 918 724-2435 so we will have a fix on expected attendan
 ce.\n\nThe current Tulsa LMAG officers are Chair Gerry Kane gearld.kane@sw
 bell.net\, Vice Chair Edwin &quot;Bud&quot; Averill elaverill3@yahoo.com and Secreta
 ry/Treasurer Robert &quot;Bob&quot; Strattan r.strattan@ieee.org 918 724-2435.\n\nAg
 enda: \n2:00 to 2:15 pm: gather in the entry lobby of the Tulsa Historical
  Society\n\n2:15 to 3:00 pm: Guided tour of the Historical Society exhibit
 s\n\n3 to 4 pm: Sit-down discussion with curator about how we can interact
  with the Historical Society to preserve electrical engineering history of
  our area.\n\n4:00 pm Adjourn\, the Tulsa Historical Society closes.\n\nBl
 dg: Tulsa Historical Society\, 2445 S Peoria Ave\, Tulsa\, Oklahoma\, Unit
 ed States\, 74114
LOCATION:Bldg: Tulsa Historical Society\, 2445 S Peoria Ave\, Tulsa\, Oklah
 oma\, United States\, 74114
ORGANIZER:r.strattan@ieee.org
SEQUENCE:5
SUMMARY:LMAG IEEE meeting at the Tulsa Historical Society September 21 2022
URL;VALUE=URI:https://events.vtools.ieee.org/m/323610
X-ALT-DESC:Description: &lt;br /&gt;&lt;p&gt;The IEEE Tulsa Life Member Afinity Group (
 LMAG) invites the Life Members and guests to a meeting at the Tulsa Histor
 ical Society.&amp;nbsp\; We will&amp;nbsp\; gather at 2 pm Wednesday September at 
 the Tulsa historical Society\, a stately mansion at 2445 S Peoria Ave.\, j
 ust south of 21st\, Woodward Park\, and the Tulsa Garden Center. We will s
 tart with a guided walk-through of the exhibits before a sit-down meeting 
 with a curator to discuss how we might interact with the THS to preserve t
 he electrical engineering history of our community. They close at 4 pm.&lt;/p
 &gt;\n&lt;p&gt;LMAG reimbursement will cover entry fees &amp;nbsp\;so don&amp;rsquo\;t pay 
 an entry fees &amp;ndash\; tell the greeter you are with the IEEE LMAG group. 
 Bring your THS membership card if a member.&lt;/p&gt;\n&lt;p&gt;The Tulsa Historical S
 ociety is at 2445 S Peoria Ave\, the southern-most of a pair of mansions i
 mmediately south of 21st Street\, Woodward Park\, and the Tulsa Garden Cen
 ter on the east side of Peoria Ave. Parking is at the back and is accessib
 le from Woodward Park Drive (preferred) or from Peoria Ave (coblestone pav
 ing). If arriving via Woodward Park you need to make a right turn after pa
 ssing the gardens onto a one lane entrance into the Garden Center mansion&amp;
 rsquo\;s parking lot to get to the THS parking lot.&lt;/p&gt;\n&lt;p&gt;You also are w
 elcome to join the ExCom at their lunch meeting at another location precee
 ding this meeting as described in a separte meeting notice. &amp;nbsp\;&lt;/p&gt;\n&lt;
 p&gt;Registration is not required but we ask that you either register via the
  vTools link provided or email or phone (voice or text) to the LMAG Secret
 ary at r.strattan@ieee.org or 918 724-2435 so we will have a fix on expect
 ed attendance.&lt;/p&gt;\n&lt;p&gt;The current Tulsa LMAG officers are Chair Gerry Kan
 e gearld.kane@swbell.net\, Vice Chair Edwin &quot;Bud&quot; Averill elaverill3@yahoo
 .com and Secretary/Treasurer Robert &quot;Bob&quot; Strattan r.strattan@ieee.org 918
  724-2435.&lt;/p&gt;&lt;br /&gt;&lt;br /&gt;Agenda: &lt;br /&gt;&lt;p&gt;2:00 to 2:15 pm: gather in the 
 entry lobby of the Tulsa Historical Society&lt;/p&gt;\n&lt;p&gt;2:15 to 3:00 pm: Guide
 d tour of the Historical Society exhibits&lt;/p&gt;\n&lt;p&gt;3 to 4 pm: Sit-down disc
 ussion with curator about how we can interact with the Historical Society 
 to preserve electrical engineering history of our area.&lt;/p&gt;\n&lt;p&gt;4:00 pm Ad
 journ\, the Tulsa Historical Society closes.&lt;/p&gt;
END:VEVENT
END:VCALENDAR

