BEGIN:VCALENDAR
VERSION:2.0
PRODID:IEEE vTools.Events//EN
CALSCALE:GREGORIAN
BEGIN:VTIMEZONE
TZID:America/Chicago
BEGIN:DAYLIGHT
DTSTART:20220313T030000
TZOFFSETFROM:-0600
TZOFFSETTO:-0500
RRULE:FREQ=YEARLY;BYDAY=2SU;BYMONTH=3
TZNAME:CDT
END:DAYLIGHT
BEGIN:STANDARD
DTSTART:20221106T010000
TZOFFSETFROM:-0500
TZOFFSETTO:-0600
RRULE:FREQ=YEARLY;BYDAY=1SU;BYMONTH=11
TZNAME:CST
END:STANDARD
END:VTIMEZONE
BEGIN:VEVENT
DTSTAMP:20220920T201101Z
UID:F03A7BAE-B2DA-4403-9042-E9249272AE4F
DTSTART;TZID=America/Chicago:20220920T113000
DTEND;TZID=America/Chicago:20220920T130000
DESCRIPTION:Fort Worth IEEE PES members\, we will have our next IEEE PES me
 eting on September 20th from 11:30am to 1:00pm CST. This month&#39;s meeting w
 ill be held virtually. We have Dr. Lance Kinney\, executive director from 
 the Texas Board of Professional Engineers and Land Surveyors\, speaking wi
 th us about updates on engineering and surveying ethics and Code of Conduc
 t\, Board Activities\, rule and statutory changes\, and general updates on
  Board initiatives. Please attend if you can!\n\nSpeaker(s): Lance S. Kinn
 ey\, Ph.D.\, P.E.\, \n\nVirtual: https://events.vtools.ieee.org/m/323612
LOCATION:Virtual: https://events.vtools.ieee.org/m/323612
ORGANIZER:ieeepesfortworth@gmail.com
SEQUENCE:1
SUMMARY:IEEE PES Fort Worth Monthly Meeting - September 20\, 2022
URL;VALUE=URI:https://events.vtools.ieee.org/m/323612
X-ALT-DESC:Description: &lt;br /&gt;&lt;p style=&quot;background: white\; margin: 0in 0in
  7.5pt 0in\;&quot;&gt;&lt;span style=&quot;font-size: 10.5pt\; font-family: &#39;Verdana&#39;\,san
 s-serif\; color: #616161\;&quot;&gt;Fort Worth IEEE PES members\, we will have our
  next IEEE PES meeting on September 20th from 11:30am to 1:00pm CST. This 
 month&#39;s meeting will be held virtually. We have Dr. Lance Kinney\, executi
 ve director from the Texas Board of Professional Engineers and Land Survey
 ors\, speaking with us about updates on engineering and surveying ethics a
 nd Code of Conduct\, Board Activities\, rule and statutory changes\, and g
 eneral updates on Board initiatives. Please attend if you can!&amp;nbsp\;&lt;/spa
 n&gt;&lt;/p&gt;
END:VEVENT
END:VCALENDAR

